PDS_VERSION_ID = PDS3
/* FILE DATA ELEMENTS */
RECORD_TYPE = STREAM
/* POINTERS TO DATA OBJECTS */
^COMPRESSED_FILE = "H2380_0000_P23.JP2"
/* IDENTIFICATION DATA ELEMENTS */
DATA_SET_ID = "MEX-M-HRSC-5-REFDR-MAPPROJECTED-V3.0"
DATA_SET_NAME = "MARS EXPRESS HRSC MAP PROJECTED REFDR V3.0"
DETECTOR_ID = MEX_HRSC_P2
EVENT_TYPE = "MARS-REGIONAL-MAPPING-Vo-Te-Im"
INSTRUMENT_HOST_ID = MEX
INSTRUMENT_HOST_NAME = "MARS EXPRESS"
INSTRUMENT_ID = HRSC
INSTRUMENT_NAME = "HIGH RESOLUTION STEREO CAMERA"
MISSION_NAME = "MARS EXPRESS"
MISSION_PHASE_NAME = MR_Phase_8
PROCESSING_LEVEL_ID = 3
PRODUCT_CREATION_TIME = 2016-03-15T10:38:17.000Z
PRODUCT_ID = "H2380_0000_P23.JP2"
RELEASE_ID = 0029
REVISION_ID = 0000
/* QUALITY DATA ELEMENTS */
DATA_QUALITY_ID = 1
DATA_QUALITY_DESC = "Data calculated based on original SPICE kernels"
/* TIME DATA ELEMENTS */
SPACECRAFT_CLOCK_START_COUNT = "1/0080536716.57928"
SPACECRAFT_CLOCK_STOP_COUNT = "1/0080537015.39281"
START_TIME = 2005-11-20T03:19:24.049Z
STOP_TIME = 2005-11-20T03:23:30.174Z
/* ORBITAL DATA ELEMENTS */
ASCENDING_NODE_LONGITUDE = 178.3
MAXIMUM_RESOLUTION = 45.2
FOOTPRINT_POINT_LATITUDE = (-61.5444,-61.5754,-61.5975,-61.5051, -61.1936,-60.8751,-60.5611,-60.2477, -59.9335,-59.4628,-59.1488,-58.8347, -58.5208,-58.0502,-57.7365,-57.4232, -56.9531,-56.6396,-56.3245,-55.856, -55.5437,-55.2326,-54.7658,-54.4561, -53.9778,-53.4941,-53.0114,-52.689, -52.3684,-51.8878,-51.4074,-51.0882, -50.5946,-50.2636,-49.9332,-49.6026, -49.2731,-48.9436,-48.6155,-48.2755, -47.9357,-47.5965,-47.2577,-46.9194, -46.5774,-46.4022,-46.2272,-46.0528, -45.7059,-45.5283,-45.5195,-45.5129, -45.5015,-45.8483,-46.0221,-46.1962, -46.3703,-46.5446,-46.8859,-47.222, -47.5596,-47.8975,-48.2369,-48.5758, -48.9032,-49.2315,-49.5605,-49.8897, -50.2192,-50.5496,-51.0415,-51.3607, -51.6804,-52.0006,-52.3207,-52.6413, -52.9621,-53.2835,-53.6048,-53.9268, -54.4022,-54.7111,-55.0224,-55.3319, -55.643,-55.9548,-56.2667,-56.7351, -57.2028,-57.5145,-57.827,-58.2958, -58.6082,-58.9208,-59.233,-59.8583, -60.327,-60.7966,-61.1097,-61.5444)
FOOTPRINT_POINT_LONGITUDE = (262.722,263.449,264.023,264.484, 264.544,264.603,264.66,264.716,264.771, 264.851,264.903,264.953,265.003,265.075 ,265.122,265.167,265.234,265.277, 265.319,265.381,265.421,265.461,265.518 ,265.555,265.611,265.666,265.719, 265.754,265.787,265.837,265.885,265.916 ,265.963,265.994,266.024,266.053, 266.082,266.111,266.139,266.167,266.194 ,266.222,266.248,266.274,266.3,266.313, 266.326,266.339,266.364,266.141,265.619 ,265.289,264.768,264.745,264.732,264.72 ,264.707,264.694,264.667,264.643, 264.616,264.589,264.559,264.53,264.501, 264.471,264.439,264.407,264.373,264.338 ,264.285,264.249,264.212,264.173, 264.134,264.094,264.052,264.01,263.966, 263.921,263.854,263.81,263.761,263.714, 263.664,263.611,263.558,263.474,263.389 ,263.332,263.271,263.178,263.114, 263.049,262.983,262.844,262.736,262.622 ,262.543,262.722)
ORBIT_NUMBER = 2380
ORBITAL_ECCENTRICITY = 0.572
ORBITAL_INCLINATION = 86.62
ORBITAL_SEMIMAJOR_AXIS = 8550.72
PERIAPSIS_ALTITUDE = 276.99
PERIAPSIS_ARGUMENT_ANGLE = 299.84
PERIAPSIS_TIME = 2005-11-20T03:19:33.000Z
SPACECRAFT_ORIENTATION = (0.0,-1.0,0.0)
^MEX_ORIENTATION_DESC = "MEX_ORIENTATION_DESC.TXT"
SPACECRAFT_POINTING_MODE = ACROSSTRACK
^MEX_POINTING_DESC = "MEX_POINTING_DESC.TXT"
RIGHT_ASCENSION = -1e+32
DECLINATION = -1e+32
OFFSET_ANGLE = 0.38
SPACECRAFT_SOLAR_DISTANCE = 2.20943e+08
TARGET_NAME = MARS
/* CAMERA DATA ELEMENTS */
DETECTOR_TEMPERATURE = 18.5744
FOCAL_PLANE_TEMPERATURE = 8.1755
INST_CMPRS_NAME = "DISCRETE COSINE TRANSFORMATION (DCT)"
INST_CMPRS_RATIO = 11.476
INST_CMPRS_QUALITY = 0
INST_CMPRS_QUANTZ_TBL_ID = 0
INSTRUMENT_TEMPERATURE = 12.0496
LENS_TEMPERATURE = 8.9911
MACROPIXEL_SIZE = 4
MISSING_FRAMES = 0
PIXEL_SUBSAMPLING_FLAG = N
SIGNAL_CHAIN_ID = 3
/* RADIOMETRIC DATA ELEMENTS */
BANDWIDTH = 177.0
CENTER_FILTER_WAVELENGTH = 676.5
RADIANCE_OFFSET = 4.31817
RADIANCE_SCALING_FACTOR = 0.0120231
REFLECTANCE_SCALING_FACTOR = 0.000311197
MEX:REFLECTANCE_OFFSET = 0.111768
/* IMAGE OBJECT DEFINITIONS */
OBJECT = IMAGE
  INTERCHANGE_FORMAT = BINARY
  LINES = 18266
  LINE_SAMPLES = 2502
  SAMPLE_TYPE = UNSIGNED_INTEGER
  SAMPLE_BITS = 8
  BANDS = 1
  BAND_STORAGE_TYPE = BAND_SEQUENTIAL
  MAXIMUM = 180
  MEAN = 141.001
  MINIMUM = 95
  STANDARD_DEVIATION = 9.45763
END_OBJECT = IMAGE
/* MAP OBJECT DEFINITIONS */
OBJECT = IMAGE_MAP_PROJECTION
  ^DATA_SET_MAP_PROJECTION_CATALOG= "DSMAP.CAT"
  A_AXIS_RADIUS = 3396.0
  B_AXIS_RADIUS = 3396.0
  C_AXIS_RADIUS = 3396.0
  CENTER_LATITUDE = 0.0
  CENTER_LONGITUDE = 265.0
  COORDINATE_SYSTEM_NAME = PLANETOGRAPHIC
  COORDINATE_SYSTEM_TYPE = "BODY-FIXED ROTATING"
  EASTERNMOST_LONGITUDE = 266.364
  FIRST_STANDARD_PARALLEL = "N/A"
  LINE_FIRST_PIXEL = 1
  LINE_LAST_PIXEL = 18266
  LINE_PROJECTION_OFFSET = -53931.875
  MAP_PROJECTION_ROTATION = 0.0
  MAP_PROJECTION_TYPE = SINUSOIDAL
  MAP_RESOLUTION = 1185.42760773333
  MAP_SCALE = 0.05
  MAXIMUM_LATITUDE = -45.5015
  MINIMUM_LATITUDE = -61.5975
  POSITIVE_LONGITUDE_DIRECTION = EAST
  REFERENCE_LATITUDE = "N/A"
  REFERENCE_LONGITUDE = "N/A"
  SAMPLE_FIRST_PIXEL = 1
  SAMPLE_LAST_PIXEL = 2502
  SAMPLE_PROJECTION_OFFSET = 1378.875
  SECOND_STANDARD_PARALLEL = "N/A"
  WESTERNMOST_LONGITUDE = 262.543
END_OBJECT = IMAGE_MAP_PROJECTION
/* The JPEG2000 image data file associated with this label. */
OBJECT = COMPRESSED_FILE
  FILE_NAME = "H2380_0000_P23.JP2"
  RECORD_TYPE = UNDEFINED
  FILE_RECORDS = UNK
  ENCODING_TYPE = "JP2"
  INTERCHANGE_FORMAT = BINARY
  UNCOMPRESSED_FILE_NAME = "H2380_0000_P23.IMG"
  REQUIRED_STORAGE_BYTES = "45721548"
  ^DESCRIPTION = "JP2INFO.TXT"
END_OBJECT = COMPRESSED_FILE
END
