PDS_VERSION_ID = PDS3
/* FILE DATA ELEMENTS */
RECORD_TYPE = STREAM
/* POINTERS TO DATA OBJECTS */
^COMPRESSED_FILE = "H2382_0000_P23.JP2"
/* IDENTIFICATION DATA ELEMENTS */
DATA_SET_ID = "MEX-M-HRSC-5-REFDR-MAPPROJECTED-V3.0"
DATA_SET_NAME = "MARS EXPRESS HRSC MAP PROJECTED REFDR V3.0"
DETECTOR_ID = MEX_HRSC_P2
EVENT_TYPE = "MARS-REGIONAL-MAPPING-Vo-Gl-Pf"
INSTRUMENT_HOST_ID = MEX
INSTRUMENT_HOST_NAME = "MARS EXPRESS"
INSTRUMENT_ID = HRSC
INSTRUMENT_NAME = "HIGH RESOLUTION STEREO CAMERA"
MISSION_NAME = "MARS EXPRESS"
MISSION_PHASE_NAME = MR_Phase_8
PROCESSING_LEVEL_ID = 3
PRODUCT_CREATION_TIME = 2016-03-15T10:38:17.000Z
PRODUCT_ID = "H2382_0000_P23.JP2"
RELEASE_ID = 0029
REVISION_ID = 0000
/* QUALITY DATA ELEMENTS */
DATA_QUALITY_ID = 1
DATA_QUALITY_DESC = "Data calculated based on original SPICE kernels"
/* TIME DATA ELEMENTS */
SPACECRAFT_CLOCK_START_COUNT = "1/0080584857.57265"
SPACECRAFT_CLOCK_STOP_COUNT = "1/0080585240.31329"
START_TIME = 2005-11-20T16:41:55.309Z
STOP_TIME = 2005-11-20T16:47:28.645Z
/* ORBITAL DATA ELEMENTS */
ASCENDING_NODE_LONGITUDE = 178.25
MAXIMUM_RESOLUTION = 45.3
FOOTPRINT_POINT_LATITUDE = (-76.1444,-76.2189,-76.2873,-76.1442, -75.8963,-75.6531,-75.4067,-75.1601, -74.6706,-73.9515,-73.4722,-72.756, -72.0614,-71.5993,-71.1352,-70.4389, -69.9927,-69.5458,-69.0976,-68.4252, -67.9761,-67.5274,-67.0841,-66.6524, -66.2212,-65.7903,-65.3586,-64.7115, -64.2801,-63.6163,-63.1855,-62.7547, -62.3241,-61.6779,-61.2481,-60.8176, -60.3888,-59.7459,-59.318,-58.8904, -58.4624,-58.1812,-57.7555,-57.3295, -56.9044,-56.4796,-56.0554,-55.6323, -55.2094,-54.7867,-54.3648,-54.1406, -54.1206,-54.0871,-54.7179,-55.1389, -55.5592,-55.9812,-56.4033,-56.827, -57.2507,-57.8861,-58.3827,-58.805, -59.2315,-59.6585,-60.299,-60.7267, -61.155,-61.7974,-62.4402,-63.0833, -63.7431,-64.1719,-64.8151,-65.2441, -65.8878,-66.3151,-66.7434,-67.3976, -67.8426,-68.2874,-68.7317,-69.3964, -69.8396,-70.2866,-70.9704,-71.4289, -72.1148,-72.5711,-73.2751,-73.9826, -74.4519,-74.9296,-75.1697,-75.4129, -75.6547,-75.8956,-76.1361,-76.1444)
FOOTPRINT_POINT_LONGITUDE = (60.7547,62.0581,63.3805,64.4279, 64.5965,64.7667,64.9265,65.0808,65.3675 ,65.7564,65.9975,66.3321,66.6306, 66.8187,66.9947,67.2417,67.3932,67.5372 ,67.6731,67.8661,67.9868,68.1031,68.213 ,68.3156,68.4148,68.5106,68.6016, 68.7323,68.8153,68.9376,69.0135,69.0865 ,69.1571,69.2578,69.3227,69.3846, 69.4458,69.5338,69.5904,69.6452,69.6975 ,69.7321,69.7834,69.8325,69.8805,69.927 ,69.9722,70.0168,70.0598,70.1013, 70.1418,69.8216,69.2729,68.4332,68.3604 ,68.3096,68.2575,68.2026,68.1458,68.086 ,68.0241,67.9274,67.8454,67.7762, 67.7015,67.6236,67.5015,67.4158,67.3264 ,67.1858,67.0366,66.8782,66.7059, 66.5878,66.4015,66.2705,66.063,65.919, 65.7675,65.5227,65.3465,65.162,64.9688, 64.6627,64.4452,64.2108,63.8375,63.5669 ,63.1338,62.8244,62.3106,61.7411, 61.3324,60.8885,60.6553,60.4058,60.15, 59.8859,59.6123,60.7547)
ORBIT_NUMBER = 2382
ORBITAL_ECCENTRICITY = 0.572
ORBITAL_INCLINATION = 86.64
ORBITAL_SEMIMAJOR_AXIS = 8551.75
PERIAPSIS_ALTITUDE = 276.8
PERIAPSIS_ARGUMENT_ANGLE = 299.5
PERIAPSIS_TIME = 2005-11-20T16:45:38.000Z
SPACECRAFT_ORIENTATION = (0.0,-1.0,0.0)
^MEX_ORIENTATION_DESC = "MEX_ORIENTATION_DESC.TXT"
SPACECRAFT_POINTING_MODE = ACROSSTRACK
^MEX_POINTING_DESC = "MEX_POINTING_DESC.TXT"
RIGHT_ASCENSION = -1e+32
DECLINATION = -1e+32
OFFSET_ANGLE = -0.18
SPACECRAFT_SOLAR_DISTANCE = 2.2105e+08
TARGET_NAME = MARS
/* CAMERA DATA ELEMENTS */
DETECTOR_TEMPERATURE = 18.7783
FOCAL_PLANE_TEMPERATURE = 8.9911
INST_CMPRS_NAME = "DISCRETE COSINE TRANSFORMATION (DCT)"
INST_CMPRS_RATIO = 10.8212
INST_CMPRS_QUALITY = 0
INST_CMPRS_QUANTZ_TBL_ID = 0
INSTRUMENT_TEMPERATURE = 11.0301
LENS_TEMPERATURE = 9.3989
MACROPIXEL_SIZE = 4
MISSING_FRAMES = 15
PIXEL_SUBSAMPLING_FLAG = N
SIGNAL_CHAIN_ID = 3
/* RADIOMETRIC DATA ELEMENTS */
BANDWIDTH = 177.0
CENTER_FILTER_WAVELENGTH = 676.5
RADIANCE_OFFSET = 3.65636
RADIANCE_SCALING_FACTOR = 0.0189855
REFLECTANCE_SCALING_FACTOR = 0.000491876
MEX:REFLECTANCE_OFFSET = 0.0947292
/* IMAGE OBJECT DEFINITIONS */
OBJECT = IMAGE
  INTERCHANGE_FORMAT = BINARY
  LINES = 26456
  LINE_SAMPLES = 3855
  SAMPLE_TYPE = UNSIGNED_INTEGER
  SAMPLE_BITS = 8
  BANDS = 1
  BAND_STORAGE_TYPE = BAND_SEQUENTIAL
  MAXIMUM = 254
  MEAN = 180.345
  MINIMUM = 105
  STANDARD_DEVIATION = 31.1843
END_OBJECT = IMAGE
/* MAP OBJECT DEFINITIONS */
OBJECT = IMAGE_MAP_PROJECTION
  ^DATA_SET_MAP_PROJECTION_CATALOG= "DSMAP.CAT"
  A_AXIS_RADIUS = 3396.0
  B_AXIS_RADIUS = 3396.0
  C_AXIS_RADIUS = 3396.0
  CENTER_LATITUDE = 0.0
  CENTER_LONGITUDE = 68.0
  COORDINATE_SYSTEM_NAME = PLANETOGRAPHIC
  COORDINATE_SYSTEM_TYPE = "BODY-FIXED ROTATING"
  EASTERNMOST_LONGITUDE = 70.1418
  FIRST_STANDARD_PARALLEL = "N/A"
  LINE_FIRST_PIXEL = 1
  LINE_LAST_PIXEL = 26456
  LINE_PROJECTION_OFFSET = -64101.875
  MAP_PROJECTION_ROTATION = 0.0
  MAP_PROJECTION_TYPE = SINUSOIDAL
  MAP_RESOLUTION = 1185.42760773333
  MAP_SCALE = 0.05
  MAXIMUM_LATITUDE = -54.0871
  MINIMUM_LATITUDE = -76.2873
  POSITIVE_LONGITUDE_DIRECTION = EAST
  REFERENCE_LATITUDE = "N/A"
  REFERENCE_LONGITUDE = "N/A"
  SAMPLE_FIRST_PIXEL = 1
  SAMPLE_LAST_PIXEL = 3855
  SAMPLE_PROJECTION_OFFSET = 2385.375
  SECOND_STANDARD_PARALLEL = "N/A"
  WESTERNMOST_LONGITUDE = 59.6123
END_OBJECT = IMAGE_MAP_PROJECTION
/* The JPEG2000 image data file associated with this label. */
OBJECT = COMPRESSED_FILE
  FILE_NAME = "H2382_0000_P23.JP2"
  RECORD_TYPE = UNDEFINED
  FILE_RECORDS = UNK
  ENCODING_TYPE = "JP2"
  INTERCHANGE_FORMAT = BINARY
  UNCOMPRESSED_FILE_NAME = "H2382_0000_P23.IMG"
  REQUIRED_STORAGE_BYTES = "102011010"
  ^DESCRIPTION = "JP2INFO.TXT"
END_OBJECT = COMPRESSED_FILE
END
