PDS_VERSION_ID = PDS3
/* FILE DATA ELEMENTS */
RECORD_TYPE = STREAM
/* POINTERS TO DATA OBJECTS */
^COMPRESSED_FILE = "H2384_0000_P23.JP2"
/* IDENTIFICATION DATA ELEMENTS */
DATA_SET_ID = "MEX-M-HRSC-5-REFDR-MAPPROJECTED-V3.0"
DATA_SET_NAME = "MARS EXPRESS HRSC MAP PROJECTED REFDR V3.0"
DETECTOR_ID = MEX_HRSC_P2
EVENT_TYPE = "MARS-REGIONAL-MAPPING-Im-Gl-Eo"
INSTRUMENT_HOST_ID = MEX
INSTRUMENT_HOST_NAME = "MARS EXPRESS"
INSTRUMENT_ID = HRSC
INSTRUMENT_NAME = "HIGH RESOLUTION STEREO CAMERA"
MISSION_NAME = "MARS EXPRESS"
MISSION_PHASE_NAME = MR_Phase_8
PROCESSING_LEVEL_ID = 3
PRODUCT_CREATION_TIME = 2016-03-15T10:38:17.000Z
PRODUCT_ID = "H2384_0000_P23.JP2"
RELEASE_ID = 0029
REVISION_ID = 0000
/* QUALITY DATA ELEMENTS */
DATA_QUALITY_ID = 1
DATA_QUALITY_DESC = "Data calculated based on original SPICE kernels"
/* TIME DATA ELEMENTS */
SPACECRAFT_CLOCK_START_COUNT = "1/0080633218.57143"
SPACECRAFT_CLOCK_STOP_COUNT = "1/0080633401.31206"
START_TIME = 2005-11-21T06:07:56.479Z
STOP_TIME = 2005-11-21T06:09:57.835Z
/* ORBITAL DATA ELEMENTS */
ASCENDING_NODE_LONGITUDE = 178.21
MAXIMUM_RESOLUTION = 47.1
FOOTPRINT_POINT_LATITUDE = (-76.5785,-76.6436,-76.6833,-76.7143, -76.7511,-76.7862,-76.8257,-76.5568, -76.302,-76.1318,-75.9614,-75.7911, -75.6217,-75.4514,-75.1976,-75.033, -74.7852,-74.5365,-74.3702,-74.2107, -74.0463,-73.7968,-73.6309,-73.4602, -73.2133,-73.0541,-72.8938,-72.7336, -72.5733,-72.4126,-72.1728,-72.0133, -71.8548,-71.6948,-71.5338,-71.3787, -71.22,-71.0595,-70.8998,-70.7424, -70.5836,-70.4267,-70.1958,-70.0415, -69.8859,-69.7315,-69.5811,-69.3485, -69.1156,-68.9561,-68.8027,-68.768, -68.735,-68.7121,-68.6909,-68.7403, -68.9703,-69.1235,-69.2772,-69.5076, -69.7379,-69.8909,-70.0438,-70.1973, -70.3503,-70.503,-70.732,-70.89, -71.0486,-71.2074,-71.3659,-71.5244, -71.6825,-71.9192,-72.0772,-72.3142, -72.5509,-72.7081,-72.9464,-73.1073, -73.2704,-73.4336,-73.5964,-73.7572, -73.915,-74.0784,-74.3227,-74.4855, -74.6479,-74.8102,-74.9719,-75.1366, -75.3038,-75.5537,-75.7202,-75.886, -76.0521,-76.218,-76.3838,-76.5785)
FOOTPRINT_POINT_LONGITUDE = (222.601,223.643,224.316,224.867, 225.549,226.236,227.06,227.442,227.635, 227.759,227.88,227.998,228.115,228.228, 228.389,228.492,228.641,228.784,228.877 ,228.977,229.068,229.197,229.282, 229.358,229.477,229.555,229.629,229.703 ,229.774,229.845,229.949,230.017, 230.086,230.151,230.214,230.284,230.348 ,230.408,230.468,230.52,230.57,230.622, 230.704,230.756,230.807,230.858,230.913 ,230.986,231.056,231.097,231.143, 230.373,229.708,229.276,228.897,228.375 ,228.27,228.199,228.126,228.014,227.899 ,227.821,227.743,227.661,227.58,227.497 ,227.37,227.28,227.187,227.093,226.998, 226.9,226.801,226.65,226.546,226.386, 226.222,226.11,225.934,225.81,225.685, 225.557,225.426,225.297,225.171,225.031 ,224.815,224.667,224.516,224.361, 224.204,224.041,223.87,223.608,223.428, 223.244,223.055,222.86,222.661,222.601)
ORBIT_NUMBER = 2384
ORBITAL_ECCENTRICITY = 0.572
ORBITAL_INCLINATION = 86.63
ORBITAL_SEMIMAJOR_AXIS = 8548.58
PERIAPSIS_ALTITUDE = 276.7
PERIAPSIS_ARGUMENT_ANGLE = 299.13
PERIAPSIS_TIME = 2005-11-21T06:11:42.000Z
SPACECRAFT_ORIENTATION = (0.0,-1.0,0.0)
^MEX_ORIENTATION_DESC = "MEX_ORIENTATION_DESC.TXT"
SPACECRAFT_POINTING_MODE = ACROSSTRACK
^MEX_POINTING_DESC = "MEX_POINTING_DESC.TXT"
RIGHT_ASCENSION = -1e+32
DECLINATION = -1e+32
OFFSET_ANGLE = -0.14
SPACECRAFT_SOLAR_DISTANCE = 2.21156e+08
TARGET_NAME = MARS
/* CAMERA DATA ELEMENTS */
DETECTOR_TEMPERATURE = 18.7783
FOCAL_PLANE_TEMPERATURE = 8.9911
INST_CMPRS_NAME = "DISCRETE COSINE TRANSFORMATION (DCT)"
INST_CMPRS_RATIO = 19.73
INST_CMPRS_QUALITY = 0
INST_CMPRS_QUANTZ_TBL_ID = 0
INSTRUMENT_TEMPERATURE = 11.4379
LENS_TEMPERATURE = 9.195
MACROPIXEL_SIZE = 4
MISSING_FRAMES = 0
PIXEL_SUBSAMPLING_FLAG = N
SIGNAL_CHAIN_ID = 3
/* RADIOMETRIC DATA ELEMENTS */
BANDWIDTH = 177.0
CENTER_FILTER_WAVELENGTH = 676.5
RADIANCE_OFFSET = 3.48817
RADIANCE_SCALING_FACTOR = 0.0105593
REFLECTANCE_SCALING_FACTOR = 0.000273835
MEX:REFLECTANCE_OFFSET = 0.090459
/* IMAGE OBJECT DEFINITIONS */
OBJECT = IMAGE
  INTERCHANGE_FORMAT = BINARY
  LINES = 9751
  LINE_SAMPLES = 2876
  SAMPLE_TYPE = UNSIGNED_INTEGER
  SAMPLE_BITS = 8
  BANDS = 1
  BAND_STORAGE_TYPE = BAND_SEQUENTIAL
  MAXIMUM = 104
  MEAN = 80.7282
  MINIMUM = 56
  STANDARD_DEVIATION = 6.81104
END_OBJECT = IMAGE
/* MAP OBJECT DEFINITIONS */
OBJECT = IMAGE_MAP_PROJECTION
  ^DATA_SET_MAP_PROJECTION_CATALOG= "DSMAP.CAT"
  A_AXIS_RADIUS = 3396.0
  B_AXIS_RADIUS = 3396.0
  C_AXIS_RADIUS = 3396.0
  CENTER_LATITUDE = 0.0
  CENTER_LONGITUDE = 228.0
  COORDINATE_SYSTEM_NAME = PLANETOGRAPHIC
  COORDINATE_SYSTEM_TYPE = "BODY-FIXED ROTATING"
  EASTERNMOST_LONGITUDE = 231.143
  FIRST_STANDARD_PARALLEL = "N/A"
  LINE_FIRST_PIXEL = 1
  LINE_LAST_PIXEL = 9751
  LINE_PROJECTION_OFFSET = -81414.125
  MAP_PROJECTION_ROTATION = 0.0
  MAP_PROJECTION_TYPE = SINUSOIDAL
  MAP_RESOLUTION = 1185.42760773333
  MAP_SCALE = 0.05
  MAXIMUM_LATITUDE = -68.6909
  MINIMUM_LATITUDE = -76.8257
  POSITIVE_LONGITUDE_DIRECTION = EAST
  REFERENCE_LATITUDE = "N/A"
  REFERENCE_LONGITUDE = "N/A"
  SAMPLE_FIRST_PIXEL = 1
  SAMPLE_LAST_PIXEL = 2876
  SAMPLE_PROJECTION_OFFSET = 1543.625
  SECOND_STANDARD_PARALLEL = "N/A"
  WESTERNMOST_LONGITUDE = 222.601
END_OBJECT = IMAGE_MAP_PROJECTION
/* The JPEG2000 image data file associated with this label. */
OBJECT = COMPRESSED_FILE
  FILE_NAME = "H2384_0000_P23.JP2"
  RECORD_TYPE = UNDEFINED
  FILE_RECORDS = UNK
  ENCODING_TYPE = "JP2"
  INTERCHANGE_FORMAT = BINARY
  UNCOMPRESSED_FILE_NAME = "H2384_0000_P23.IMG"
  REQUIRED_STORAGE_BYTES = "28066884"
  ^DESCRIPTION = "JP2INFO.TXT"
END_OBJECT = COMPRESSED_FILE
END
