PDS_VERSION_ID = PDS3
/* FILE DATA ELEMENTS */
RECORD_TYPE = STREAM
/* POINTERS TO DATA OBJECTS */
^COMPRESSED_FILE = "H2384_0000_RE3.JP2"
/* IDENTIFICATION DATA ELEMENTS */
DATA_SET_ID = "MEX-M-HRSC-5-REFDR-MAPPROJECTED-V3.0"
DATA_SET_NAME = "MARS EXPRESS HRSC MAP PROJECTED REFDR V3.0"
DETECTOR_ID = MEX_HRSC_RED
EVENT_TYPE = "MARS-REGIONAL-MAPPING-Im-Gl-Eo"
INSTRUMENT_HOST_ID = MEX
INSTRUMENT_HOST_NAME = "MARS EXPRESS"
INSTRUMENT_ID = HRSC
INSTRUMENT_NAME = "HIGH RESOLUTION STEREO CAMERA"
MISSION_NAME = "MARS EXPRESS"
MISSION_PHASE_NAME = MR_Phase_8
PROCESSING_LEVEL_ID = 3
PRODUCT_CREATION_TIME = 2016-03-15T10:38:17.000Z
PRODUCT_ID = "H2384_0000_RE3.JP2"
RELEASE_ID = 0029
REVISION_ID = 0000
/* QUALITY DATA ELEMENTS */
DATA_QUALITY_ID = 1
DATA_QUALITY_DESC = "Data calculated based on original SPICE kernels"
/* TIME DATA ELEMENTS */
SPACECRAFT_CLOCK_START_COUNT = "1/0080633218.57143"
SPACECRAFT_CLOCK_STOP_COUNT = "1/0080633401.31206"
START_TIME = 2005-11-21T06:08:01.422Z
STOP_TIME = 2005-11-21T06:10:02.078Z
/* ORBITAL DATA ELEMENTS */
ASCENDING_NODE_LONGITUDE = 178.21
MAXIMUM_RESOLUTION = 95.3
FOOTPRINT_POINT_LATITUDE = (-76.6123,-76.6521,-76.7067,-76.7427, -76.7771,-76.8862,-76.7189,-76.5512, -76.2999,-76.1319,-75.9638,-75.7123, -75.5464,-75.3026,-75.1397,-74.9772, -74.8143,-74.6511,-74.4867,-74.3248, -74.168,-74.0053,-73.8405,-73.5934, -73.4296,-73.2728,-73.0374,-72.8794, -72.7214,-72.4842,-72.3257,-72.1689, -72.0118,-71.8565,-71.6989,-71.54, -71.233,-71.0798,-70.9279,-70.774, -70.6156,-70.4598,-70.1568,-69.928, -69.7759,-69.4773,-69.324,-69.0925, -68.8021,-68.7781,-68.7242,-68.6831, -68.7383,-68.9645,-69.1152,-69.2666, -69.418,-69.5694,-69.7204,-69.8709, -70.0213,-70.1723,-70.3232,-70.4735, -70.774,-70.9244,-71.0764,-71.2328, -71.389,-71.5452,-71.7009,-71.9339, -72.0896,-72.2453,-72.4011,-72.5563, -72.7113,-72.9478,-73.1059,-73.2611, -73.4169,-73.5774,-73.7355,-73.8897, -74.0512,-74.2121,-74.3727,-74.6134, -74.7736,-74.9336,-75.0931,-75.2523, -75.4956,-75.6599,-75.8236,-76.0696, -76.2333,-76.3971,-76.5605,-76.6123)
FOOTPRINT_POINT_LONGITUDE = (223.561,224.229,225.197,225.876, 226.561,227.147,227.281,227.412,227.603 ,227.726,227.846,228.022,228.135, 228.294,228.397,228.498,228.596,228.692 ,228.785,228.879,228.975,229.064, 229.149,229.273,229.346,229.425,229.54, 229.613,229.686,229.792,229.86,229.929, 229.997,230.065,230.13,230.192,230.324, 230.382,230.439,230.493,230.542,230.593 ,230.699,230.776,230.826,230.93,230.977 ,231.045,231.127,230.591,229.52,228.787 ,228.384,228.281,228.211,228.139, 228.066,227.992,227.917,227.841,227.764 ,227.684,227.604,227.523,227.356,227.27 ,227.182,227.089,226.995,226.898, 226.801,226.652,226.55,226.446,226.339, 226.231,226.121,225.946,225.824,225.706 ,225.584,225.457,225.33,225.208,225.07, 224.929,224.786,224.565,224.414,224.26, 224.102,223.942,223.689,223.513,223.334 ,223.055,222.863,222.666,222.464, 223.561)
ORBIT_NUMBER = 2384
ORBITAL_ECCENTRICITY = 0.572
ORBITAL_INCLINATION = 86.63
ORBITAL_SEMIMAJOR_AXIS = 8548.58
PERIAPSIS_ALTITUDE = 276.7
PERIAPSIS_ARGUMENT_ANGLE = 299.13
PERIAPSIS_TIME = 2005-11-21T06:11:42.000Z
SPACECRAFT_ORIENTATION = (0.0,-1.0,0.0)
^MEX_ORIENTATION_DESC = "MEX_ORIENTATION_DESC.TXT"
SPACECRAFT_POINTING_MODE = ACROSSTRACK
^MEX_POINTING_DESC = "MEX_POINTING_DESC.TXT"
RIGHT_ASCENSION = -1e+32
DECLINATION = -1e+32
OFFSET_ANGLE = -0.14
SPACECRAFT_SOLAR_DISTANCE = 2.21156e+08
TARGET_NAME = MARS
/* CAMERA DATA ELEMENTS */
DETECTOR_TEMPERATURE = 18.7783
FOCAL_PLANE_TEMPERATURE = 8.9911
INST_CMPRS_NAME = "DISCRETE COSINE TRANSFORMATION (DCT)"
INST_CMPRS_RATIO = 37.9071
INST_CMPRS_QUALITY = 0
INST_CMPRS_QUANTZ_TBL_ID = 0
INSTRUMENT_TEMPERATURE = 11.4379
LENS_TEMPERATURE = 9.195
MACROPIXEL_SIZE = 8
MISSING_FRAMES = 0
PIXEL_SUBSAMPLING_FLAG = N
SIGNAL_CHAIN_ID = 2
/* RADIOMETRIC DATA ELEMENTS */
BANDWIDTH = 48.0
CENTER_FILTER_WAVELENGTH = 748.0
RADIANCE_OFFSET = 0.935077
RADIANCE_SCALING_FACTOR = 0.00309655
REFLECTANCE_SCALING_FACTOR = 0.000345621
MEX:REFLECTANCE_OFFSET = 0.104369
/* IMAGE OBJECT DEFINITIONS */
OBJECT = IMAGE
  INTERCHANGE_FORMAT = BINARY
  LINES = 4876
  LINE_SAMPLES = 1438
  SAMPLE_TYPE = UNSIGNED_INTEGER
  SAMPLE_BITS = 8
  BANDS = 1
  BAND_STORAGE_TYPE = BAND_SEQUENTIAL
  MAXIMUM = 104
  MEAN = 65.9892
  MINIMUM = 44
  STANDARD_DEVIATION = 6.1909
END_OBJECT = IMAGE
/* MAP OBJECT DEFINITIONS */
OBJECT = IMAGE_MAP_PROJECTION
  ^DATA_SET_MAP_PROJECTION_CATALOG= "DSMAP.CAT"
  A_AXIS_RADIUS = 3396.0
  B_AXIS_RADIUS = 3396.0
  C_AXIS_RADIUS = 3396.0
  CENTER_LATITUDE = 0.0
  CENTER_LONGITUDE = 228.0
  COORDINATE_SYSTEM_NAME = PLANETOGRAPHIC
  COORDINATE_SYSTEM_TYPE = "BODY-FIXED ROTATING"
  EASTERNMOST_LONGITUDE = 231.127
  FIRST_STANDARD_PARALLEL = "N/A"
  LINE_FIRST_PIXEL = 1
  LINE_LAST_PIXEL = 4876
  LINE_PROJECTION_OFFSET = -40707.3125
  MAP_PROJECTION_ROTATION = 0.0
  MAP_PROJECTION_TYPE = SINUSOIDAL
  MAP_RESOLUTION = 592.713803866667
  MAP_SCALE = 0.1
  MAXIMUM_LATITUDE = -68.6831
  MINIMUM_LATITUDE = -76.8862
  POSITIVE_LONGITUDE_DIRECTION = EAST
  REFERENCE_LATITUDE = "N/A"
  REFERENCE_LONGITUDE = "N/A"
  SAMPLE_FIRST_PIXEL = 1
  SAMPLE_LAST_PIXEL = 1438
  SAMPLE_PROJECTION_OFFSET = 771.5625
  SECOND_STANDARD_PARALLEL = "N/A"
  WESTERNMOST_LONGITUDE = 222.464
END_OBJECT = IMAGE_MAP_PROJECTION
/* The JPEG2000 image data file associated with this label. */
OBJECT = COMPRESSED_FILE
  FILE_NAME = "H2384_0000_RE3.JP2"
  RECORD_TYPE = UNDEFINED
  FILE_RECORDS = UNK
  ENCODING_TYPE = "JP2"
  INTERCHANGE_FORMAT = BINARY
  UNCOMPRESSED_FILE_NAME = "H2384_0000_RE3.IMG"
  REQUIRED_STORAGE_BYTES = "7030382"
  ^DESCRIPTION = "JP2INFO.TXT"
END_OBJECT = COMPRESSED_FILE
END
