PDS_VERSION_ID = PDS3
/* FILE DATA ELEMENTS */
RECORD_TYPE = STREAM
/* POINTERS TO DATA OBJECTS */
^COMPRESSED_FILE = "H2385_0000_ND3.JP2"
/* IDENTIFICATION DATA ELEMENTS */
DATA_SET_ID = "MEX-M-HRSC-5-REFDR-MAPPROJECTED-V3.0"
DATA_SET_NAME = "MARS EXPRESS HRSC MAP PROJECTED REFDR V3.0"
DETECTOR_ID = MEX_HRSC_NADIR
EVENT_TYPE = "MARS-REGIONAL-MAPPING-Vo-Te-Fl"
INSTRUMENT_HOST_ID = MEX
INSTRUMENT_HOST_NAME = "MARS EXPRESS"
INSTRUMENT_ID = HRSC
INSTRUMENT_NAME = "HIGH RESOLUTION STEREO CAMERA"
MISSION_NAME = "MARS EXPRESS"
MISSION_PHASE_NAME = MR_Phase_8
PROCESSING_LEVEL_ID = 3
PRODUCT_CREATION_TIME = 2016-03-15T10:38:17.000Z
PRODUCT_ID = "H2385_0000_ND3.JP2"
RELEASE_ID = 0029
REVISION_ID = 0000
/* QUALITY DATA ELEMENTS */
DATA_QUALITY_ID = 1
DATA_QUALITY_DESC = "Data calculated based on original SPICE kernels"
/* TIME DATA ELEMENTS */
SPACECRAFT_CLOCK_START_COUNT = "1/0080657653.57288"
SPACECRAFT_CLOCK_STOP_COUNT = "1/0080657871.25369"
START_TIME = 2005-11-21T12:54:43.152Z
STOP_TIME = 2005-11-21T12:57:30.163Z
/* ORBITAL DATA ELEMENTS */
ASCENDING_NODE_LONGITUDE = 178.19
MAXIMUM_RESOLUTION = 11.4
FOOTPRINT_POINT_LATITUDE = (-62.6632,-62.6821,-62.7006,-62.7185, -62.736,-62.7529,-62.7663,-62.6086, -62.3661,-62.1236,-61.8815,-61.6391, -61.3973,-61.1555,-60.7931,-60.4312, -60.19,-59.8285,-59.467,-59.1051, -58.7439,-58.503,-58.2627,-57.9033, -57.662,-57.4205,-57.1808,-56.8222, -56.4623,-56.2235,-55.8662,-55.6274, -55.3871,-55.1492,-54.9112,-54.5547, -54.3166,-54.0775,-53.7205,-53.36, -53.1219,-52.8863,-52.6405,-52.3933, -52.2691,-52.1447,-51.7748,-51.4054, -51.1589,-50.7888,-50.7784,-50.764, -50.7503,-50.7333,-50.7205,-50.8251, -51.1929,-51.4389,-51.6857,-52.0544, -52.3003,-52.5446,-52.6682,-52.913, -53.1503,-53.506,-53.7477,-53.986, -54.3409,-54.578,-54.8158,-55.0526, -55.2921,-55.5317,-55.7725,-56.0125, -56.2509,-56.4892,-56.7278,-57.0854, -57.4435,-57.6828,-57.922,-58.2815, -58.641,-58.8808,-59.2407,-59.4807, -59.72,-59.9618,-60.3216,-60.5623, -60.8028,-61.0425,-61.2867,-61.6458, -62.0073,-62.2485,-62.4889,-62.6632)
FOOTPRINT_POINT_LONGITUDE = (133.041,133.369,133.701,134.036, 134.374,134.716,134.996,135.148,135.179 ,135.209,135.239,135.268,135.297, 135.326,135.368,135.409,135.436,135.476 ,135.514,135.55,135.587,135.61,135.634, 135.67,135.691,135.711,135.733,135.768, 135.799,135.821,135.855,135.876,135.894 ,135.915,135.937,135.969,135.989, 136.007,136.036,136.064,136.082,136.109 ,136.13,136.148,136.156,136.163,136.19, 136.218,136.236,136.26,136.041,135.756, 135.446,135.119,134.891,134.582,134.548 ,134.525,134.501,134.466,134.441, 134.416,134.404,134.378,134.353,134.315 ,134.288,134.262,134.221,134.193, 134.165,134.136,134.107,134.077,134.046 ,134.015,133.984,133.952,133.919, 133.869,133.818,133.782,133.747,133.692 ,133.635,133.596,133.537,133.496, 133.455,133.413,133.348,133.304,133.259 ,133.213,133.165,133.093,133.019, 132.968,132.916,133.041)
ORBIT_NUMBER = 2385
ORBITAL_ECCENTRICITY = 0.572
ORBITAL_INCLINATION = 86.62
ORBITAL_SEMIMAJOR_AXIS = 8551.77
PERIAPSIS_ALTITUDE = 277.89
PERIAPSIS_ARGUMENT_ANGLE = 298.98
PERIAPSIS_TIME = 2005-11-21T12:54:49.000Z
SPACECRAFT_ORIENTATION = (0.0,-1.0,0.0)
^MEX_ORIENTATION_DESC = "MEX_ORIENTATION_DESC.TXT"
SPACECRAFT_POINTING_MODE = INERT
^MEX_POINTING_DESC = "MEX_POINTING_DESC.TXT"
RIGHT_ASCENSION = 357.398
DECLINATION = 41.013
OFFSET_ANGLE = -1e+32
SPACECRAFT_SOLAR_DISTANCE = 2.21209e+08
TARGET_NAME = MARS
/* CAMERA DATA ELEMENTS */
DETECTOR_TEMPERATURE = 18.1666
FOCAL_PLANE_TEMPERATURE = 8.5833
INST_CMPRS_NAME = "DISCRETE COSINE TRANSFORMATION (DCT)"
INST_CMPRS_RATIO = 7.28539
INST_CMPRS_QUALITY = 0
INST_CMPRS_QUANTZ_TBL_ID = 0
INSTRUMENT_TEMPERATURE = 11.4379
LENS_TEMPERATURE = 8.7872
MACROPIXEL_SIZE = 1
MISSING_FRAMES = 2
PIXEL_SUBSAMPLING_FLAG = N
SIGNAL_CHAIN_ID = 0
/* RADIOMETRIC DATA ELEMENTS */
BANDWIDTH = 177.0
CENTER_FILTER_WAVELENGTH = 677.5
RADIANCE_OFFSET = 3.88594
RADIANCE_SCALING_FACTOR = 0.0148036
REFLECTANCE_SCALING_FACTOR = 0.000384821
MEX:REFLECTANCE_OFFSET = 0.101016
/* IMAGE OBJECT DEFINITIONS */
OBJECT = IMAGE
  INTERCHANGE_FORMAT = BINARY
  LINES = 57305
  LINE_SAMPLES = 8540
  SAMPLE_TYPE = UNSIGNED_INTEGER
  SAMPLE_BITS = 8
  BANDS = 1
  BAND_STORAGE_TYPE = BAND_SEQUENTIAL
  MAXIMUM = 144
  MEAN = 102.57
  MINIMUM = 65
  STANDARD_DEVIATION = 10.2276
END_OBJECT = IMAGE
/* MAP OBJECT DEFINITIONS */
OBJECT = IMAGE_MAP_PROJECTION
  ^DATA_SET_MAP_PROJECTION_CATALOG= "DSMAP.CAT"
  A_AXIS_RADIUS = 3396.0
  B_AXIS_RADIUS = 3396.0
  C_AXIS_RADIUS = 3396.0
  CENTER_LATITUDE = 0.0
  CENTER_LONGITUDE = 135.0
  COORDINATE_SYSTEM_NAME = PLANETOGRAPHIC
  COORDINATE_SYSTEM_TYPE = "BODY-FIXED ROTATING"
  EASTERNMOST_LONGITUDE = 136.26
  FIRST_STANDARD_PARALLEL = "N/A"
  LINE_FIRST_PIXEL = 1
  LINE_LAST_PIXEL = 57305
  LINE_PROJECTION_OFFSET = -240318.0
  MAP_PROJECTION_ROTATION = 0.0
  MAP_PROJECTION_TYPE = SINUSOIDAL
  MAP_RESOLUTION = 4741.71043093333
  MAP_SCALE = 0.0125
  MAXIMUM_LATITUDE = -50.7205
  MINIMUM_LATITUDE = -62.7663
  POSITIVE_LONGITUDE_DIRECTION = EAST
  REFERENCE_LATITUDE = "N/A"
  REFERENCE_LONGITUDE = "N/A"
  SAMPLE_FIRST_PIXEL = 1
  SAMPLE_LAST_PIXEL = 8540
  SAMPLE_PROJECTION_OFFSET = 4622.0
  SECOND_STANDARD_PARALLEL = "N/A"
  WESTERNMOST_LONGITUDE = 132.916
END_OBJECT = IMAGE_MAP_PROJECTION
/* The JPEG2000 image data file associated with this label. */
OBJECT = COMPRESSED_FILE
  FILE_NAME = "H2385_0000_ND3.JP2"
  RECORD_TYPE = UNDEFINED
  FILE_RECORDS = UNK
  ENCODING_TYPE = "JP2"
  INTERCHANGE_FORMAT = BINARY
  UNCOMPRESSED_FILE_NAME = "H2385_0000_ND3.IMG"
  REQUIRED_STORAGE_BYTES = "489418860"
  ^DESCRIPTION = "JP2INFO.TXT"
END_OBJECT = COMPRESSED_FILE
END
