PDS_VERSION_ID = PDS3
/* FILE DATA ELEMENTS */
RECORD_TYPE = STREAM
/* POINTERS TO DATA OBJECTS */
^COMPRESSED_FILE = "H2386_0001_IR3.JP2"
/* IDENTIFICATION DATA ELEMENTS */
DATA_SET_ID = "MEX-M-HRSC-5-REFDR-MAPPROJECTED-V3.0"
DATA_SET_NAME = "MARS EXPRESS HRSC MAP PROJECTED REFDR V3.0"
DETECTOR_ID = MEX_HRSC_IR
EVENT_TYPE = "MARS-REGIONAL-MAPPING-Im-Fl"
INSTRUMENT_HOST_ID = MEX
INSTRUMENT_HOST_NAME = "MARS EXPRESS"
INSTRUMENT_ID = HRSC
INSTRUMENT_NAME = "HIGH RESOLUTION STEREO CAMERA"
MISSION_NAME = "MARS EXPRESS"
MISSION_PHASE_NAME = MR_Phase_8
PROCESSING_LEVEL_ID = 3
PRODUCT_CREATION_TIME = 2016-03-15T10:38:17.000Z
PRODUCT_ID = "H2386_0001_IR3.JP2"
RELEASE_ID = 0029
REVISION_ID = 0000
/* QUALITY DATA ELEMENTS */
DATA_QUALITY_ID = 1
DATA_QUALITY_DESC = "Data calculated based on original SPICE kernels"
/* TIME DATA ELEMENTS */
SPACECRAFT_CLOCK_START_COUNT = "1/0080682555.56194"
SPACECRAFT_CLOCK_STOP_COUNT = "1/0080682990.44684"
START_TIME = 2005-11-21T19:49:34.049Z
STOP_TIME = 2005-11-21T19:52:24.848Z
/* ORBITAL DATA ELEMENTS */
ASCENDING_NODE_LONGITUDE = 178.17
MAXIMUM_RESOLUTION = 113.2
FOOTPRINT_POINT_LATITUDE = (-14.1678,-14.1631,-14.1567,-14.1489, -14.1399,-14.1296,-14.1209,-13.9188, -13.7171,-13.4144,-13.2133,-12.9123, -12.7118,-12.5123,-12.3117,-12.011, -11.8099,-11.6129,-11.4144,-11.2164, -10.917,-10.7174,-10.5188,-10.3127, -10.114,-9.91702,-9.72033,-9.52401, -9.32803,-9.13229,-8.93692,-8.74193, -8.54774,-8.15886,-7.78151,-7.39599, -7.10515,-6.91241,-6.62175,-6.42646, -6.2346,-5.85221,-5.47758,-5.1916, -4.90674,-4.43324,-4.32323,-4.33079, -4.34101,-4.35242,-4.36152,-4.36905, -4.37552,-4.38242,-4.38945,-4.39366, -4.39985,-4.40521,-4.59911,-5.06841, -5.35273,-5.72602,-5.91974,-6.20678, -6.58757,-6.77889,-6.97037,-7.2583, -7.45022,-7.64245,-7.83572,-8.02887, -8.31887,-8.51222,-8.70676,-8.90086, -9.09612,-9.2895,-9.48546,-9.67962, -9.87737,-10.0731,-10.2695,-10.6562, -10.9549,-11.1553,-11.3527,-11.5503, -11.8474,-12.0455,-12.2442,-12.4433, -12.6427,-12.8425,-13.0428,-13.2417, -13.4418,-13.6425,-13.8435,-14.1678)
FOOTPRINT_POINT_LONGITUDE = (36.4661,36.7836,37.1472,37.512,37.8776 ,38.2443,38.7753,38.7774,38.7795,38.783 ,38.7851,38.7881,38.7902,38.7919, 38.7943,38.798,38.8009,38.802,38.804, 38.8058,38.8098,38.8127,38.8152,38.8214 ,38.8242,38.8263,38.8284,38.8304, 38.8324,38.8344,38.8364,38.8383,38.84, 38.8439,38.8431,38.8465,38.8502,38.8522 ,38.8563,38.8598,38.8619,38.8658, 38.8668,38.8702,38.8733,38.8785,38.5057 ,38.3032,38.0718,37.7836,37.5248, 37.2951,37.0942,36.8647,36.6356,36.4353 ,36.1779,35.978,35.8096,35.8397,35.8581 ,35.8804,35.8934,35.9116,35.9348, 35.9465,35.958,35.9752,35.9865,35.9978, 36.0092,36.0204,36.037,36.0479,36.059, 36.0698,36.0808,36.0911,36.102,36.1122, 36.1233,36.1337,36.1441,36.1629,36.1789 ,36.1897,36.1996,36.2094,36.224,36.2336 ,36.2432,36.2527,36.2622,36.2717, 36.2811,36.29,36.2991,36.3082,36.3172, 36.4661)
ORBIT_NUMBER = 2386
ORBITAL_ECCENTRICITY = 0.572
ORBITAL_INCLINATION = 86.62
ORBITAL_SEMIMAJOR_AXIS = 8550.99
PERIAPSIS_ALTITUDE = 277.68
PERIAPSIS_ARGUMENT_ANGLE = 298.8
PERIAPSIS_TIME = 2005-11-21T19:37:53.000Z
SPACECRAFT_ORIENTATION = (0.0,-1.0,0.0)
^MEX_ORIENTATION_DESC = "MEX_ORIENTATION_DESC.TXT"
SPACECRAFT_POINTING_MODE = ACROSSTRACK
^MEX_POINTING_DESC = "MEX_POINTING_DESC.TXT"
RIGHT_ASCENSION = -1e+32
DECLINATION = -1e+32
OFFSET_ANGLE = -0.42
SPACECRAFT_SOLAR_DISTANCE = 2.21263e+08
TARGET_NAME = MARS
/* CAMERA DATA ELEMENTS */
DETECTOR_TEMPERATURE = 20.0017
FOCAL_PLANE_TEMPERATURE = 8.7872
INST_CMPRS_NAME = "DISCRETE COSINE TRANSFORMATION (DCT)"
INST_CMPRS_RATIO = 15.0296
INST_CMPRS_QUALITY = 0
INST_CMPRS_QUANTZ_TBL_ID = 0
INSTRUMENT_TEMPERATURE = 14.0886
LENS_TEMPERATURE = 9.8067
MACROPIXEL_SIZE = 4
MISSING_FRAMES = 0
PIXEL_SUBSAMPLING_FLAG = N
SIGNAL_CHAIN_ID = 2
/* RADIOMETRIC DATA ELEMENTS */
BANDWIDTH = 81.0
CENTER_FILTER_WAVELENGTH = 955.5
RADIANCE_OFFSET = 1.17352
RADIANCE_SCALING_FACTOR = 0.0108148
REFLECTANCE_SCALING_FACTOR = 0.00114227
MEX:REFLECTANCE_OFFSET = 0.123949
/* IMAGE OBJECT DEFINITIONS */
OBJECT = IMAGE
  INTERCHANGE_FORMAT = BINARY
  LINES = 5843
  LINE_SAMPLES = 2104
  SAMPLE_TYPE = UNSIGNED_INTEGER
  SAMPLE_BITS = 8
  BANDS = 1
  BAND_STORAGE_TYPE = BAND_SEQUENTIAL
  MAXIMUM = 204
  MEAN = 117.957
  MINIMUM = 59
  STANDARD_DEVIATION = 39.1899
END_OBJECT = IMAGE
/* MAP OBJECT DEFINITIONS */
OBJECT = IMAGE_MAP_PROJECTION
  ^DATA_SET_MAP_PROJECTION_CATALOG= "DSMAP.CAT"
  A_AXIS_RADIUS = 3396.0
  B_AXIS_RADIUS = 3396.0
  C_AXIS_RADIUS = 3396.0
  CENTER_LATITUDE = 0.0
  CENTER_LONGITUDE = 37.0
  COORDINATE_SYSTEM_NAME = PLANETOGRAPHIC
  COORDINATE_SYSTEM_TYPE = "BODY-FIXED ROTATING"
  EASTERNMOST_LONGITUDE = 38.8785
  FIRST_STANDARD_PARALLEL = "N/A"
  LINE_FIRST_PIXEL = 1
  LINE_LAST_PIXEL = 5843
  LINE_PROJECTION_OFFSET = -2555.625
  MAP_PROJECTION_ROTATION = 0.0
  MAP_PROJECTION_TYPE = SINUSOIDAL
  MAP_RESOLUTION = 592.713803866667
  MAP_SCALE = 0.1
  MAXIMUM_LATITUDE = -4.32323
  MINIMUM_LATITUDE = -14.1678
  POSITIVE_LONGITUDE_DIRECTION = EAST
  REFERENCE_LATITUDE = "N/A"
  REFERENCE_LONGITUDE = "N/A"
  SAMPLE_FIRST_PIXEL = 1
  SAMPLE_LAST_PIXEL = 2104
  SAMPLE_PROJECTION_OFFSET = 847.875
  SECOND_STANDARD_PARALLEL = "N/A"
  WESTERNMOST_LONGITUDE = 35.8096
END_OBJECT = IMAGE_MAP_PROJECTION
/* The JPEG2000 image data file associated with this label. */
OBJECT = COMPRESSED_FILE
  FILE_NAME = "H2386_0001_IR3.JP2"
  RECORD_TYPE = UNDEFINED
  FILE_RECORDS = UNK
  ENCODING_TYPE = "JP2"
  INTERCHANGE_FORMAT = BINARY
  UNCOMPRESSED_FILE_NAME = "H2386_0001_IR3.IMG"
  REQUIRED_STORAGE_BYTES = "12314712"
  ^DESCRIPTION = "JP2INFO.TXT"
END_OBJECT = COMPRESSED_FILE
END
