PDS_VERSION_ID = PDS3
/* FILE DATA ELEMENTS */
RECORD_TYPE = STREAM
/* POINTERS TO DATA OBJECTS */
^COMPRESSED_FILE = "H2387_0000_P13.JP2"
/* IDENTIFICATION DATA ELEMENTS */
DATA_SET_ID = "MEX-M-HRSC-5-REFDR-MAPPROJECTED-V3.0"
DATA_SET_NAME = "MARS EXPRESS HRSC MAP PROJECTED REFDR V3.0"
DETECTOR_ID = MEX_HRSC_P1
EVENT_TYPE = "MARS-REGIONAL-MAPPING-Im-Fl-Pf"
INSTRUMENT_HOST_ID = MEX
INSTRUMENT_HOST_NAME = "MARS EXPRESS"
INSTRUMENT_ID = HRSC
INSTRUMENT_NAME = "HIGH RESOLUTION STEREO CAMERA"
MISSION_NAME = "MARS EXPRESS"
MISSION_PHASE_NAME = MR_Phase_8
PROCESSING_LEVEL_ID = 3
PRODUCT_CREATION_TIME = 2016-03-15T10:38:17.000Z
PRODUCT_ID = "H2387_0000_P13.JP2"
RELEASE_ID = 0029
REVISION_ID = 0000
/* QUALITY DATA ELEMENTS */
DATA_QUALITY_ID = 1
DATA_QUALITY_DESC = "Data calculated based on original SPICE kernels"
/* TIME DATA ELEMENTS */
SPACECRAFT_CLOCK_START_COUNT = "1/0080706043.56183"
SPACECRAFT_CLOCK_STOP_COUNT = "1/0080706385.54895"
START_TIME = 2005-11-22T02:20:59.060Z
STOP_TIME = 2005-11-22T02:25:36.698Z
/* ORBITAL DATA ELEMENTS */
ASCENDING_NODE_LONGITUDE = 178.15
MAXIMUM_RESOLUTION = 45.2
FOOTPRINT_POINT_LATITUDE = (-60.3441,-60.3571,-60.3676,-60.324, -59.9766,-59.629,-59.2817,-58.934, -58.4124,-57.8916,-57.3694,-56.8511, -56.5025,-56.1528,-55.8019,-55.4472, -55.0975,-54.7511,-54.4087,-54.0448, -53.4993,-52.9606,-52.6019,-52.2287, -51.8765,-51.5121,-51.1505,-50.7771, -50.2218,-49.6626,-49.2844,-48.9126, -48.534,-47.9719,-47.5861,-47.1918, -46.7992,-46.2182,-45.8315,-45.4314, -45.027,-44.4202,-44.0243,-43.4026, -42.9871,-42.5738,-42.1468,-41.7259, -41.705,-41.7054,-41.705,-41.7045, -41.9172,-42.1302,-42.5524,-42.9656, -43.3794,-43.7963,-44.2038,-44.6026, -45.0028,-45.4056,-45.8074,-46.1959, -46.5836,-46.9721,-47.3633,-47.7536, -48.1342,-48.5084,-48.8846,-49.4487, -50.0069,-50.3836,-50.7532,-51.1144, -51.4775,-51.8389,-52.203,-52.7447, -53.1106,-53.4674,-53.831,-54.1938, -54.5457,-54.895,-55.2419,-55.5898, -55.9373,-56.4574,-56.9799,-57.3262, -57.6721,-58.0172,-58.5365,-58.883, -59.4029,-59.7482,-60.0956,-60.3441)
FOOTPRINT_POINT_LONGITUDE = (297.371,297.926,298.492,299.105, 299.143,299.179,299.214,299.248,299.298 ,299.342,299.388,299.423,299.452, 299.482,299.514,299.553,299.58,299.6, 299.612,299.651,299.69,299.714,299.729, 299.77,299.772,299.795,299.814,299.853, 299.884,299.904,299.926,299.937,299.959 ,299.983,299.998,300.022,300.044, 300.064,300.077,300.09,300.109,300.138, 300.144,300.166,300.182,300.195,300.215 ,300.221,299.889,299.528,298.994, 298.623,298.617,298.612,298.601,298.589 ,298.576,298.562,298.549,298.535,298.52 ,298.504,298.487,298.47,298.453,298.434 ,298.415,298.394,298.374,298.353, 298.331,298.297,298.262,298.236,298.209 ,298.183,298.156,298.128,298.098, 298.053,298.021,297.989,297.955,297.92, 297.884,297.848,297.811,297.773,297.734 ,297.673,297.608,297.563,297.518, 297.471,297.397,297.346,297.266,297.211 ,297.153,297.371)
ORBIT_NUMBER = 2387
ORBITAL_ECCENTRICITY = 0.572
ORBITAL_INCLINATION = 86.62
ORBITAL_SEMIMAJOR_AXIS = 8548.06
PERIAPSIS_ALTITUDE = 277.68
PERIAPSIS_ARGUMENT_ANGLE = 298.64
PERIAPSIS_TIME = 2005-11-22T02:21:01.000Z
SPACECRAFT_ORIENTATION = (0.0,-1.0,0.0)
^MEX_ORIENTATION_DESC = "MEX_ORIENTATION_DESC.TXT"
SPACECRAFT_POINTING_MODE = ACROSSTRACK
^MEX_POINTING_DESC = "MEX_POINTING_DESC.TXT"
RIGHT_ASCENSION = -1e+32
DECLINATION = -1e+32
OFFSET_ANGLE = -0.6
SPACECRAFT_SOLAR_DISTANCE = 2.21316e+08
TARGET_NAME = MARS
/* CAMERA DATA ELEMENTS */
DETECTOR_TEMPERATURE = 17.7588
FOCAL_PLANE_TEMPERATURE = 8.9911
INST_CMPRS_NAME = "DISCRETE COSINE TRANSFORMATION (DCT)"
INST_CMPRS_RATIO = 18.6244
INST_CMPRS_QUALITY = 0
INST_CMPRS_QUANTZ_TBL_ID = 0
INSTRUMENT_TEMPERATURE = 9.8067
LENS_TEMPERATURE = 9.195
MACROPIXEL_SIZE = 4
MISSING_FRAMES = 0
PIXEL_SUBSAMPLING_FLAG = N
SIGNAL_CHAIN_ID = 3
/* RADIOMETRIC DATA ELEMENTS */
BANDWIDTH = 174.0
CENTER_FILTER_WAVELENGTH = 675.0
RADIANCE_OFFSET = 4.04211
RADIANCE_SCALING_FACTOR = 0.0141828
REFLECTANCE_SCALING_FACTOR = 0.000373657
MEX:REFLECTANCE_OFFSET = 0.106492
/* IMAGE OBJECT DEFINITIONS */
OBJECT = IMAGE
  INTERCHANGE_FORMAT = BINARY
  LINES = 22109
  LINE_SAMPLES = 2276
  SAMPLE_TYPE = UNSIGNED_INTEGER
  SAMPLE_BITS = 8
  BANDS = 1
  BAND_STORAGE_TYPE = BAND_SEQUENTIAL
  MAXIMUM = 186
  MEAN = 143.469
  MINIMUM = 90
  STANDARD_DEVIATION = 8.10238
END_OBJECT = IMAGE
/* MAP OBJECT DEFINITIONS */
OBJECT = IMAGE_MAP_PROJECTION
  ^DATA_SET_MAP_PROJECTION_CATALOG= "DSMAP.CAT"
  A_AXIS_RADIUS = 3396.0
  B_AXIS_RADIUS = 3396.0
  C_AXIS_RADIUS = 3396.0
  CENTER_LATITUDE = 0.0
  CENTER_LONGITUDE = 299.0
  COORDINATE_SYSTEM_NAME = PLANETOGRAPHIC
  COORDINATE_SYSTEM_TYPE = "BODY-FIXED ROTATING"
  EASTERNMOST_LONGITUDE = 300.221
  FIRST_STANDARD_PARALLEL = "N/A"
  LINE_FIRST_PIXEL = 1
  LINE_LAST_PIXEL = 22109
  LINE_PROJECTION_OFFSET = -49412.125
  MAP_PROJECTION_ROTATION = 0.0
  MAP_PROJECTION_TYPE = SINUSOIDAL
  MAP_RESOLUTION = 1185.42760773333
  MAP_SCALE = 0.05
  MAXIMUM_LATITUDE = -41.7045
  MINIMUM_LATITUDE = -60.3676
  POSITIVE_LONGITUDE_DIRECTION = EAST
  REFERENCE_LATITUDE = "N/A"
  REFERENCE_LONGITUDE = "N/A"
  SAMPLE_FIRST_PIXEL = 1
  SAMPLE_LAST_PIXEL = 2276
  SAMPLE_PROJECTION_OFFSET = 1113.125
  SECOND_STANDARD_PARALLEL = "N/A"
  WESTERNMOST_LONGITUDE = 297.153
END_OBJECT = IMAGE_MAP_PROJECTION
/* The JPEG2000 image data file associated with this label. */
OBJECT = COMPRESSED_FILE
  FILE_NAME = "H2387_0000_P13.JP2"
  RECORD_TYPE = UNDEFINED
  FILE_RECORDS = UNK
  ENCODING_TYPE = "JP2"
  INTERCHANGE_FORMAT = BINARY
  UNCOMPRESSED_FILE_NAME = "H2387_0000_P13.IMG"
  REQUIRED_STORAGE_BYTES = "50342844"
  ^DESCRIPTION = "JP2INFO.TXT"
END_OBJECT = COMPRESSED_FILE
END
