PDS_VERSION_ID = PDS3
/* FILE DATA ELEMENTS */
RECORD_TYPE = STREAM
/* POINTERS TO DATA OBJECTS */
^COMPRESSED_FILE = "H2392_0000_RE3.JP2"
/* IDENTIFICATION DATA ELEMENTS */
DATA_SET_ID = "MEX-M-HRSC-5-REFDR-MAPPROJECTED-V3.0"
DATA_SET_NAME = "MARS EXPRESS HRSC MAP PROJECTED REFDR V3.0"
DETECTOR_ID = MEX_HRSC_RED
EVENT_TYPE = "MARS-REGIONAL-MAPPING-Im-Fl"
INSTRUMENT_HOST_ID = MEX
INSTRUMENT_HOST_NAME = "MARS EXPRESS"
INSTRUMENT_ID = HRSC
INSTRUMENT_NAME = "HIGH RESOLUTION STEREO CAMERA"
MISSION_NAME = "MARS EXPRESS"
MISSION_PHASE_NAME = MR_Phase_8
PROCESSING_LEVEL_ID = 3
PRODUCT_CREATION_TIME = 2016-03-15T10:38:17.000Z
PRODUCT_ID = "H2392_0000_RE3.JP2"
RELEASE_ID = 0029
REVISION_ID = 0000
/* QUALITY DATA ELEMENTS */
DATA_QUALITY_ID = 1
DATA_QUALITY_DESC = "Data calculated based on original SPICE kernels"
/* TIME DATA ELEMENTS */
SPACECRAFT_CLOCK_START_COUNT = "1/0080827163.56176"
SPACECRAFT_CLOCK_STOP_COUNT = "1/0080827370.29825"
START_TIME = 2005-11-23T12:00:24.908Z
STOP_TIME = 2005-11-23T12:02:47.740Z
/* ORBITAL DATA ELEMENTS */
ASCENDING_NODE_LONGITUDE = 178.03
MAXIMUM_RESOLUTION = 56.1
FOOTPRINT_POINT_LATITUDE = (-45.3148,-45.3234,-45.3334,-45.3439, -45.3852,-45.1511,-44.9949,-44.8397, -44.6081,-44.3744,-44.2199,-44.0643, -43.9088,-43.7542,-43.522,-43.3671, -43.2128,-43.0589,-42.905,-42.674, -42.4433,-42.1735,-41.9911,-41.8093, -41.5357,-41.2633,-41.0818,-40.8088, -40.6295,-40.3604,-40.1805,-39.9991, -39.8203,-39.6413,-39.4622,-39.2838, -39.1052,-38.9267,-38.7486,-38.5707, -38.2978,-38.1159,-37.9342,-37.7532, -37.5687,-37.3831,-37.1974,-37.0123, -36.7666,-36.7639,-36.7609,-36.7583, -36.7524,-36.7462,-36.9307,-37.2075, -37.3922,-37.5776,-37.7609,-37.9416, -38.2138,-38.3953,-38.5757,-38.7532, -38.9309,-39.109,-39.2874,-39.466, -39.6445,-39.8234,-40.0022,-40.1817, -40.3611,-40.541,-40.7209,-40.9012, -41.0818,-41.3526,-41.5338,-41.7157, -41.8982,-42.081,-42.2636,-42.5125, -42.6654,-42.819,-43.0491,-43.2801, -43.4342,-43.6662,-43.8207,-43.9755, -44.1303,-44.2857,-44.5184,-44.6737, -44.8297,-44.9856,-45.2193,-45.3148)
FOOTPRINT_POINT_LONGITUDE = (166.774,167.077,167.457,167.898, 168.133,168.147,168.157,168.167,168.181 ,168.195,168.205,168.213,168.222, 168.231,168.244,168.253,168.261,168.27, 168.278,168.291,168.303,168.317,168.327 ,168.337,168.35,168.364,168.373,168.386 ,168.396,168.41,168.419,168.426,168.435 ,168.444,168.452,168.461,168.469, 168.477,168.485,168.493,168.505,168.513 ,168.521,168.529,168.537,168.545, 168.552,168.56,168.502,168.176,167.952, 167.678,167.248,166.904,166.724,166.72, 166.717,166.714,166.712,166.709,166.704 ,166.701,166.697,166.694,166.69,166.686 ,166.682,166.678,166.674,166.67,166.666 ,166.661,166.656,166.652,166.647, 166.642,166.636,166.628,166.623,166.617 ,166.61,166.604,166.597,166.588,166.582 ,166.576,166.568,166.558,166.552, 166.542,166.535,166.528,166.521,166.514 ,166.503,166.496,166.488,166.48,166.469 ,166.774)
ORBIT_NUMBER = 2392
ORBITAL_ECCENTRICITY = 0.572
ORBITAL_INCLINATION = 86.63
ORBITAL_SEMIMAJOR_AXIS = 8545.6
PERIAPSIS_ALTITUDE = 273.4
PERIAPSIS_ARGUMENT_ANGLE = 297.76
PERIAPSIS_TIME = 2005-11-23T11:55:48.000Z
SPACECRAFT_ORIENTATION = (0.0,-1.0,0.0)
^MEX_ORIENTATION_DESC = "MEX_ORIENTATION_DESC.TXT"
SPACECRAFT_POINTING_MODE = NADIR
^MEX_POINTING_DESC = "MEX_POINTING_DESC.TXT"
RIGHT_ASCENSION = -1e+32
DECLINATION = -1e+32
OFFSET_ANGLE = -1e+32
SPACECRAFT_SOLAR_DISTANCE = 2.21583e+08
TARGET_NAME = MARS
/* CAMERA DATA ELEMENTS */
DETECTOR_TEMPERATURE = 19.1861
FOCAL_PLANE_TEMPERATURE = 8.5833
INST_CMPRS_NAME = "DISCRETE COSINE TRANSFORMATION (DCT)"
INST_CMPRS_RATIO = 12.803
INST_CMPRS_QUALITY = 0
INST_CMPRS_QUANTZ_TBL_ID = 0
INSTRUMENT_TEMPERATURE = 11.6418
LENS_TEMPERATURE = 8.9911
MACROPIXEL_SIZE = 4
MISSING_FRAMES = 0
PIXEL_SUBSAMPLING_FLAG = N
SIGNAL_CHAIN_ID = 2
/* RADIOMETRIC DATA ELEMENTS */
BANDWIDTH = 48.0
CENTER_FILTER_WAVELENGTH = 748.0
RADIANCE_OFFSET = 1.58801
RADIANCE_SCALING_FACTOR = 0.00468391
REFLECTANCE_SCALING_FACTOR = 0.000524822
MEX:REFLECTANCE_OFFSET = 0.177932
/* IMAGE OBJECT DEFINITIONS */
OBJECT = IMAGE
  INTERCHANGE_FORMAT = BINARY
  LINES = 10257
  LINE_SAMPLES = 1899
  SAMPLE_TYPE = UNSIGNED_INTEGER
  SAMPLE_BITS = 8
  BANDS = 1
  BAND_STORAGE_TYPE = BAND_SEQUENTIAL
  MAXIMUM = 208
  MEAN = 166.224
  MINIMUM = 111
  STANDARD_DEVIATION = 16.5338
END_OBJECT = IMAGE
/* MAP OBJECT DEFINITIONS */
OBJECT = IMAGE_MAP_PROJECTION
  ^DATA_SET_MAP_PROJECTION_CATALOG= "DSMAP.CAT"
  A_AXIS_RADIUS = 3396.0
  B_AXIS_RADIUS = 3396.0
  C_AXIS_RADIUS = 3396.0
  CENTER_LATITUDE = 0.0
  CENTER_LONGITUDE = 167.0
  COORDINATE_SYSTEM_NAME = PLANETOGRAPHIC
  COORDINATE_SYSTEM_TYPE = "BODY-FIXED ROTATING"
  EASTERNMOST_LONGITUDE = 168.56
  FIRST_STANDARD_PARALLEL = "N/A"
  LINE_FIRST_PIXEL = 1
  LINE_LAST_PIXEL = 10257
  LINE_PROJECTION_OFFSET = -43606.625
  MAP_PROJECTION_ROTATION = 0.0
  MAP_PROJECTION_TYPE = SINUSOIDAL
  MAP_RESOLUTION = 1185.42760773333
  MAP_SCALE = 0.05
  MAXIMUM_LATITUDE = -36.7462
  MINIMUM_LATITUDE = -45.3852
  POSITIVE_LONGITUDE_DIRECTION = EAST
  REFERENCE_LATITUDE = "N/A"
  REFERENCE_LONGITUDE = "N/A"
  SAMPLE_FIRST_PIXEL = 1
  SAMPLE_LAST_PIXEL = 1899
  SAMPLE_PROJECTION_OFFSET = 439.625
  SECOND_STANDARD_PARALLEL = "N/A"
  WESTERNMOST_LONGITUDE = 166.469
END_OBJECT = IMAGE_MAP_PROJECTION
/* The JPEG2000 image data file associated with this label. */
OBJECT = COMPRESSED_FILE
  FILE_NAME = "H2392_0000_RE3.JP2"
  RECORD_TYPE = UNDEFINED
  FILE_RECORDS = UNK
  ENCODING_TYPE = "JP2"
  INTERCHANGE_FORMAT = BINARY
  UNCOMPRESSED_FILE_NAME = "H2392_0000_RE3.IMG"
  REQUIRED_STORAGE_BYTES = "19497033"
  ^DESCRIPTION = "JP2INFO.TXT"
END_OBJECT = COMPRESSED_FILE
END
