PDS_VERSION_ID = PDS3
/* FILE DATA ELEMENTS */
RECORD_TYPE = STREAM
/* POINTERS TO DATA OBJECTS */
^COMPRESSED_FILE = "H2398_0000_BL3.JP2"
/* IDENTIFICATION DATA ELEMENTS */
DATA_SET_ID = "MEX-M-HRSC-5-REFDR-MAPPROJECTED-V3.0"
DATA_SET_NAME = "MARS EXPRESS HRSC MAP PROJECTED REFDR V3.0"
DETECTOR_ID = MEX_HRSC_BLUE
EVENT_TYPE = "MARS-REGIONAL-MAPPING-Im-Gl-Pf"
INSTRUMENT_HOST_ID = MEX
INSTRUMENT_HOST_NAME = "MARS EXPRESS"
INSTRUMENT_ID = HRSC
INSTRUMENT_NAME = "HIGH RESOLUTION STEREO CAMERA"
MISSION_NAME = "MARS EXPRESS"
MISSION_PHASE_NAME = MR_Phase_8
PROCESSING_LEVEL_ID = 3
PRODUCT_CREATION_TIME = 2016-03-15T10:38:17.000Z
PRODUCT_ID = "H2398_0000_BL3.JP2"
RELEASE_ID = 0029
REVISION_ID = 0000
/* QUALITY DATA ELEMENTS */
DATA_QUALITY_ID = 1
DATA_QUALITY_DESC = "Data calculated based on original SPICE kernels"
/* TIME DATA ELEMENTS */
SPACECRAFT_CLOCK_START_COUNT = "1/0080971846.57170"
SPACECRAFT_CLOCK_STOP_COUNT = "1/0080972084.55630"
START_TIME = 2005-11-25T04:12:24.733Z
STOP_TIME = 2005-11-25T04:14:29.149Z
/* ORBITAL DATA ELEMENTS */
ASCENDING_NODE_LONGITUDE = 177.91
MAXIMUM_RESOLUTION = 43.5
FOOTPRINT_POINT_LATITUDE = (-66.9045,-66.9357,-66.9505,-66.9646, -66.9781,-66.9259,-66.7597,-66.5935, -66.4274,-66.2611,-66.0947,-65.9279, -65.7615,-65.5949,-65.4288,-65.1797, -65.0134,-64.8473,-64.5983,-64.4322, -64.266,-64.0998,-63.9334,-63.6842, -63.5179,-63.3517,-63.1855,-63.0192, -62.77,-62.6038,-62.4378,-62.2716, -62.0224,-61.856,-61.6901,-61.4409, -61.2748,-61.0256,-60.8599,-60.6939, -60.5276,-60.3616,-60.1958,-59.9469, -59.7812,-59.5325,-59.3667,-59.201, -59.0353,-58.7868,-58.6492,-58.6403, -58.624,-58.6121,-58.5912,-58.7564, -58.9216,-59.0867,-59.2519,-59.4172, -59.5826,-59.7482,-59.9958,-60.1611, -60.4093,-60.5748,-60.7403,-60.9059, -61.0714,-61.2369,-61.4023,-61.5679, -61.7334,-61.9817,-62.1474,-62.3953, -62.5609,-62.8092,-62.9748,-63.1404, -63.3887,-63.5541,-63.7197,-63.9681, -64.1336,-64.3818,-64.63,-64.7955, -64.9607,-65.1263,-65.2919,-65.4574, -65.7056,-65.9537,-66.1191,-66.2842, -66.4494,-66.6146,-66.7798,-66.9045)
FOOTPRINT_POINT_LONGITUDE = (296.049,296.746,297.101,297.461, 297.827,298.293,298.322,298.35,298.378, 298.404,298.429,298.452,298.476,298.499 ,298.525,298.565,298.589,298.615, 298.654,298.678,298.701,298.724,298.746 ,298.779,298.801,298.822,298.843, 298.863,298.895,298.914,298.936,298.954 ,298.983,299.0,299.02,299.047,299.064, 299.089,299.108,299.125,299.14,299.156, 299.173,299.197,299.213,299.237,299.251 ,299.267,299.282,299.304,298.966, 298.693,298.245,297.93,297.409,297.388, 297.366,297.343,297.321,297.298,297.275 ,297.251,297.214,297.189,297.152, 297.126,297.1,297.074,297.047,297.02, 296.992,296.964,296.935,296.891,296.862 ,296.815,296.784,296.736,296.704, 296.671,296.621,296.586,296.551,296.498 ,296.462,296.406,296.349,296.31,296.27, 296.231,296.19,296.149,296.086,296.021, 295.977,295.932,295.886,295.839,295.792 ,296.049)
ORBIT_NUMBER = 2398
ORBITAL_ECCENTRICITY = 0.572
ORBITAL_INCLINATION = 86.62
ORBITAL_SEMIMAJOR_AXIS = 8543.09
PERIAPSIS_ALTITUDE = 273.24
PERIAPSIS_ARGUMENT_ANGLE = 296.72
PERIAPSIS_TIME = 2005-11-25T04:13:17.000Z
SPACECRAFT_ORIENTATION = (0.0,-1.0,0.0)
^MEX_ORIENTATION_DESC = "MEX_ORIENTATION_DESC.TXT"
SPACECRAFT_POINTING_MODE = ACROSSTRACK
^MEX_POINTING_DESC = "MEX_POINTING_DESC.TXT"
RIGHT_ASCENSION = -1e+32
DECLINATION = -1e+32
OFFSET_ANGLE = -0.8
SPACECRAFT_SOLAR_DISTANCE = 2.21905e+08
TARGET_NAME = MARS
/* CAMERA DATA ELEMENTS */
DETECTOR_TEMPERATURE = 17.9627
FOCAL_PLANE_TEMPERATURE = 7.9716
INST_CMPRS_NAME = "DISCRETE COSINE TRANSFORMATION (DCT)"
INST_CMPRS_RATIO = 7.22664
INST_CMPRS_QUALITY = 0
INST_CMPRS_QUANTZ_TBL_ID = 0
INSTRUMENT_TEMPERATURE = 11.0301
LENS_TEMPERATURE = 8.5833
MACROPIXEL_SIZE = 4
MISSING_FRAMES = 0
PIXEL_SUBSAMPLING_FLAG = N
SIGNAL_CHAIN_ID = 2
/* RADIOMETRIC DATA ELEMENTS */
BANDWIDTH = 76.0
CENTER_FILTER_WAVELENGTH = 444.0
RADIANCE_OFFSET = 0.666533
RADIANCE_SCALING_FACTOR = 0.00119398
REFLECTANCE_SCALING_FACTOR = 6.04071e-05
MEX:REFLECTANCE_OFFSET = 0.0337218
/* IMAGE OBJECT DEFINITIONS */
OBJECT = IMAGE
  INTERCHANGE_FORMAT = BINARY
  LINES = 9590
  LINE_SAMPLES = 1878
  SAMPLE_TYPE = UNSIGNED_INTEGER
  SAMPLE_BITS = 8
  BANDS = 1
  BAND_STORAGE_TYPE = BAND_SEQUENTIAL
  MAXIMUM = 132
  MEAN = 100.763
  MINIMUM = 77
  STANDARD_DEVIATION = 6.07132
END_OBJECT = IMAGE
/* MAP OBJECT DEFINITIONS */
OBJECT = IMAGE_MAP_PROJECTION
  ^DATA_SET_MAP_PROJECTION_CATALOG= "DSMAP.CAT"
  A_AXIS_RADIUS = 3396.0
  B_AXIS_RADIUS = 3396.0
  C_AXIS_RADIUS = 3396.0
  CENTER_LATITUDE = 0.0
  CENTER_LONGITUDE = 298.0
  COORDINATE_SYSTEM_NAME = PLANETOGRAPHIC
  COORDINATE_SYSTEM_TYPE = "BODY-FIXED ROTATING"
  EASTERNMOST_LONGITUDE = 299.304
  FIRST_STANDARD_PARALLEL = "N/A"
  LINE_FIRST_PIXEL = 1
  LINE_LAST_PIXEL = 9590
  LINE_PROJECTION_OFFSET = -69457.875
  MAP_PROJECTION_ROTATION = 0.0
  MAP_PROJECTION_TYPE = SINUSOIDAL
  MAP_RESOLUTION = 1185.42760773333
  MAP_SCALE = 0.05
  MAXIMUM_LATITUDE = -58.5912
  MINIMUM_LATITUDE = -66.9781
  POSITIVE_LONGITUDE_DIRECTION = EAST
  REFERENCE_LATITUDE = "N/A"
  REFERENCE_LONGITUDE = "N/A"
  SAMPLE_FIRST_PIXEL = 1
  SAMPLE_LAST_PIXEL = 1878
  SAMPLE_PROJECTION_OFFSET = 1039.125
  SECOND_STANDARD_PARALLEL = "N/A"
  WESTERNMOST_LONGITUDE = 295.792
END_OBJECT = IMAGE_MAP_PROJECTION
/* The JPEG2000 image data file associated with this label. */
OBJECT = COMPRESSED_FILE
  FILE_NAME = "H2398_0000_BL3.JP2"
  RECORD_TYPE = UNDEFINED
  FILE_RECORDS = UNK
  ENCODING_TYPE = "JP2"
  INTERCHANGE_FORMAT = BINARY
  UNCOMPRESSED_FILE_NAME = "H2398_0000_BL3.IMG"
  REQUIRED_STORAGE_BYTES = "18030678"
  ^DESCRIPTION = "JP2INFO.TXT"
END_OBJECT = COMPRESSED_FILE
END
