PDS_VERSION_ID = PDS3
/* FILE DATA ELEMENTS */
RECORD_TYPE = STREAM
/* POINTERS TO DATA OBJECTS */
^COMPRESSED_FILE = "H2400_0000_S13.JP2"
/* IDENTIFICATION DATA ELEMENTS */
DATA_SET_ID = "MEX-M-HRSC-5-REFDR-MAPPROJECTED-V3.0"
DATA_SET_NAME = "MARS EXPRESS HRSC MAP PROJECTED REFDR V3.0"
DETECTOR_ID = MEX_HRSC_S1
EVENT_TYPE = "MARS-REGIONAL-MAPPING-Im"
INSTRUMENT_HOST_ID = MEX
INSTRUMENT_HOST_NAME = "MARS EXPRESS"
INSTRUMENT_ID = HRSC
INSTRUMENT_NAME = "HIGH RESOLUTION STEREO CAMERA"
MISSION_NAME = "MARS EXPRESS"
MISSION_PHASE_NAME = MR_Phase_8
PROCESSING_LEVEL_ID = 3
PRODUCT_CREATION_TIME = 2016-03-15T10:38:17.000Z
PRODUCT_ID = "H2400_0000_S13.JP2"
RELEASE_ID = 0029
REVISION_ID = 0000
/* QUALITY DATA ELEMENTS */
DATA_QUALITY_ID = 1
DATA_QUALITY_DESC = "Data calculated based on original SPICE kernels"
/* TIME DATA ELEMENTS */
SPACECRAFT_CLOCK_START_COUNT = "1/0081020134.57146"
SPACECRAFT_CLOCK_STOP_COUNT = "1/0081020425.64595"
START_TIME = 2005-11-25T17:35:41.778Z
STOP_TIME = 2005-11-25T17:39:43.048Z
/* ORBITAL DATA ELEMENTS */
ASCENDING_NODE_LONGITUDE = 177.87
MAXIMUM_RESOLUTION = 22.7
FOOTPRINT_POINT_LATITUDE = (-75.2405,-75.3041,-75.3609,-75.3975, -75.1503,-74.8148,-74.6461,-74.4772, -74.3086,-74.1401,-73.9718,-73.6387, -73.3125,-72.9857,-72.4928,-72.1586, -71.8373,-71.3537,-71.0395,-70.7199, -70.3996,-69.9198,-69.5994,-69.2792, -68.7996,-68.4906,-68.0229,-67.5606, -67.0941,-66.7824,-66.3136,-66.0005, -65.5317,-65.059,-64.7439,-64.4294, -64.1158,-63.8139,-63.5036,-63.1979, -62.8942,-62.5902,-62.1315,-61.6796, -61.3751,-60.9152,-60.4592,-60.1539, -59.8473,-59.5339,-59.496,-59.4831, -59.4716,-59.4581,-59.7596,-60.0634, -60.3684,-60.6728,-60.9743,-61.2821, -61.7392,-62.0437,-62.4934,-62.9551, -63.2593,-63.5495,-63.8485,-64.3211, -64.6345,-64.9464,-65.2595,-65.5717, -66.0378,-66.3484,-66.6595,-67.1118, -67.428,-67.7396,-68.046,-68.3534, -68.6634,-68.978,-69.4465,-69.9277, -70.2437,-70.5598,-70.878,-71.185, -71.5022,-71.9872,-72.3113,-72.7949, -73.1168,-73.4381,-73.7653,-74.0939, -74.4257,-74.7562,-75.0831,-75.2405)
FOOTPRINT_POINT_LONGITUDE = (93.5494,94.782,96.0334,96.9457,97.2731 ,97.4692,97.5656,97.66,97.7513,97.8398, 97.9257,98.0895,98.2445,98.3935,98.6096 ,98.7571,98.8716,99.0533,99.1608, 99.2736,99.3833,99.5381,99.6371,99.7318 ,99.8695,99.9537,100.081,100.193, 100.305,100.378,100.484,100.552,100.649 ,100.747,100.809,100.869,100.925, 100.977,101.04,101.095,101.146,101.195, 101.267,101.331,101.376,101.441,101.502 ,101.543,101.584,101.631,101.268, 100.703,100.27,99.7645,99.7096,99.6533, 99.5957,99.5364,99.4747,99.4124,99.3156 ,99.2488,99.1449,99.0365,98.962,98.885, 98.8062,98.681,98.593,98.5023,98.4091, 98.313,98.1634,98.0599,97.9533,97.7873, 97.6722,97.5535,97.4312,97.305,97.1746, 97.0364,96.8182,96.5878,96.4278,96.2621 ,96.0903,95.9134,95.7285,95.4285, 95.2186,94.8882,94.6569,94.4162,94.16, 93.8894,93.6059,93.3099,93.0011, 93.5494)
ORBIT_NUMBER = 2400
ORBITAL_ECCENTRICITY = 0.573
ORBITAL_INCLINATION = 86.63
ORBITAL_SEMIMAJOR_AXIS = 8545.81
PERIAPSIS_ALTITUDE = 272.41
PERIAPSIS_ARGUMENT_ANGLE = 296.34
PERIAPSIS_TIME = 2005-11-25T17:39:06.000Z
SPACECRAFT_ORIENTATION = (0.0,-1.0,0.0)
^MEX_ORIENTATION_DESC = "MEX_ORIENTATION_DESC.TXT"
SPACECRAFT_POINTING_MODE = ACROSSTRACK
^MEX_POINTING_DESC = "MEX_POINTING_DESC.TXT"
RIGHT_ASCENSION = -1e+32
DECLINATION = -1e+32
OFFSET_ANGLE = -0.25
SPACECRAFT_SOLAR_DISTANCE = 2.22013e+08
TARGET_NAME = MARS
/* CAMERA DATA ELEMENTS */
DETECTOR_TEMPERATURE = 17.9627
FOCAL_PLANE_TEMPERATURE = 8.3794
INST_CMPRS_NAME = "DISCRETE COSINE TRANSFORMATION (DCT)"
INST_CMPRS_RATIO = 10.144
INST_CMPRS_QUALITY = 0
INST_CMPRS_QUANTZ_TBL_ID = 0
INSTRUMENT_TEMPERATURE = 11.234
LENS_TEMPERATURE = 7.9716
MACROPIXEL_SIZE = 2
MISSING_FRAMES = 1
PIXEL_SUBSAMPLING_FLAG = N
SIGNAL_CHAIN_ID = 1
/* RADIOMETRIC DATA ELEMENTS */
BANDWIDTH = 180.0
CENTER_FILTER_WAVELENGTH = 677.0
RADIANCE_OFFSET = 3.84065
RADIANCE_SCALING_FACTOR = 0.0130339
REFLECTANCE_SCALING_FACTOR = 0.000335172
MEX:REFLECTANCE_OFFSET = 0.0987641
/* IMAGE OBJECT DEFINITIONS */
OBJECT = IMAGE
  INTERCHANGE_FORMAT = BINARY
  LINES = 37579
  LINE_SAMPLES = 6822
  SAMPLE_TYPE = UNSIGNED_INTEGER
  SAMPLE_BITS = 8
  BANDS = 1
  BAND_STORAGE_TYPE = BAND_SEQUENTIAL
  MAXIMUM = 102
  MEAN = 77.6204
  MINIMUM = 48
  STANDARD_DEVIATION = 6.97284
END_OBJECT = IMAGE
/* MAP OBJECT DEFINITIONS */
OBJECT = IMAGE_MAP_PROJECTION
  ^DATA_SET_MAP_PROJECTION_CATALOG= "DSMAP.CAT"
  A_AXIS_RADIUS = 3396.0
  B_AXIS_RADIUS = 3396.0
  C_AXIS_RADIUS = 3396.0
  CENTER_LATITUDE = 0.0
  CENTER_LONGITUDE = 99.0
  COORDINATE_SYSTEM_NAME = PLANETOGRAPHIC
  COORDINATE_SYSTEM_TYPE = "BODY-FIXED ROTATING"
  EASTERNMOST_LONGITUDE = 101.631
  FIRST_STANDARD_PARALLEL = "N/A"
  LINE_FIRST_PIXEL = 1
  LINE_LAST_PIXEL = 37579
  LINE_PROJECTION_OFFSET = -140904.25
  MAP_PROJECTION_ROTATION = 0.0
  MAP_PROJECTION_TYPE = SINUSOIDAL
  MAP_RESOLUTION = 2370.85521546667
  MAP_SCALE = 0.025
  MAXIMUM_LATITUDE = -59.4581
  MINIMUM_LATITUDE = -75.39749999999999
  POSITIVE_LONGITUDE_DIRECTION = EAST
  REFERENCE_LATITUDE = "N/A"
  REFERENCE_LONGITUDE = "N/A"
  SAMPLE_FIRST_PIXEL = 1
  SAMPLE_LAST_PIXEL = 6822
  SAMPLE_PROJECTION_OFFSET = 3606.25
  SECOND_STANDARD_PARALLEL = "N/A"
  WESTERNMOST_LONGITUDE = 93.00109999999999
END_OBJECT = IMAGE_MAP_PROJECTION
/* The JPEG2000 image data file associated with this label. */
OBJECT = COMPRESSED_FILE
  FILE_NAME = "H2400_0000_S13.JP2"
  RECORD_TYPE = UNDEFINED
  FILE_RECORDS = UNK
  ENCODING_TYPE = "JP2"
  INTERCHANGE_FORMAT = BINARY
  UNCOMPRESSED_FILE_NAME = "H2400_0000_S13.IMG"
  REQUIRED_STORAGE_BYTES = "256398048"
  ^DESCRIPTION = "JP2INFO.TXT"
END_OBJECT = COMPRESSED_FILE
END
