PDS_VERSION_ID = PDS3
/* FILE DATA ELEMENTS */
RECORD_TYPE = STREAM
/* POINTERS TO DATA OBJECTS */
^COMPRESSED_FILE = "H2402_0001_ND3.JP2"
/* IDENTIFICATION DATA ELEMENTS */
DATA_SET_ID = "MEX-M-HRSC-5-REFDR-MAPPROJECTED-V3.0"
DATA_SET_NAME = "MARS EXPRESS HRSC MAP PROJECTED REFDR V3.0"
DETECTOR_ID = MEX_HRSC_NADIR
EVENT_TYPE = "MARS-REGIONAL-STEREO-Te-Mw-La"
INSTRUMENT_HOST_ID = MEX
INSTRUMENT_HOST_NAME = "MARS EXPRESS"
INSTRUMENT_ID = HRSC
INSTRUMENT_NAME = "HIGH RESOLUTION STEREO CAMERA"
MISSION_NAME = "MARS EXPRESS"
MISSION_PHASE_NAME = MR_Phase_8
PROCESSING_LEVEL_ID = 3
PRODUCT_CREATION_TIME = 2016-04-06T10:39:59.000Z
PRODUCT_ID = "H2402_0001_ND3.JP2"
RELEASE_ID = 0030
REVISION_ID = 0000
/* QUALITY DATA ELEMENTS */
DATA_QUALITY_ID = 1
DATA_QUALITY_DESC = "Data calculated based on original SPICE kernels"
/* TIME DATA ELEMENTS */
SPACECRAFT_CLOCK_START_COUNT = "1/0081069416.57977"
SPACECRAFT_CLOCK_STOP_COUNT = "1/0081070034.06412"
START_TIME = 2005-11-26T07:18:21.653Z
STOP_TIME = 2005-11-26T07:23:29.648Z
/* ORBITAL DATA ELEMENTS */
ASCENDING_NODE_LONGITUDE = 177.83
MAXIMUM_RESOLUTION = 31.3
FOOTPRINT_POINT_LATITUDE = (-14.7177,-14.7125,-14.7066,-14.698, -14.6871,-14.6788,-14.2066,-13.8932, -13.5808,-13.2696,-12.9595,-12.6504, -12.3425,-12.0356,-11.7299,-11.4252, -11.1216,-10.8191,-10.5176,-10.2173, -9.91803,-9.61985,-9.32279,-9.02678, -8.73185,-8.43797,-8.14513,-7.85341, -7.56273,-7.2731,-6.98453,-6.69703, -6.41059,-6.1252,-5.84085,-5.55754, -5.2753,-4.99408,-4.71386,-4.15662, -3.60354,-3.05457,-2.50969,-1.96886, -1.43207,-0.899295,-0.370503,-0.228629, -0.243548,-0.255429,-0.274731,-0.295512 ,-0.307325,-0.320736,-0.341451, -0.351899,-0.363794,-0.63151,-1.15597, -1.68446,-2.21704,-2.75377,-3.29465, -3.8397,-4.38893,-4.94238,-5.22071, -5.50044,-5.78118,-6.06257,-6.3448, -6.62866,-6.91326,-7.19947,-7.48635, -7.77403,-8.06301,-8.35309,-8.64413, -8.93653,-9.22991,-9.52457,-9.8199, -10.1165,-10.4142,-10.7131,-11.0131, -11.3142,-11.6164,-11.9197,-12.2241, -12.5296,-12.8364,-13.144,-13.4528, -13.7628,-14.0738,-14.3861,-14.6994, -14.7177)
FOOTPRINT_POINT_LONGITUDE = (264.654,265.076,265.497,266.031, 266.621,266.989,266.997,267.003,267.009 ,267.014,267.02,267.026,267.031,267.037 ,267.042,267.048,267.054,267.059, 267.065,267.07,267.076,267.081,267.091, 267.099,267.108,267.113,267.117,267.126 ,267.132,267.137,267.142,267.149, 267.155,267.16,267.166,267.17,267.177, 267.18,267.178,267.185,267.197,267.208, 267.22,267.231,267.242,267.254,267.265, 267.023,266.613,266.285,265.755,265.184 ,264.857,264.49,263.918,263.632,263.305 ,263.146,263.195,263.244,263.293,263.34 ,263.387,263.433,263.479,263.524, 263.545,263.562,263.579,263.603,263.63, 263.647,263.67,263.685,263.706,263.731, 263.752,263.773,263.796,263.814,263.834 ,263.851,263.874,263.895,263.915, 263.934,263.952,263.97,263.989,264.007, 264.025,264.042,264.057,264.077,264.094 ,264.111,264.127,264.143,264.159, 264.654)
ORBIT_NUMBER = 2402
ORBITAL_ECCENTRICITY = 0.572
ORBITAL_INCLINATION = 86.63
ORBITAL_SEMIMAJOR_AXIS = 8542.83
PERIAPSIS_ALTITUDE = 272.66
PERIAPSIS_ARGUMENT_ANGLE = 295.99
PERIAPSIS_TIME = 2005-11-26T07:04:58.000Z
SPACECRAFT_ORIENTATION = (0.0,-1.0,0.0)
^MEX_ORIENTATION_DESC = "MEX_ORIENTATION_DESC.TXT"
SPACECRAFT_POINTING_MODE = NADIR
^MEX_POINTING_DESC = "MEX_POINTING_DESC.TXT"
RIGHT_ASCENSION = -1e+32
DECLINATION = -1e+32
OFFSET_ANGLE = -1e+32
SPACECRAFT_SOLAR_DISTANCE = 2.2212e+08
TARGET_NAME = MARS
/* CAMERA DATA ELEMENTS */
DETECTOR_TEMPERATURE = 20.4095
FOCAL_PLANE_TEMPERATURE = 8.7872
INST_CMPRS_NAME = "DISCRETE COSINE TRANSFORMATION (DCT)"
INST_CMPRS_RATIO = 6.81588
INST_CMPRS_QUALITY = 0
INST_CMPRS_QUANTZ_TBL_ID = 0
INSTRUMENT_TEMPERATURE = 14.2925
LENS_TEMPERATURE = 9.3989
MACROPIXEL_SIZE = 1
MISSING_FRAMES = 0
PIXEL_SUBSAMPLING_FLAG = N
SIGNAL_CHAIN_ID = 0
/* RADIOMETRIC DATA ELEMENTS */
BANDWIDTH = 177.0
CENTER_FILTER_WAVELENGTH = 677.5
RADIANCE_OFFSET = 4.8775
RADIANCE_SCALING_FACTOR = 0.0434953
REFLECTANCE_SCALING_FACTOR = 0.00114001
MEX:REFLECTANCE_OFFSET = 0.127839
/* IMAGE OBJECT DEFINITIONS */
OBJECT = IMAGE
  INTERCHANGE_FORMAT = BINARY
  LINES = 34385
  LINE_SAMPLES = 10087
  SAMPLE_TYPE = UNSIGNED_INTEGER
  SAMPLE_BITS = 8
  BANDS = 1
  BAND_STORAGE_TYPE = BAND_SEQUENTIAL
  MAXIMUM = 255
  MEAN = 165.204
  MINIMUM = 1
  STANDARD_DEVIATION = 36.8473
END_OBJECT = IMAGE
/* MAP OBJECT DEFINITIONS */
OBJECT = IMAGE_MAP_PROJECTION
  ^DATA_SET_MAP_PROJECTION_CATALOG= "DSMAP.CAT"
  A_AXIS_RADIUS = 3396.0
  B_AXIS_RADIUS = 3396.0
  C_AXIS_RADIUS = 3396.0
  CENTER_LATITUDE = 0.0
  CENTER_LONGITUDE = 265.0
  COORDINATE_SYSTEM_NAME = PLANETOGRAPHIC
  COORDINATE_SYSTEM_TYPE = "BODY-FIXED ROTATING"
  EASTERNMOST_LONGITUDE = 267.265
  FIRST_STANDARD_PARALLEL = "N/A"
  LINE_FIRST_PIXEL = 1
  LINE_LAST_PIXEL = 34385
  LINE_PROJECTION_OFFSET = -522.0
  MAP_PROJECTION_ROTATION = 0.0
  MAP_PROJECTION_TYPE = SINUSOIDAL
  MAP_RESOLUTION = 2370.85521546667
  MAP_SCALE = 0.025
  MAXIMUM_LATITUDE = -0.228629
  MINIMUM_LATITUDE = -14.7177
  POSITIVE_LONGITUDE_DIRECTION = EAST
  REFERENCE_LATITUDE = "N/A"
  REFERENCE_LONGITUDE = "N/A"
  SAMPLE_FIRST_PIXEL = 1
  SAMPLE_LAST_PIXEL = 10087
  SAMPLE_PROJECTION_OFFSET = 4575.0
  SECOND_STANDARD_PARALLEL = "N/A"
  WESTERNMOST_LONGITUDE = 263.146
END_OBJECT = IMAGE_MAP_PROJECTION
/* The JPEG2000 image data file associated with this label. */
OBJECT = COMPRESSED_FILE
  FILE_NAME = "H2402_0001_ND3.JP2"
  RECORD_TYPE = UNDEFINED
  FILE_RECORDS = UNK
  ENCODING_TYPE = "JP2"
  INTERCHANGE_FORMAT = BINARY
  UNCOMPRESSED_FILE_NAME = "H2402_0001_ND3.IMG"
  REQUIRED_STORAGE_BYTES = "346871756"
  ^DESCRIPTION = "JP2INFO.TXT"
END_OBJECT = COMPRESSED_FILE
END
