PDS_VERSION_ID = PDS3
/* FILE DATA ELEMENTS */
RECORD_TYPE = STREAM
/* POINTERS TO DATA OBJECTS */
^COMPRESSED_FILE = "H2403_0000_P13.JP2"
/* IDENTIFICATION DATA ELEMENTS */
DATA_SET_ID = "MEX-M-HRSC-5-REFDR-MAPPROJECTED-V3.0"
DATA_SET_NAME = "MARS EXPRESS HRSC MAP PROJECTED REFDR V3.0"
DETECTOR_ID = MEX_HRSC_P1
EVENT_TYPE = "MARS-REGIONAL-MAPPING-Gl-Pf-Eo"
INSTRUMENT_HOST_ID = MEX
INSTRUMENT_HOST_NAME = "MARS EXPRESS"
INSTRUMENT_ID = HRSC
INSTRUMENT_NAME = "HIGH RESOLUTION STEREO CAMERA"
MISSION_NAME = "MARS EXPRESS"
MISSION_PHASE_NAME = MR_Phase_8
PROCESSING_LEVEL_ID = 3
PRODUCT_CREATION_TIME = 2016-04-06T10:39:59.000Z
PRODUCT_ID = "H2403_0000_P13.JP2"
RELEASE_ID = 0030
REVISION_ID = 0000
/* QUALITY DATA ELEMENTS */
DATA_QUALITY_ID = 1
DATA_QUALITY_DESC = "Data calculated based on original SPICE kernels"
/* TIME DATA ELEMENTS */
SPACECRAFT_CLOCK_START_COUNT = "1/0081092664.57950"
SPACECRAFT_CLOCK_STOP_COUNT = "1/0081092801.49549"
START_TIME = 2005-11-26T13:44:41.649Z
STOP_TIME = 2005-11-26T13:46:05.326Z
/* ORBITAL DATA ELEMENTS */
ASCENDING_NODE_LONGITUDE = 177.8
MAXIMUM_RESOLUTION = 46.6
FOOTPRINT_POINT_LATITUDE = (-75.4378,-75.4639,-75.4887,-75.5122, -75.5342,-75.5547,-75.5737,-75.535, -75.4246,-75.2587,-75.148,-74.9816, -74.8707,-74.7043,-74.5372,-74.4253, -74.3144,-74.2029,-74.0915,-73.9814, -73.8737,-73.7659,-73.6583,-73.551, -73.4434,-73.3362,-73.2281,-73.0665, -72.958,-72.8497,-72.6872,-72.5792, -72.4716,-72.3638,-72.201,-72.0375, -71.9287,-71.7656,-71.553,-71.3962, -71.1869,-71.0297,-70.8727,-70.7679, -70.6629,-70.558,-70.4529,-70.3479, -70.2428,-70.0865,-70.0752,-70.0673, -70.0586,-70.0492,-70.0307,-70.0183, -70.0551,-70.2113,-70.4193,-70.575, -70.7308,-70.8347,-70.9386,-71.0424, -71.2496,-71.3535,-71.4576,-71.5613, -71.6683,-71.7755,-71.9364,-72.0437, -72.1507,-72.2573,-72.4172,-72.5239, -72.6308,-72.7379,-72.8448,-72.9511, -73.1112,-73.218,-73.3239,-73.4846, -73.5922,-73.6982,-73.8039,-73.9656, -74.0756,-74.2398,-74.3493,-74.4586, -74.6226,-74.7315,-74.8407,-74.9499, -75.0589,-75.1675,-75.3302,-75.4378)
FOOTPRINT_POINT_LONGITUDE = (159.84,160.43,161.027,161.633,162.246, 162.866,163.496,164.232,164.287,164.368 ,164.422,164.502,164.554,164.63,164.707 ,164.76,164.806,164.854,164.901,164.949 ,164.993,165.038,165.081,165.121, 165.162,165.2,165.242,165.301,165.342, 165.382,165.441,165.478,165.512,165.546 ,165.602,165.659,165.695,165.748, 165.813,165.86,165.921,165.966,166.009, 166.038,166.067,166.096,166.124,166.152 ,166.18,166.22,165.679,165.339,165.003, 164.671,164.067,163.688,163.229,163.16, 163.067,162.996,162.924,162.874,162.824 ,162.774,162.672,162.619,162.565, 162.511,162.455,162.399,162.312,162.253 ,162.193,162.133,162.042,161.98,161.916 ,161.852,161.786,161.721,161.62,161.552 ,161.483,161.376,161.303,161.231, 161.158,161.043,160.964,160.844,160.762 ,160.679,160.553,160.467,160.379,160.29 ,160.2,160.109,159.97,159.84)
ORBIT_NUMBER = 2403
ORBITAL_ECCENTRICITY = 0.572
ORBITAL_INCLINATION = 86.63
ORBITAL_SEMIMAJOR_AXIS = 8543.25
PERIAPSIS_ALTITUDE = 273.64
PERIAPSIS_ARGUMENT_ANGLE = 295.84
PERIAPSIS_TIME = 2005-11-26T13:47:52.000Z
SPACECRAFT_ORIENTATION = (0.0,-1.0,0.0)
^MEX_ORIENTATION_DESC = "MEX_ORIENTATION_DESC.TXT"
SPACECRAFT_POINTING_MODE = ACROSSTRACK
^MEX_POINTING_DESC = "MEX_POINTING_DESC.TXT"
RIGHT_ASCENSION = -1e+32
DECLINATION = -1e+32
OFFSET_ANGLE = -0.68
SPACECRAFT_SOLAR_DISTANCE = 2.22174e+08
TARGET_NAME = MARS
/* CAMERA DATA ELEMENTS */
DETECTOR_TEMPERATURE = 18.7783
FOCAL_PLANE_TEMPERATURE = 8.5833
INST_CMPRS_NAME = "DISCRETE COSINE TRANSFORMATION (DCT)"
INST_CMPRS_RATIO = 15.3972
INST_CMPRS_QUALITY = 0
INST_CMPRS_QUANTZ_TBL_ID = 0
INSTRUMENT_TEMPERATURE = 12.0496
LENS_TEMPERATURE = 8.7872
MACROPIXEL_SIZE = 4
MISSING_FRAMES = 0
PIXEL_SUBSAMPLING_FLAG = N
SIGNAL_CHAIN_ID = 3
/* RADIOMETRIC DATA ELEMENTS */
BANDWIDTH = 174.0
CENTER_FILTER_WAVELENGTH = 675.0
RADIANCE_OFFSET = 3.6014
RADIANCE_SCALING_FACTOR = 0.0119778
REFLECTANCE_SCALING_FACTOR = 0.000318016
MEX:REFLECTANCE_OFFSET = 0.0956184
/* IMAGE OBJECT DEFINITIONS */
OBJECT = IMAGE
  INTERCHANGE_FORMAT = BINARY
  LINES = 6581
  LINE_SAMPLES = 2068
  SAMPLE_TYPE = UNSIGNED_INTEGER
  SAMPLE_BITS = 8
  BANDS = 1
  BAND_STORAGE_TYPE = BAND_SEQUENTIAL
  MAXIMUM = 255
  MEAN = 114.209
  MINIMUM = 1
  STANDARD_DEVIATION = 48.3988
END_OBJECT = IMAGE
/* MAP OBJECT DEFINITIONS */
OBJECT = IMAGE_MAP_PROJECTION
  ^DATA_SET_MAP_PROJECTION_CATALOG= "DSMAP.CAT"
  A_AXIS_RADIUS = 3396.0
  B_AXIS_RADIUS = 3396.0
  C_AXIS_RADIUS = 3396.0
  CENTER_LATITUDE = 0.0
  CENTER_LONGITUDE = 164.0
  COORDINATE_SYSTEM_NAME = PLANETOGRAPHIC
  COORDINATE_SYSTEM_TYPE = "BODY-FIXED ROTATING"
  EASTERNMOST_LONGITUDE = 166.22
  FIRST_STANDARD_PARALLEL = "N/A"
  LINE_FIRST_PIXEL = 1
  LINE_LAST_PIXEL = 6581
  LINE_PROJECTION_OFFSET = -82961.375
  MAP_PROJECTION_ROTATION = 0.0
  MAP_PROJECTION_TYPE = SINUSOIDAL
  MAP_RESOLUTION = 1185.42760773333
  MAP_SCALE = 0.05
  MAXIMUM_LATITUDE = -70.0183
  MINIMUM_LATITUDE = -75.5737
  POSITIVE_LONGITUDE_DIRECTION = EAST
  REFERENCE_LATITUDE = "N/A"
  REFERENCE_LONGITUDE = "N/A"
  SAMPLE_FIRST_PIXEL = 1
  SAMPLE_LAST_PIXEL = 2068
  SAMPLE_PROJECTION_OFFSET = 1214.625
  SECOND_STANDARD_PARALLEL = "N/A"
  WESTERNMOST_LONGITUDE = 159.84
END_OBJECT = IMAGE_MAP_PROJECTION
/* The JPEG2000 image data file associated with this label. */
OBJECT = COMPRESSED_FILE
  FILE_NAME = "H2403_0000_P13.JP2"
  RECORD_TYPE = UNDEFINED
  FILE_RECORDS = UNK
  ENCODING_TYPE = "JP2"
  INTERCHANGE_FORMAT = BINARY
  UNCOMPRESSED_FILE_NAME = "H2403_0000_P13.IMG"
  REQUIRED_STORAGE_BYTES = "13630188"
  ^DESCRIPTION = "JP2INFO.TXT"
END_OBJECT = COMPRESSED_FILE
END
