PDS_VERSION_ID = PDS3
/* FILE DATA ELEMENTS */
RECORD_TYPE = STREAM
/* POINTERS TO DATA OBJECTS */
^COMPRESSED_FILE = "H2403_0000_P23.JP2"
/* IDENTIFICATION DATA ELEMENTS */
DATA_SET_ID = "MEX-M-HRSC-5-REFDR-MAPPROJECTED-V3.0"
DATA_SET_NAME = "MARS EXPRESS HRSC MAP PROJECTED REFDR V3.0"
DETECTOR_ID = MEX_HRSC_P2
EVENT_TYPE = "MARS-REGIONAL-MAPPING-Gl-Pf-Eo"
INSTRUMENT_HOST_ID = MEX
INSTRUMENT_HOST_NAME = "MARS EXPRESS"
INSTRUMENT_ID = HRSC
INSTRUMENT_NAME = "HIGH RESOLUTION STEREO CAMERA"
MISSION_NAME = "MARS EXPRESS"
MISSION_PHASE_NAME = MR_Phase_8
PROCESSING_LEVEL_ID = 3
PRODUCT_CREATION_TIME = 2016-04-06T10:39:59.000Z
PRODUCT_ID = "H2403_0000_P23.JP2"
RELEASE_ID = 0030
REVISION_ID = 0000
/* QUALITY DATA ELEMENTS */
DATA_QUALITY_ID = 1
DATA_QUALITY_DESC = "Data calculated based on original SPICE kernels"
/* TIME DATA ELEMENTS */
SPACECRAFT_CLOCK_START_COUNT = "1/0081092664.57950"
SPACECRAFT_CLOCK_STOP_COUNT = "1/0081092801.49549"
START_TIME = 2005-11-26T13:45:17.417Z
STOP_TIME = 2005-11-26T13:46:38.213Z
/* ORBITAL DATA ELEMENTS */
ASCENDING_NODE_LONGITUDE = 177.8
MAXIMUM_RESOLUTION = 45.7
FOOTPRINT_POINT_LATITUDE = (-75.2537,-75.287,-75.3194,-75.3508, -75.3813,-75.4107,-75.439,-75.5273, -75.4159,-75.3048,-75.1937,-75.0824, -74.9159,-74.7491,-74.6379,-74.528, -74.3612,-74.2497,-74.1385,-74.0273, -73.9171,-73.8103,-73.7032,-73.5957, -73.4346,-73.2728,-73.1116,-73.0042, -72.8977,-72.7907,-72.6836,-72.5761, -72.4678,-72.3599,-72.2525,-72.1453, -72.0386,-71.9321,-71.825,-71.7175, -71.6098,-71.5024,-71.3947,-71.2871, -71.1795,-71.072,-70.9104,-70.8026, -70.695,-70.5368,-70.3817,-70.1748, -70.0822,-70.066,-70.0384,-70.0129, -69.9787,-69.9601,-70.0523,-70.2063, -70.4115,-70.6233,-70.73,-70.8366, -70.9432,-71.0496,-71.1562,-71.2628, -71.3691,-71.4751,-71.5811,-71.6876, -71.7942,-71.9006,-72.0069,-72.1132, -72.2198,-72.3266,-72.4865,-72.5928, -72.699,-72.8045,-72.9107,-73.0171, -73.123,-73.2815,-73.3874,-73.6498, -73.8114,-73.9214,-74.031,-74.1404, -74.2504,-74.415,-74.5247,-74.6892, -74.7989,-74.9628,-75.0722,-75.2537)
FOOTPRINT_POINT_LONGITUDE = (160.071,160.626,161.188,161.759, 162.338,162.924,163.52,164.17,164.227, 164.283,164.339,164.393,164.474,164.553 ,164.605,164.66,164.735,164.783,164.831 ,164.879,164.927,164.973,165.017,165.06 ,165.123,165.183,165.243,165.283, 165.325,165.366,165.405,165.442,165.477 ,165.513,165.55,165.587,165.624,165.662 ,165.698,165.732,165.766,165.799, 165.832,165.864,165.896,165.928,165.974 ,166.004,166.035,166.078,166.121, 166.177,165.778,165.445,164.899,164.415 ,163.807,163.494,163.26,163.193,163.103 ,163.008,162.958,162.909,162.858, 162.807,162.756,162.703,162.65,162.597, 162.542,162.487,162.431,162.375,162.318 ,162.26,162.201,162.141,162.05,161.989, 161.926,161.863,161.799,161.734,161.668 ,161.567,161.499,161.324,161.214, 161.138,161.061,160.983,160.903,160.782 ,160.699,160.573,160.487,160.356, 160.266,160.071)
ORBIT_NUMBER = 2403
ORBITAL_ECCENTRICITY = 0.572
ORBITAL_INCLINATION = 86.63
ORBITAL_SEMIMAJOR_AXIS = 8543.25
PERIAPSIS_ALTITUDE = 273.64
PERIAPSIS_ARGUMENT_ANGLE = 295.84
PERIAPSIS_TIME = 2005-11-26T13:47:52.000Z
SPACECRAFT_ORIENTATION = (0.0,-1.0,0.0)
^MEX_ORIENTATION_DESC = "MEX_ORIENTATION_DESC.TXT"
SPACECRAFT_POINTING_MODE = ACROSSTRACK
^MEX_POINTING_DESC = "MEX_POINTING_DESC.TXT"
RIGHT_ASCENSION = -1e+32
DECLINATION = -1e+32
OFFSET_ANGLE = -0.68
SPACECRAFT_SOLAR_DISTANCE = 2.22174e+08
TARGET_NAME = MARS
/* CAMERA DATA ELEMENTS */
DETECTOR_TEMPERATURE = 18.9822
FOCAL_PLANE_TEMPERATURE = 8.5833
INST_CMPRS_NAME = "DISCRETE COSINE TRANSFORMATION (DCT)"
INST_CMPRS_RATIO = 12.1896
INST_CMPRS_QUALITY = 0
INST_CMPRS_QUANTZ_TBL_ID = 0
INSTRUMENT_TEMPERATURE = 12.0496
LENS_TEMPERATURE = 8.7872
MACROPIXEL_SIZE = 4
MISSING_FRAMES = 0
PIXEL_SUBSAMPLING_FLAG = N
SIGNAL_CHAIN_ID = 3
/* RADIOMETRIC DATA ELEMENTS */
BANDWIDTH = 177.0
CENTER_FILTER_WAVELENGTH = 676.5
RADIANCE_OFFSET = 3.38573
RADIANCE_SCALING_FACTOR = 0.0118223
REFLECTANCE_SCALING_FACTOR = 0.000309418
MEX:REFLECTANCE_OFFSET = 0.0886125
/* IMAGE OBJECT DEFINITIONS */
OBJECT = IMAGE
  INTERCHANGE_FORMAT = BINARY
  LINES = 6581
  LINE_SAMPLES = 2068
  SAMPLE_TYPE = UNSIGNED_INTEGER
  SAMPLE_BITS = 8
  BANDS = 1
  BAND_STORAGE_TYPE = BAND_SEQUENTIAL
  MAXIMUM = 254
  MEAN = 119.509
  MINIMUM = 3
  STANDARD_DEVIATION = 47.2835
END_OBJECT = IMAGE
/* MAP OBJECT DEFINITIONS */
OBJECT = IMAGE_MAP_PROJECTION
  ^DATA_SET_MAP_PROJECTION_CATALOG= "DSMAP.CAT"
  A_AXIS_RADIUS = 3396.0
  B_AXIS_RADIUS = 3396.0
  C_AXIS_RADIUS = 3396.0
  CENTER_LATITUDE = 0.0
  CENTER_LONGITUDE = 164.0
  COORDINATE_SYSTEM_NAME = PLANETOGRAPHIC
  COORDINATE_SYSTEM_TYPE = "BODY-FIXED ROTATING"
  EASTERNMOST_LONGITUDE = 166.177
  FIRST_STANDARD_PARALLEL = "N/A"
  LINE_FIRST_PIXEL = 1
  LINE_LAST_PIXEL = 6581
  LINE_PROJECTION_OFFSET = -82961.375
  MAP_PROJECTION_ROTATION = 0.0
  MAP_PROJECTION_TYPE = SINUSOIDAL
  MAP_RESOLUTION = 1185.42760773333
  MAP_SCALE = 0.05
  MAXIMUM_LATITUDE = -69.9601
  MINIMUM_LATITUDE = -75.5273
  POSITIVE_LONGITUDE_DIRECTION = EAST
  REFERENCE_LATITUDE = "N/A"
  REFERENCE_LONGITUDE = "N/A"
  SAMPLE_FIRST_PIXEL = 1
  SAMPLE_LAST_PIXEL = 2068
  SAMPLE_PROJECTION_OFFSET = 1214.625
  SECOND_STANDARD_PARALLEL = "N/A"
  WESTERNMOST_LONGITUDE = 160.071
END_OBJECT = IMAGE_MAP_PROJECTION
/* The JPEG2000 image data file associated with this label. */
OBJECT = COMPRESSED_FILE
  FILE_NAME = "H2403_0000_P23.JP2"
  RECORD_TYPE = UNDEFINED
  FILE_RECORDS = UNK
  ENCODING_TYPE = "JP2"
  INTERCHANGE_FORMAT = BINARY
  UNCOMPRESSED_FILE_NAME = "H2403_0000_P23.IMG"
  REQUIRED_STORAGE_BYTES = "13630188"
  ^DESCRIPTION = "JP2INFO.TXT"
END_OBJECT = COMPRESSED_FILE
END
