PDS_VERSION_ID = PDS3
/* FILE DATA ELEMENTS */
RECORD_TYPE = STREAM
/* POINTERS TO DATA OBJECTS */
^COMPRESSED_FILE = "H2403_0001_BL3.JP2"
/* IDENTIFICATION DATA ELEMENTS */
DATA_SET_ID = "MEX-M-HRSC-5-REFDR-MAPPROJECTED-V3.0"
DATA_SET_NAME = "MARS EXPRESS HRSC MAP PROJECTED REFDR V3.0"
DETECTOR_ID = MEX_HRSC_BLUE
EVENT_TYPE = "MARS-REGIONAL-MAPPING-Im-Fl"
INSTRUMENT_HOST_ID = MEX
INSTRUMENT_HOST_NAME = "MARS EXPRESS"
INSTRUMENT_ID = HRSC
INSTRUMENT_NAME = "HIGH RESOLUTION STEREO CAMERA"
MISSION_NAME = "MARS EXPRESS"
MISSION_PHASE_NAME = MR_Phase_8
PROCESSING_LEVEL_ID = 3
PRODUCT_CREATION_TIME = 2016-04-06T10:39:59.000Z
PRODUCT_ID = "H2403_0001_BL3.JP2"
RELEASE_ID = 0030
REVISION_ID = 0000
/* QUALITY DATA ELEMENTS */
DATA_QUALITY_ID = 1
DATA_QUALITY_DESC = "Data calculated based on original SPICE kernels"
/* TIME DATA ELEMENTS */
SPACECRAFT_CLOCK_START_COUNT = "1/0081092946.57169"
SPACECRAFT_CLOCK_STOP_COUNT = "1/0081093211.38125"
START_TIME = 2005-11-26T13:49:42.408Z
STOP_TIME = 2005-11-26T13:53:07.694Z
/* ORBITAL DATA ELEMENTS */
ASCENDING_NODE_LONGITUDE = 177.8
MAXIMUM_RESOLUTION = 44.8
FOOTPRINT_POINT_LATITUDE = (-56.8766,-56.8969,-56.9155,-56.9465, -56.6943,-56.4434,-56.1926,-55.9417, -55.6911,-55.4408,-55.0653,-54.8152, -54.565,-54.3151,-53.816,-53.5587,-53.3 ,-53.0413,-52.7831,-52.525,-52.2672, -52.0095,-51.7521,-51.4948,-51.0986, -50.8324,-50.5664,-50.3004,-50.0366, -49.7712,-49.5046,-49.2322,-48.9581, -48.6844,-48.4109,-48.138,-47.8661, -47.4474,-47.1653,-46.8845,-46.604, -46.3237,-46.037,-45.6062,-45.3178, -45.0284,-44.5966,-44.3103,-44.0236, -43.7376,-43.5435,-43.5336,-43.519, -43.6532,-43.9388,-44.2248,-44.5111, -44.7978,-45.0851,-45.373,-45.6606, -45.9487,-46.2367,-46.5166,-46.7967, -47.2159,-47.4965,-47.7757,-48.0483, -48.321,-48.594,-48.8674,-49.1409, -49.4144,-49.6787,-49.9435,-50.2084, -50.4736,-50.739,-51.0046,-51.4011, -51.6577,-51.9147,-52.1718,-52.4292, -52.6868,-52.9444,-53.2022,-53.4599, -53.7201,-53.9695,-54.4679,-54.7172, -55.091,-55.5898,-55.8399,-56.09, -56.3402,-56.5905,-56.8766)
FOOTPRINT_POINT_LONGITUDE = (166.495,167.008,167.532,168.152, 168.166,168.187,168.208,168.227,168.246 ,168.266,168.293,168.311,168.328, 168.345,168.379,168.397,168.414,168.43, 168.447,168.463,168.48,168.495,168.512, 168.527,168.549,168.564,168.579,168.593 ,168.616,168.629,168.634,168.65,168.662 ,168.676,168.688,168.702,168.719, 168.738,168.747,168.76,168.774,168.785, 168.795,168.825,168.836,168.841,168.855 ,168.869,168.88,168.891,168.552,168.064 ,167.487,167.163,167.156,167.148, 167.139,167.131,167.122,167.112,167.102 ,167.092,167.082,167.071,167.06,167.042 ,167.029,167.017,167.005,166.992, 166.978,166.965,166.95,166.935,166.921, 166.905,166.89,166.874,166.857,166.84, 166.813,166.795,166.777,166.758,166.739 ,166.72,166.699,166.678,166.657,166.637 ,166.616,166.571,166.548,166.511, 166.461,166.435,166.408,166.381,166.353 ,166.495)
ORBIT_NUMBER = 2403
ORBITAL_ECCENTRICITY = 0.572
ORBITAL_INCLINATION = 86.63
ORBITAL_SEMIMAJOR_AXIS = 8543.25
PERIAPSIS_ALTITUDE = 273.64
PERIAPSIS_ARGUMENT_ANGLE = 295.84
PERIAPSIS_TIME = 2005-11-26T13:47:52.000Z
SPACECRAFT_ORIENTATION = (0.0,-1.0,0.0)
^MEX_ORIENTATION_DESC = "MEX_ORIENTATION_DESC.TXT"
SPACECRAFT_POINTING_MODE = ACROSSTRACK
^MEX_POINTING_DESC = "MEX_POINTING_DESC.TXT"
RIGHT_ASCENSION = -1e+32
DECLINATION = -1e+32
OFFSET_ANGLE = -0.68
SPACECRAFT_SOLAR_DISTANCE = 2.22174e+08
TARGET_NAME = MARS
/* CAMERA DATA ELEMENTS */
DETECTOR_TEMPERATURE = 19.1861
FOCAL_PLANE_TEMPERATURE = 8.3794
INST_CMPRS_NAME = "DISCRETE COSINE TRANSFORMATION (DCT)"
INST_CMPRS_RATIO = 7.41227
INST_CMPRS_QUALITY = 0
INST_CMPRS_QUANTZ_TBL_ID = 0
INSTRUMENT_TEMPERATURE = 12.4574
LENS_TEMPERATURE = 9.195
MACROPIXEL_SIZE = 4
MISSING_FRAMES = 0
PIXEL_SUBSAMPLING_FLAG = N
SIGNAL_CHAIN_ID = 2
/* RADIOMETRIC DATA ELEMENTS */
BANDWIDTH = 76.0
CENTER_FILTER_WAVELENGTH = 444.0
RADIANCE_OFFSET = 0.740611
RADIANCE_SCALING_FACTOR = 0.00145218
REFLECTANCE_SCALING_FACTOR = 7.36484e-05
MEX:REFLECTANCE_OFFSET = 0.0375607
/* IMAGE OBJECT DEFINITIONS */
OBJECT = IMAGE
  INTERCHANGE_FORMAT = BINARY
  LINES = 15919
  LINE_SAMPLES = 1916
  SAMPLE_TYPE = UNSIGNED_INTEGER
  SAMPLE_BITS = 8
  BANDS = 1
  BAND_STORAGE_TYPE = BAND_SEQUENTIAL
  MAXIMUM = 255
  MEAN = 103.819
  MINIMUM = 1
  STANDARD_DEVIATION = 34.4015
END_OBJECT = IMAGE
/* MAP OBJECT DEFINITIONS */
OBJECT = IMAGE_MAP_PROJECTION
  ^DATA_SET_MAP_PROJECTION_CATALOG= "DSMAP.CAT"
  A_AXIS_RADIUS = 3396.0
  B_AXIS_RADIUS = 3396.0
  C_AXIS_RADIUS = 3396.0
  CENTER_LATITUDE = 0.0
  CENTER_LONGITUDE = 168.0
  COORDINATE_SYSTEM_NAME = PLANETOGRAPHIC
  COORDINATE_SYSTEM_TYPE = "BODY-FIXED ROTATING"
  EASTERNMOST_LONGITUDE = 168.891
  FIRST_STANDARD_PARALLEL = "N/A"
  LINE_FIRST_PIXEL = 1
  LINE_LAST_PIXEL = 15919
  LINE_PROJECTION_OFFSET = -51586.875
  MAP_PROJECTION_ROTATION = 0.0
  MAP_PROJECTION_TYPE = SINUSOIDAL
  MAP_RESOLUTION = 1185.42760773333
  MAP_SCALE = 0.05
  MAXIMUM_LATITUDE = -43.519
  MINIMUM_LATITUDE = -56.9465
  POSITIVE_LONGITUDE_DIRECTION = EAST
  REFERENCE_LATITUDE = "N/A"
  REFERENCE_LONGITUDE = "N/A"
  SAMPLE_FIRST_PIXEL = 1
  SAMPLE_LAST_PIXEL = 1916
  SAMPLE_PROJECTION_OFFSET = 1096.875
  SECOND_STANDARD_PARALLEL = "N/A"
  WESTERNMOST_LONGITUDE = 166.353
END_OBJECT = IMAGE_MAP_PROJECTION
/* The JPEG2000 image data file associated with this label. */
OBJECT = COMPRESSED_FILE
  FILE_NAME = "H2403_0001_BL3.JP2"
  RECORD_TYPE = UNDEFINED
  FILE_RECORDS = UNK
  ENCODING_TYPE = "JP2"
  INTERCHANGE_FORMAT = BINARY
  UNCOMPRESSED_FILE_NAME = "H2403_0001_BL3.IMG"
  REQUIRED_STORAGE_BYTES = "30519964"
  ^DESCRIPTION = "JP2INFO.TXT"
END_OBJECT = COMPRESSED_FILE
END
