PDS_VERSION_ID = PDS3
/* FILE DATA ELEMENTS */
RECORD_TYPE = STREAM
/* POINTERS TO DATA OBJECTS */
^COMPRESSED_FILE = "H2405_0009_GR3.JP2"
/* IDENTIFICATION DATA ELEMENTS */
DATA_SET_ID = "MEX-M-HRSC-5-REFDR-MAPPROJECTED-V3.0"
DATA_SET_NAME = "MARS EXPRESS HRSC MAP PROJECTED REFDR V3.0"
DETECTOR_ID = MEX_HRSC_GREEN
EVENT_TYPE = "MARS-REGIONAL-MAPPING-Fl-Gl"
INSTRUMENT_HOST_ID = MEX
INSTRUMENT_HOST_NAME = "MARS EXPRESS"
INSTRUMENT_ID = HRSC
INSTRUMENT_NAME = "HIGH RESOLUTION STEREO CAMERA"
MISSION_NAME = "MARS EXPRESS"
MISSION_PHASE_NAME = MR_Phase_8
PROCESSING_LEVEL_ID = 3
PRODUCT_CREATION_TIME = 2016-04-06T10:39:59.000Z
PRODUCT_ID = "H2405_0009_GR3.JP2"
RELEASE_ID = 0030
REVISION_ID = 0000
/* QUALITY DATA ELEMENTS */
DATA_QUALITY_ID = 1
DATA_QUALITY_DESC = "Data calculated based on original SPICE kernels"
/* TIME DATA ELEMENTS */
SPACECRAFT_CLOCK_START_COUNT = "1/0081141139.56201"
SPACECRAFT_CLOCK_STOP_COUNT = "1/0081141404.38288"
START_TIME = 2005-11-27T03:12:46.909Z
STOP_TIME = 2005-11-27T03:16:18.677Z
/* ORBITAL DATA ELEMENTS */
ASCENDING_NODE_LONGITUDE = 177.77
MAXIMUM_RESOLUTION = 43.2
FOOTPRINT_POINT_LATITUDE = (-67.5221,-67.5466,-67.5696,-67.5773, -67.1509,-66.7243,-66.2974,-66.0127, -65.7291,-65.3186,-64.908,-64.6343, -64.2179,-63.9439,-63.67,-63.396, -63.1219,-62.848,-62.5727,-62.2978, -62.0234,-61.608,-61.3332,-60.9219, -60.6477,-60.3638,-60.0784,-59.7926, -59.3635,-58.9344,-58.6483,-58.3628, -58.0775,-57.6498,-57.3642,-57.079, -56.794,-56.5089,-56.0815,-55.7952, -55.5103,-55.2143,-54.9199,-54.6237, -54.3284,-54.0351,-53.8812,-53.5851, -53.4103,-53.3983,-53.3771,-53.3614, -53.6558,-53.9563,-54.251,-54.5456, -54.8424,-55.1352,-55.4303,-55.7178, -56.0021,-56.286,-56.5699,-56.8547, -57.1386,-57.4222,-57.706,-57.9902, -58.2747,-58.7018,-58.9866,-59.2715, -59.5544,-59.9815,-60.2661,-60.6896, -60.9629,-61.234,-61.5056,-61.7786, -62.0573,-62.3303,-62.6038,-62.8783, -63.1519,-63.4241,-63.6966,-64.1054, -64.3832,-64.6553,-64.9275,-65.3355, -65.6074,-66.03,-66.3128,-66.5954, -66.8778,-67.1601,-67.4422,-67.5221)
FOOTPRINT_POINT_LONGITUDE = (326.939,327.419,327.9,328.418,328.537, 328.651,328.762,328.832,328.901,328.998 ,329.092,329.152,329.241,329.298, 329.353,329.407,329.46,329.511,329.567, 329.62,329.669,329.734,329.783,329.849, 329.893,329.936,329.978,330.022,330.087 ,330.15,330.191,330.23,330.267,330.321, 330.358,330.393,330.426,330.46,330.51, 330.547,330.579,330.61,330.637,330.669, 330.698,330.72,330.736,330.768,330.296, 329.963,329.455,329.084,329.051,329.015 ,328.98,328.943,328.911,328.866,328.827 ,328.796,328.757,328.716,328.673, 328.632,328.587,328.54,328.493,328.445, 328.396,328.322,328.271,328.22,328.16, 328.077,328.02,327.943,327.884,327.818, 327.752,327.688,327.622,327.556,327.49, 327.425,327.356,327.281,327.206,327.089 ,327.008,326.925,326.841,326.71,326.62, 326.475,326.375,326.271,326.165,326.057 ,325.945,326.939)
ORBIT_NUMBER = 2405
ORBITAL_ECCENTRICITY = 0.572
ORBITAL_INCLINATION = 86.64
ORBITAL_SEMIMAJOR_AXIS = 8540.66
PERIAPSIS_ALTITUDE = 273.22
PERIAPSIS_ARGUMENT_ANGLE = 295.48
PERIAPSIS_TIME = 2005-11-27T03:13:39.000Z
SPACECRAFT_ORIENTATION = (0.0,-1.0,0.0)
^MEX_ORIENTATION_DESC = "MEX_ORIENTATION_DESC.TXT"
SPACECRAFT_POINTING_MODE = NADIR
^MEX_POINTING_DESC = "MEX_POINTING_DESC.TXT"
RIGHT_ASCENSION = -1e+32
DECLINATION = -1e+32
OFFSET_ANGLE = -1e+32
SPACECRAFT_SOLAR_DISTANCE = 2.22282e+08
TARGET_NAME = MARS
/* CAMERA DATA ELEMENTS */
DETECTOR_TEMPERATURE = 18.5744
FOCAL_PLANE_TEMPERATURE = 8.5833
INST_CMPRS_NAME = "DISCRETE COSINE TRANSFORMATION (DCT)"
INST_CMPRS_RATIO = 20.8628
INST_CMPRS_QUALITY = 0
INST_CMPRS_QUANTZ_TBL_ID = 0
INSTRUMENT_TEMPERATURE = 12.4574
LENS_TEMPERATURE = 9.8067
MACROPIXEL_SIZE = 4
MISSING_FRAMES = 3
PIXEL_SUBSAMPLING_FLAG = N
SIGNAL_CHAIN_ID = 2
/* RADIOMETRIC DATA ELEMENTS */
BANDWIDTH = 88.0
CENTER_FILTER_WAVELENGTH = 538.0
RADIANCE_OFFSET = 1.56636
RADIANCE_SCALING_FACTOR = 0.00368555
REFLECTANCE_SCALING_FACTOR = 0.000156783
MEX:REFLECTANCE_OFFSET = 0.0666329
/* IMAGE OBJECT DEFINITIONS */
OBJECT = IMAGE
  INTERCHANGE_FORMAT = BINARY
  LINES = 16841
  LINE_SAMPLES = 2652
  SAMPLE_TYPE = UNSIGNED_INTEGER
  SAMPLE_BITS = 8
  BANDS = 1
  BAND_STORAGE_TYPE = BAND_SEQUENTIAL
  MAXIMUM = 255
  MEAN = 109.441
  MINIMUM = 1
  STANDARD_DEVIATION = 41.2086
END_OBJECT = IMAGE
/* MAP OBJECT DEFINITIONS */
OBJECT = IMAGE_MAP_PROJECTION
  ^DATA_SET_MAP_PROJECTION_CATALOG= "DSMAP.CAT"
  A_AXIS_RADIUS = 3396.0
  B_AXIS_RADIUS = 3396.0
  C_AXIS_RADIUS = 3396.0
  CENTER_LATITUDE = 0.0
  CENTER_LONGITUDE = 329.0
  COORDINATE_SYSTEM_NAME = PLANETOGRAPHIC
  COORDINATE_SYSTEM_TYPE = "BODY-FIXED ROTATING"
  EASTERNMOST_LONGITUDE = 330.768
  FIRST_STANDARD_PARALLEL = "N/A"
  LINE_FIRST_PIXEL = 1
  LINE_LAST_PIXEL = 16841
  LINE_PROJECTION_OFFSET = -63259.625
  MAP_PROJECTION_ROTATION = 0.0
  MAP_PROJECTION_TYPE = SINUSOIDAL
  MAP_RESOLUTION = 1185.42760773333
  MAP_SCALE = 0.05
  MAXIMUM_LATITUDE = -53.3614
  MINIMUM_LATITUDE = -67.57729999999999
  POSITIVE_LONGITUDE_DIRECTION = EAST
  REFERENCE_LATITUDE = "N/A"
  REFERENCE_LONGITUDE = "N/A"
  SAMPLE_FIRST_PIXEL = 1
  SAMPLE_LAST_PIXEL = 2652
  SAMPLE_PROJECTION_OFFSET = 1365.125
  SECOND_STANDARD_PARALLEL = "N/A"
  WESTERNMOST_LONGITUDE = 325.945
END_OBJECT = IMAGE_MAP_PROJECTION
/* The JPEG2000 image data file associated with this label. */
OBJECT = COMPRESSED_FILE
  FILE_NAME = "H2405_0009_GR3.JP2"
  RECORD_TYPE = UNDEFINED
  FILE_RECORDS = UNK
  ENCODING_TYPE = "JP2"
  INTERCHANGE_FORMAT = BINARY
  UNCOMPRESSED_FILE_NAME = "H2405_0009_GR3.IMG"
  REQUIRED_STORAGE_BYTES = "44683548"
  ^DESCRIPTION = "JP2INFO.TXT"
END_OBJECT = COMPRESSED_FILE
END
