PDS_VERSION_ID = PDS3
/* FILE DATA ELEMENTS */
RECORD_TYPE = STREAM
/* POINTERS TO DATA OBJECTS */
^COMPRESSED_FILE = "H2407_0001_ND3.JP2"
/* IDENTIFICATION DATA ELEMENTS */
DATA_SET_ID = "MEX-M-HRSC-5-REFDR-MAPPROJECTED-V3.0"
DATA_SET_NAME = "MARS EXPRESS HRSC MAP PROJECTED REFDR V3.0"
DETECTOR_ID = MEX_HRSC_NADIR
EVENT_TYPE = "MARS-REGIONAL-MAPPING-Im-Fl"
INSTRUMENT_HOST_ID = MEX
INSTRUMENT_HOST_NAME = "MARS EXPRESS"
INSTRUMENT_ID = HRSC
INSTRUMENT_NAME = "HIGH RESOLUTION STEREO CAMERA"
MISSION_NAME = "MARS EXPRESS"
MISSION_PHASE_NAME = MR_Phase_8
PROCESSING_LEVEL_ID = 3
PRODUCT_CREATION_TIME = 2016-04-06T10:39:59.000Z
PRODUCT_ID = "H2407_0001_ND3.JP2"
RELEASE_ID = 0030
REVISION_ID = 0000
/* QUALITY DATA ELEMENTS */
DATA_QUALITY_ID = 1
DATA_QUALITY_DESC = "Data calculated based on original SPICE kernels"
/* TIME DATA ELEMENTS */
SPACECRAFT_CLOCK_START_COUNT = "1/0081189949.57286"
SPACECRAFT_CLOCK_STOP_COUNT = "1/0081190167.53556"
START_TIME = 2005-11-27T16:46:33.905Z
STOP_TIME = 2005-11-27T16:48:34.887Z
/* ORBITAL DATA ELEMENTS */
ASCENDING_NODE_LONGITUDE = 177.73
MAXIMUM_RESOLUTION = 16.9
FOOTPRINT_POINT_LATITUDE = (-37.0453,-37.0538,-37.0588,-37.0624, -37.0666,-37.0694,-36.8694,-36.602, -36.3298,-36.0564,-35.7835,-35.5059, -35.3665,-35.2272,-35.088,-34.949, -34.7364,-34.5943,-34.4523,-34.3105, -34.1688,-34.0243,-33.8795,-33.7349, -33.5904,-33.4461,-33.2994,-33.152, -33.0048,-32.8577,-32.7107,-32.5612, -32.4113,-32.2615,-32.1118,-31.9623, -31.81,-31.6575,-31.5052,-31.3531, -31.1216,-30.9666,-30.8118,-30.6571, -30.5,-30.3424,-30.1851,-30.0279, -29.7858,-29.7858,-29.7854,-29.7843, -29.7832,-29.782,-29.7791,-29.7764, -29.8529,-30.0117,-30.1684,-30.3253, -30.4824,-30.6392,-30.7935,-30.9479, -31.1025,-31.3335,-31.4852,-31.6371, -31.7892,-31.9412,-32.0903,-32.2396, -32.389,-32.5386,-32.6878,-32.8344, -32.9811,-33.128,-33.2751,-33.4214, -33.5654,-33.7096,-33.8539,-33.9983, -34.1425,-34.2839,-34.4254,-34.567, -34.7088,-34.921,-35.0597,-35.1985, -35.3375,-35.4766,-35.7537,-36.026, -36.2987,-36.5704,-36.8373,-37.0453)
FOOTPRINT_POINT_LONGITUDE = (133.857,134.271,134.559,134.793, 135.118,135.389,135.493,135.503,135.513 ,135.523,135.531,135.543,135.547, 135.551,135.556,135.561,135.568,135.572 ,135.577,135.582,135.586,135.591, 135.596,135.601,135.606,135.61,135.615, 135.62,135.624,135.629,135.634,135.638, 135.643,135.648,135.652,135.657,135.662 ,135.666,135.671,135.675,135.682, 135.687,135.691,135.696,135.7,135.705, 135.709,135.713,135.596,135.41,135.162, 134.853,134.647,134.483,134.153,133.907 ,133.63,133.632,133.633,133.635,133.637 ,133.639,133.64,133.64,133.64,133.641, 133.643,133.644,133.647,133.648,133.649 ,133.65,133.65,133.65,133.651,133.652, 133.652,133.652,133.652,133.652,133.652 ,133.651,133.651,133.651,133.651,133.65 ,133.65,133.649,133.649,133.648,133.647 ,133.646,133.646,133.645,133.643,133.64 ,133.637,133.635,133.632,133.857)
ORBIT_NUMBER = 2407
ORBITAL_ECCENTRICITY = 0.572
ORBITAL_INCLINATION = 86.62
ORBITAL_SEMIMAJOR_AXIS = 8544.14
PERIAPSIS_ALTITUDE = 273.48
PERIAPSIS_ARGUMENT_ANGLE = 295.13
PERIAPSIS_TIME = 2005-11-27T16:39:30.000Z
SPACECRAFT_ORIENTATION = (0.0,-1.0,0.0)
^MEX_ORIENTATION_DESC = "MEX_ORIENTATION_DESC.TXT"
SPACECRAFT_POINTING_MODE = ACROSSTRACK
^MEX_POINTING_DESC = "MEX_POINTING_DESC.TXT"
RIGHT_ASCENSION = -1e+32
DECLINATION = -1e+32
OFFSET_ANGLE = -0.08
SPACECRAFT_SOLAR_DISTANCE = 2.2239e+08
TARGET_NAME = MARS
/* CAMERA DATA ELEMENTS */
DETECTOR_TEMPERATURE = 19.5939
FOCAL_PLANE_TEMPERATURE = 8.5833
INST_CMPRS_NAME = "DISCRETE COSINE TRANSFORMATION (DCT)"
INST_CMPRS_RATIO = 6.65068
INST_CMPRS_QUALITY = 0
INST_CMPRS_QUANTZ_TBL_ID = 0
INSTRUMENT_TEMPERATURE = 13.0691
LENS_TEMPERATURE = 8.9911
MACROPIXEL_SIZE = 1
MISSING_FRAMES = 0
PIXEL_SUBSAMPLING_FLAG = N
SIGNAL_CHAIN_ID = 0
/* RADIOMETRIC DATA ELEMENTS */
BANDWIDTH = 177.0
CENTER_FILTER_WAVELENGTH = 677.5
RADIANCE_OFFSET = 4.84537
RADIANCE_SCALING_FACTOR = 0.0142511
REFLECTANCE_SCALING_FACTOR = 0.000374424
MEX:REFLECTANCE_OFFSET = 0.127304
/* IMAGE OBJECT DEFINITIONS */
OBJECT = IMAGE
  INTERCHANGE_FORMAT = BINARY
  LINES = 34601
  LINE_SAMPLES = 8902
  SAMPLE_TYPE = UNSIGNED_INTEGER
  SAMPLE_BITS = 8
  BANDS = 1
  BAND_STORAGE_TYPE = BAND_SEQUENTIAL
  MAXIMUM = 255
  MEAN = 139.086
  MINIMUM = 1
  STANDARD_DEVIATION = 27.2631
END_OBJECT = IMAGE
/* MAP OBJECT DEFINITIONS */
OBJECT = IMAGE_MAP_PROJECTION
  ^DATA_SET_MAP_PROJECTION_CATALOG= "DSMAP.CAT"
  A_AXIS_RADIUS = 3396.0
  B_AXIS_RADIUS = 3396.0
  C_AXIS_RADIUS = 3396.0
  CENTER_LATITUDE = 0.0
  CENTER_LONGITUDE = 135.0
  COORDINATE_SYSTEM_NAME = PLANETOGRAPHIC
  COORDINATE_SYSTEM_TYPE = "BODY-FIXED ROTATING"
  EASTERNMOST_LONGITUDE = 135.713
  FIRST_STANDARD_PARALLEL = "N/A"
  LINE_FIRST_PIXEL = 1
  LINE_LAST_PIXEL = 34601
  LINE_PROJECTION_OFFSET = -141176.0
  MAP_PROJECTION_ROTATION = 0.0
  MAP_PROJECTION_TYPE = SINUSOIDAL
  MAP_RESOLUTION = 4741.71043093333
  MAP_SCALE = 0.0125
  MAXIMUM_LATITUDE = -29.7764
  MINIMUM_LATITUDE = -37.0694
  POSITIVE_LONGITUDE_DIRECTION = EAST
  REFERENCE_LATITUDE = "N/A"
  REFERENCE_LONGITUDE = "N/A"
  SAMPLE_FIRST_PIXEL = 1
  SAMPLE_LAST_PIXEL = 8902
  SAMPLE_PROJECTION_OFFSET = 5780.0
  SECOND_STANDARD_PARALLEL = "N/A"
  WESTERNMOST_LONGITUDE = 133.63
END_OBJECT = IMAGE_MAP_PROJECTION
/* The JPEG2000 image data file associated with this label. */
OBJECT = COMPRESSED_FILE
  FILE_NAME = "H2407_0001_ND3.JP2"
  RECORD_TYPE = UNDEFINED
  FILE_RECORDS = UNK
  ENCODING_TYPE = "JP2"
  INTERCHANGE_FORMAT = BINARY
  UNCOMPRESSED_FILE_NAME = "H2407_0001_ND3.IMG"
  REQUIRED_STORAGE_BYTES = "308053710"
  ^DESCRIPTION = "JP2INFO.TXT"
END_OBJECT = COMPRESSED_FILE
END
