PDS_VERSION_ID = PDS3
/* FILE DATA ELEMENTS */
RECORD_TYPE = STREAM
/* POINTERS TO DATA OBJECTS */
^COMPRESSED_FILE = "H2408_0000_ND3.JP2"
/* IDENTIFICATION DATA ELEMENTS */
DATA_SET_ID = "MEX-M-HRSC-5-REFDR-MAPPROJECTED-V3.0"
DATA_SET_NAME = "MARS EXPRESS HRSC MAP PROJECTED REFDR V3.0"
DETECTOR_ID = MEX_HRSC_NADIR
EVENT_TYPE = "MARS-REGIONAL-MAPPING-Vo-Gl-Pf"
INSTRUMENT_HOST_ID = MEX
INSTRUMENT_HOST_NAME = "MARS EXPRESS"
INSTRUMENT_ID = HRSC
INSTRUMENT_NAME = "HIGH RESOLUTION STEREO CAMERA"
MISSION_NAME = "MARS EXPRESS"
MISSION_PHASE_NAME = MR_Phase_8
PROCESSING_LEVEL_ID = 3
PRODUCT_CREATION_TIME = 2016-04-06T10:39:59.000Z
PRODUCT_ID = "H2408_0000_ND3.JP2"
RELEASE_ID = 0030
REVISION_ID = 0000
/* QUALITY DATA ELEMENTS */
DATA_QUALITY_ID = 1
DATA_QUALITY_DESC = "Data calculated based on original SPICE kernels"
/* TIME DATA ELEMENTS */
SPACECRAFT_CLOCK_START_COUNT = "1/0081213490.57158"
SPACECRAFT_CLOCK_STOP_COUNT = "1/0081213829.39623"
START_TIME = 2005-11-27T23:18:47.778Z
STOP_TIME = 2005-11-27T23:23:29.770Z
/* ORBITAL DATA ELEMENTS */
ASCENDING_NODE_LONGITUDE = 177.7
MAXIMUM_RESOLUTION = 10.8
FOOTPRINT_POINT_LATITUDE = (-78.7051,-78.8232,-78.9291,-78.5346, -78.1382,-77.5465,-77.1598,-76.7722, -76.3831,-75.9928,-75.4194,-75.0407, -74.6611,-74.2808,-73.8996,-73.3311, -72.9625,-72.5932,-72.2233,-71.853, -71.4821,-71.1108,-70.739,-70.1818, -69.8234,-69.4646,-69.1056,-68.7463, -68.3866,-68.0267,-67.6665,-67.3061, -66.9455,-66.5847,-66.2238,-65.8627, -65.5014,-64.9593,-64.5978,-64.0553, -63.6936,-63.3318,-62.9699,-62.6081, -62.2462,-61.8843,-61.5225,-61.1606, -60.7989,-60.4019,-60.3486,-60.6846, -61.0445,-61.4045,-61.7644,-62.1242, -62.4841,-62.8435,-63.2036,-63.563, -63.9223,-64.2815,-64.6404,-64.9992, -65.358,-65.7165,-66.0745,-66.4324, -66.7902,-67.1476,-67.5045,-67.8609, -68.2166,-68.5724,-68.9276,-69.2825, -69.6369,-69.9909,-70.5406,-70.9072, -71.273,-71.6382,-72.0026,-72.3662, -72.729,-73.0908,-73.6481,-74.021, -74.3933,-74.7641,-75.1339,-75.6916, -76.0708,-76.4469,-76.8224,-77.1953, -77.7677,-78.1476,-78.5251,-78.7051)
FOOTPRINT_POINT_LONGITUDE = (19.6603,21.2806,22.8774,23.5031, 24.0871,24.8876,25.3644,25.8193,26.2444 ,26.646,27.1966,27.5359,27.858,28.1653, 28.4562,28.8659,29.1167,29.3561,29.5858 ,29.8055,30.0167,30.2193,30.4139, 30.6912,30.8612,31.0255,31.1835,31.3383 ,31.4852,31.6271,31.7644,31.897,32.0253 ,32.1495,32.2698,32.3871,32.5004, 32.6638,32.7686,32.9204,33.0177,33.1118 ,33.2031,33.2921,33.379,33.4629,33.5446 ,33.6239,33.7013,33.1281,32.1859, 31.7023,31.6058,31.5065,31.4047,31.2992 ,31.1913,31.074,30.9655,30.8449,30.72, 30.5921,30.4577,30.3213,30.1828,30.0377 ,29.8832,29.7277,29.5681,29.4026, 29.2279,29.0446,28.8506,28.6565,28.4532 ,28.2449,28.0288,27.8049,27.4383, 27.1803,26.9106,26.6294,26.3371,26.0314 ,25.7124,25.3786,24.8352,24.4435, 24.0389,23.6115,23.1652,22.428,21.8949, 21.3145,20.7185,20.081,19.0619,18.2905, 17.4754,19.6603)
ORBIT_NUMBER = 2408
ORBITAL_ECCENTRICITY = 0.572
ORBITAL_INCLINATION = 86.63
ORBITAL_SEMIMAJOR_AXIS = 8543.33
PERIAPSIS_ALTITUDE = 273.29
PERIAPSIS_ARGUMENT_ANGLE = 294.95
PERIAPSIS_TIME = 2005-11-27T23:22:24.000Z
SPACECRAFT_ORIENTATION = (0.0,-1.0,0.0)
^MEX_ORIENTATION_DESC = "MEX_ORIENTATION_DESC.TXT"
SPACECRAFT_POINTING_MODE = ACROSSTRACK
^MEX_POINTING_DESC = "MEX_POINTING_DESC.TXT"
RIGHT_ASCENSION = -1e+32
DECLINATION = -1e+32
OFFSET_ANGLE = 0.7
SPACECRAFT_SOLAR_DISTANCE = 2.22444e+08
TARGET_NAME = MARS
/* CAMERA DATA ELEMENTS */
DETECTOR_TEMPERATURE = 18.1666
FOCAL_PLANE_TEMPERATURE = 8.5833
INST_CMPRS_NAME = "DISCRETE COSINE TRANSFORMATION (DCT)"
INST_CMPRS_RATIO = 7.98965
INST_CMPRS_QUALITY = 0
INST_CMPRS_QUANTZ_TBL_ID = 0
INSTRUMENT_TEMPERATURE = 11.234
LENS_TEMPERATURE = 8.7872
MACROPIXEL_SIZE = 1
MISSING_FRAMES = 0
PIXEL_SUBSAMPLING_FLAG = N
SIGNAL_CHAIN_ID = 0
/* RADIOMETRIC DATA ELEMENTS */
BANDWIDTH = 177.0
CENTER_FILTER_WAVELENGTH = 677.5
RADIANCE_OFFSET = 2.69457
RADIANCE_SCALING_FACTOR = 0.0129152
REFLECTANCE_SCALING_FACTOR = 0.000339485
MEX:REFLECTANCE_OFFSET = 0.0708289
/* IMAGE OBJECT DEFINITIONS */
OBJECT = IMAGE
  INTERCHANGE_FORMAT = BINARY
  LINES = 88197
  LINE_SAMPLES = 20792
  SAMPLE_TYPE = UNSIGNED_INTEGER
  SAMPLE_BITS = 8
  BANDS = 1
  BAND_STORAGE_TYPE = BAND_SEQUENTIAL
  MAXIMUM = 255
  MEAN = 137.83
  MINIMUM = 1
  STANDARD_DEVIATION = 47.5336
END_OBJECT = IMAGE
/* MAP OBJECT DEFINITIONS */
OBJECT = IMAGE_MAP_PROJECTION
  ^DATA_SET_MAP_PROJECTION_CATALOG= "DSMAP.CAT"
  A_AXIS_RADIUS = 3396.0
  B_AXIS_RADIUS = 3396.0
  C_AXIS_RADIUS = 3396.0
  CENTER_LATITUDE = 0.0
  CENTER_LONGITUDE = 30.0
  COORDINATE_SYSTEM_NAME = PLANETOGRAPHIC
  COORDINATE_SYSTEM_TYPE = "BODY-FIXED ROTATING"
  EASTERNMOST_LONGITUDE = 33.7013
  FIRST_STANDARD_PARALLEL = "N/A"
  LINE_FIRST_PIXEL = 1
  LINE_LAST_PIXEL = 88197
  LINE_PROJECTION_OFFSET = -286076.0
  MAP_PROJECTION_ROTATION = 0.0
  MAP_PROJECTION_TYPE = SINUSOIDAL
  MAP_RESOLUTION = 4741.71043093333
  MAP_SCALE = 0.0125
  MAXIMUM_LATITUDE = -60.3486
  MINIMUM_LATITUDE = -78.92910000000001
  POSITIVE_LONGITUDE_DIRECTION = EAST
  REFERENCE_LATITUDE = "N/A"
  REFERENCE_LONGITUDE = "N/A"
  SAMPLE_FIRST_PIXEL = 1
  SAMPLE_LAST_PIXEL = 20792
  SAMPLE_PROJECTION_OFFSET = 11896.0
  SECOND_STANDARD_PARALLEL = "N/A"
  WESTERNMOST_LONGITUDE = 17.4754
END_OBJECT = IMAGE_MAP_PROJECTION
/* The JPEG2000 image data file associated with this label. */
OBJECT = COMPRESSED_FILE
  FILE_NAME = "H2408_0000_ND3.JP2"
  RECORD_TYPE = UNDEFINED
  FILE_RECORDS = UNK
  ENCODING_TYPE = "JP2"
  INTERCHANGE_FORMAT = BINARY
  UNCOMPRESSED_FILE_NAME = "H2408_0000_ND3.IMG"
  REQUIRED_STORAGE_BYTES = "1833854400"
  ^DESCRIPTION = "JP2INFO.TXT"
END_OBJECT = COMPRESSED_FILE
END
