PDS_VERSION_ID = PDS3
/* FILE DATA ELEMENTS */
RECORD_TYPE = STREAM
/* POINTERS TO DATA OBJECTS */
^COMPRESSED_FILE = "H2408_0000_RE3.JP2"
/* IDENTIFICATION DATA ELEMENTS */
DATA_SET_ID = "MEX-M-HRSC-5-REFDR-MAPPROJECTED-V3.0"
DATA_SET_NAME = "MARS EXPRESS HRSC MAP PROJECTED REFDR V3.0"
DETECTOR_ID = MEX_HRSC_RED
EVENT_TYPE = "MARS-REGIONAL-MAPPING-Vo-Gl-Pf"
INSTRUMENT_HOST_ID = MEX
INSTRUMENT_HOST_NAME = "MARS EXPRESS"
INSTRUMENT_ID = HRSC
INSTRUMENT_NAME = "HIGH RESOLUTION STEREO CAMERA"
MISSION_NAME = "MARS EXPRESS"
MISSION_PHASE_NAME = MR_Phase_8
PROCESSING_LEVEL_ID = 3
PRODUCT_CREATION_TIME = 2016-04-06T10:39:59.000Z
PRODUCT_ID = "H2408_0000_RE3.JP2"
RELEASE_ID = 0030
REVISION_ID = 0000
/* QUALITY DATA ELEMENTS */
DATA_QUALITY_ID = 1
DATA_QUALITY_DESC = "Data calculated based on original SPICE kernels"
/* TIME DATA ELEMENTS */
SPACECRAFT_CLOCK_START_COUNT = "1/0081213490.57158"
SPACECRAFT_CLOCK_STOP_COUNT = "1/0081213829.39623"
START_TIME = 2005-11-27T23:19:11.070Z
STOP_TIME = 2005-11-27T23:23:50.239Z
/* ORBITAL DATA ELEMENTS */
ASCENDING_NODE_LONGITUDE = 177.7
MAXIMUM_RESOLUTION = 45.2
FOOTPRINT_POINT_LATITUDE = (-78.5741,-78.6717,-78.7604,-78.483, -78.0891,-77.8922,-77.6948,-77.3043, -76.7201,-76.3382,-75.9547,-75.5687, -75.183,-74.7973,-74.4245,-74.0529, -73.6791,-73.3053,-72.9305,-72.5562, -72.1807,-71.8068,-71.2547,-70.7136, -70.3525,-69.9913,-69.6282,-69.2684, -68.9029,-68.5411,-68.1806,-67.8197, -67.4592,-67.0986,-66.7383,-66.1977, -65.8357,-65.4746,-64.9338,-64.393, -64.0325,-63.6727,-63.314,-62.9555, -62.4176,-61.8795,-61.5217,-60.9866, -60.6291,-60.3899,-60.379,-60.36, -60.3366,-60.6915,-61.047,-61.4029, -61.9367,-62.2927,-62.8295,-63.3626, -63.8981,-64.2555,-64.6138,-64.9714, -65.328,-65.6854,-66.0444,-66.4016, -66.7591,-67.2949,-67.6534,-68.0117, -68.3728,-68.7304,-69.0885,-69.4457, -69.8025,-70.3369,-70.6938,-71.0498, -71.4068,-71.7762,-72.3296,-72.8817, -73.249,-73.798,-74.3459,-74.714, -75.0904,-75.467,-75.8421,-76.4048, -76.7761,-77.1548,-77.3466,-77.7205, -77.911,-78.1002,-78.4758,-78.5741)
FOOTPRINT_POINT_LONGITUDE = (19.2923,20.8004,22.3009,23.5026,24.084 ,24.3591,24.6258,25.1234,25.8204, 26.2379,26.6336,27.0109,27.3666,27.7033 ,28.0125,28.3042,28.585,28.8523,29.1086 ,29.3523,29.5866,29.8088,30.121,30.4083 ,30.5908,30.7665,30.9377,31.0991, 31.2604,31.4122,31.5576,31.6984,31.834, 31.9651,32.0919,32.2745,32.3929,32.5068 ,32.6708,32.8275,32.9282,33.0256, 33.1194,33.2106,33.3429,33.4701,33.5516 ,33.6691,33.7454,33.559,33.1359,32.4789 ,31.7812,31.6903,31.5957,31.4978, 31.3464,31.2418,31.0719,30.9048,30.7239 ,30.5975,30.4647,30.3294,30.193,30.0497 ,29.8962,29.7431,29.5836,29.3351, 29.1571,28.9727,28.771,28.5741,28.3669, 28.1547,27.9346,27.5899,27.3437,27.09, 26.8239,26.5373,26.0822,25.5952,25.2517 ,24.7088,24.1222,23.704,23.254,22.7714, 22.2629,21.427,20.844,20.2078,19.8647, 19.2175,18.8387,18.455,17.6572,19.2923)
ORBIT_NUMBER = 2408
ORBITAL_ECCENTRICITY = 0.572
ORBITAL_INCLINATION = 86.63
ORBITAL_SEMIMAJOR_AXIS = 8543.33
PERIAPSIS_ALTITUDE = 273.29
PERIAPSIS_ARGUMENT_ANGLE = 294.95
PERIAPSIS_TIME = 2005-11-27T23:22:24.000Z
SPACECRAFT_ORIENTATION = (0.0,-1.0,0.0)
^MEX_ORIENTATION_DESC = "MEX_ORIENTATION_DESC.TXT"
SPACECRAFT_POINTING_MODE = ACROSSTRACK
^MEX_POINTING_DESC = "MEX_POINTING_DESC.TXT"
RIGHT_ASCENSION = -1e+32
DECLINATION = -1e+32
OFFSET_ANGLE = 0.7
SPACECRAFT_SOLAR_DISTANCE = 2.22444e+08
TARGET_NAME = MARS
/* CAMERA DATA ELEMENTS */
DETECTOR_TEMPERATURE = 18.5744
FOCAL_PLANE_TEMPERATURE = 8.5833
INST_CMPRS_NAME = "DISCRETE COSINE TRANSFORMATION (DCT)"
INST_CMPRS_RATIO = 36.6037
INST_CMPRS_QUALITY = 0
INST_CMPRS_QUANTZ_TBL_ID = 0
INSTRUMENT_TEMPERATURE = 11.234
LENS_TEMPERATURE = 8.7872
MACROPIXEL_SIZE = 4
MISSING_FRAMES = 0
PIXEL_SUBSAMPLING_FLAG = N
SIGNAL_CHAIN_ID = 2
/* RADIOMETRIC DATA ELEMENTS */
BANDWIDTH = 48.0
CENTER_FILTER_WAVELENGTH = 748.0
RADIANCE_OFFSET = 0.83547
RADIANCE_SCALING_FACTOR = 0.00394842
REFLECTANCE_SCALING_FACTOR = 0.000445848
MEX:REFLECTANCE_OFFSET = 0.0943394
/* IMAGE OBJECT DEFINITIONS */
OBJECT = IMAGE
  INTERCHANGE_FORMAT = BINARY
  LINES = 22050
  LINE_SAMPLES = 5198
  SAMPLE_TYPE = UNSIGNED_INTEGER
  SAMPLE_BITS = 8
  BANDS = 1
  BAND_STORAGE_TYPE = BAND_SEQUENTIAL
  MAXIMUM = 255
  MEAN = 142.514
  MINIMUM = 1
  STANDARD_DEVIATION = 55.6556
END_OBJECT = IMAGE
/* MAP OBJECT DEFINITIONS */
OBJECT = IMAGE_MAP_PROJECTION
  ^DATA_SET_MAP_PROJECTION_CATALOG= "DSMAP.CAT"
  A_AXIS_RADIUS = 3396.0
  B_AXIS_RADIUS = 3396.0
  C_AXIS_RADIUS = 3396.0
  CENTER_LATITUDE = 0.0
  CENTER_LONGITUDE = 30.0
  COORDINATE_SYSTEM_NAME = PLANETOGRAPHIC
  COORDINATE_SYSTEM_TYPE = "BODY-FIXED ROTATING"
  EASTERNMOST_LONGITUDE = 33.7454
  FIRST_STANDARD_PARALLEL = "N/A"
  LINE_FIRST_PIXEL = 1
  LINE_LAST_PIXEL = 22050
  LINE_PROJECTION_OFFSET = -71519.375
  MAP_PROJECTION_ROTATION = 0.0
  MAP_PROJECTION_TYPE = SINUSOIDAL
  MAP_RESOLUTION = 1185.42760773333
  MAP_SCALE = 0.05
  MAXIMUM_LATITUDE = -60.3366
  MINIMUM_LATITUDE = -78.7604
  POSITIVE_LONGITUDE_DIRECTION = EAST
  REFERENCE_LATITUDE = "N/A"
  REFERENCE_LONGITUDE = "N/A"
  SAMPLE_FIRST_PIXEL = 1
  SAMPLE_LAST_PIXEL = 5198
  SAMPLE_PROJECTION_OFFSET = 2973.625
  SECOND_STANDARD_PARALLEL = "N/A"
  WESTERNMOST_LONGITUDE = 17.6572
END_OBJECT = IMAGE_MAP_PROJECTION
/* The JPEG2000 image data file associated with this label. */
OBJECT = COMPRESSED_FILE
  FILE_NAME = "H2408_0000_RE3.JP2"
  RECORD_TYPE = UNDEFINED
  FILE_RECORDS = UNK
  ENCODING_TYPE = "JP2"
  INTERCHANGE_FORMAT = BINARY
  UNCOMPRESSED_FILE_NAME = "H2408_0000_RE3.IMG"
  REQUIRED_STORAGE_BYTES = "114641890"
  ^DESCRIPTION = "JP2INFO.TXT"
END_OBJECT = COMPRESSED_FILE
END
