PDS_VERSION_ID = PDS3
/* FILE DATA ELEMENTS */
RECORD_TYPE = STREAM
/* POINTERS TO DATA OBJECTS */
^COMPRESSED_FILE = "H2410_0000_BL3.JP2"
/* IDENTIFICATION DATA ELEMENTS */
DATA_SET_ID = "MEX-M-HRSC-5-REFDR-MAPPROJECTED-V3.0"
DATA_SET_NAME = "MARS EXPRESS HRSC MAP PROJECTED REFDR V3.0"
DETECTOR_ID = MEX_HRSC_BLUE
EVENT_TYPE = "MARS-REGIONAL-MAPPING-Im"
INSTRUMENT_HOST_ID = MEX
INSTRUMENT_HOST_NAME = "MARS EXPRESS"
INSTRUMENT_ID = HRSC
INSTRUMENT_NAME = "HIGH RESOLUTION STEREO CAMERA"
MISSION_NAME = "MARS EXPRESS"
MISSION_PHASE_NAME = MR_Phase_8
PROCESSING_LEVEL_ID = 3
PRODUCT_CREATION_TIME = 2016-04-06T10:39:59.000Z
PRODUCT_ID = "H2410_0000_BL3.JP2"
RELEASE_ID = 0030
REVISION_ID = 0000
/* QUALITY DATA ELEMENTS */
DATA_QUALITY_ID = 1
DATA_QUALITY_DESC = "Data calculated based on original SPICE kernels"
/* TIME DATA ELEMENTS */
SPACECRAFT_CLOCK_START_COUNT = "1/0081262008.57974"
SPACECRAFT_CLOCK_STOP_COUNT = "1/0081262361.16463"
START_TIME = 2005-11-28T12:47:24.334Z
STOP_TIME = 2005-11-28T12:52:21.190Z
/* ORBITAL DATA ELEMENTS */
ASCENDING_NODE_LONGITUDE = 177.66
MAXIMUM_RESOLUTION = 43.3
FOOTPRINT_POINT_LATITUDE = (-68.8696,-68.9071,-68.9416,-68.5901, -68.0081,-67.6198,-67.2314,-66.8471, -66.2876,-65.9145,-65.5416,-64.9821, -64.4223,-63.8628,-63.4898,-63.117, -62.5578,-62.1823,-61.7941,-61.212, -60.8242,-60.4368,-60.0497,-59.4692, -58.8891,-58.5029,-58.1167,-57.7309, -57.1529,-56.7579,-56.1582,-55.7588, -55.3598,-54.9613,-54.5631,-54.1654, -53.753,-53.3408,-52.9296,-52.3125, -51.8991,-51.4742,-51.05,-50.6271, -50.203,-49.769,-49.5507,-49.2754, -49.2631,-49.2434,-49.2298,-49.4476, -49.6657,-49.8838,-50.1006,-50.523, -50.9461,-51.3695,-52.0025,-52.4121, -52.8222,-53.4384,-53.85,-54.2559, -54.8513,-55.2482,-55.6461,-56.0444, -56.4433,-57.0383,-57.4224,-57.9991, -58.3839,-58.7692,-59.1545,-59.5405, -59.9258,-60.3115,-60.6975,-61.0836, -61.4706,-61.8571,-62.2396,-62.6111, -62.9827,-63.5388,-63.91,-64.4666, -64.8376,-65.2087,-65.5796,-65.9505, -66.3208,-66.6931,-67.0718,-67.6501, -68.0354,-68.4204,-68.8052,-68.8696)
FOOTPRINT_POINT_LONGITUDE = (195.526,196.265,197.01,197.614,197.779 ,197.883,197.984,198.08,198.214,198.299 ,198.383,198.502,198.614,198.722, 198.791,198.858,198.955,199.017,199.079 ,199.168,199.225,199.282,199.337, 199.416,199.492,199.541,199.588,199.634 ,199.701,199.745,199.811,199.853, 199.895,199.935,199.974,200.012,200.05, 200.087,200.125,200.175,200.207,200.241 ,200.274,200.308,200.336,200.367, 200.382,200.113,199.681,199.078,198.694 ,198.679,198.663,198.647,198.63,198.598 ,198.563,198.528,198.473,198.435, 198.396,198.335,198.292,198.248,198.181 ,198.135,198.087,198.036,197.983, 197.901,197.846,197.76,197.699,197.636, 197.571,197.503,197.435,197.363,197.288 ,197.211,197.129,197.046,196.962, 196.875,196.785,196.648,196.551,196.4, 196.294,196.184,196.07,195.953,195.832, 195.699,195.568,195.352,195.201,195.044 ,194.879,195.526)
ORBIT_NUMBER = 2410
ORBITAL_ECCENTRICITY = 0.572
ORBITAL_INCLINATION = 86.63
ORBITAL_SEMIMAJOR_AXIS = 8540.34
PERIAPSIS_ALTITUDE = 273.09
PERIAPSIS_ARGUMENT_ANGLE = 294.6
PERIAPSIS_TIME = 2005-11-28T12:48:16.000Z
SPACECRAFT_ORIENTATION = (0.0,-1.0,0.0)
^MEX_ORIENTATION_DESC = "MEX_ORIENTATION_DESC.TXT"
SPACECRAFT_POINTING_MODE = ACROSSTRACK
^MEX_POINTING_DESC = "MEX_POINTING_DESC.TXT"
RIGHT_ASCENSION = -1e+32
DECLINATION = -1e+32
OFFSET_ANGLE = -0.2
SPACECRAFT_SOLAR_DISTANCE = 2.22552e+08
TARGET_NAME = MARS
/* CAMERA DATA ELEMENTS */
DETECTOR_TEMPERATURE = 18.1666
FOCAL_PLANE_TEMPERATURE = 8.1755
INST_CMPRS_NAME = "DISCRETE COSINE TRANSFORMATION (DCT)"
INST_CMPRS_RATIO = 7.2194
INST_CMPRS_QUALITY = 0
INST_CMPRS_QUANTZ_TBL_ID = 0
INSTRUMENT_TEMPERATURE = 11.234
LENS_TEMPERATURE = 8.7872
MACROPIXEL_SIZE = 4
MISSING_FRAMES = 0
PIXEL_SUBSAMPLING_FLAG = N
SIGNAL_CHAIN_ID = 2
/* RADIOMETRIC DATA ELEMENTS */
BANDWIDTH = 76.0
CENTER_FILTER_WAVELENGTH = 444.0
RADIANCE_OFFSET = 0.560422
RADIANCE_SCALING_FACTOR = 0.00175262
REFLECTANCE_SCALING_FACTOR = 8.91877e-05
MEX:REFLECTANCE_OFFSET = 0.0285188
/* IMAGE OBJECT DEFINITIONS */
OBJECT = IMAGE
  INTERCHANGE_FORMAT = BINARY
  LINES = 23403
  LINE_SAMPLES = 3203
  SAMPLE_TYPE = UNSIGNED_INTEGER
  SAMPLE_BITS = 8
  BANDS = 1
  BAND_STORAGE_TYPE = BAND_SEQUENTIAL
  MAXIMUM = 255
  MEAN = 136.374
  MINIMUM = 1
  STANDARD_DEVIATION = 32.5028
END_OBJECT = IMAGE
/* MAP OBJECT DEFINITIONS */
OBJECT = IMAGE_MAP_PROJECTION
  ^DATA_SET_MAP_PROJECTION_CATALOG= "DSMAP.CAT"
  A_AXIS_RADIUS = 3396.0
  B_AXIS_RADIUS = 3396.0
  C_AXIS_RADIUS = 3396.0
  CENTER_LATITUDE = 0.0
  CENTER_LONGITUDE = 198.0
  COORDINATE_SYSTEM_NAME = PLANETOGRAPHIC
  COORDINATE_SYSTEM_TYPE = "BODY-FIXED ROTATING"
  EASTERNMOST_LONGITUDE = 200.382
  FIRST_STANDARD_PARALLEL = "N/A"
  LINE_FIRST_PIXEL = 1
  LINE_LAST_PIXEL = 23403
  LINE_PROJECTION_OFFSET = -58365.625
  MAP_PROJECTION_ROTATION = 0.0
  MAP_PROJECTION_TYPE = SINUSOIDAL
  MAP_RESOLUTION = 1185.42760773333
  MAP_SCALE = 0.05
  MAXIMUM_LATITUDE = -49.2298
  MINIMUM_LATITUDE = -68.94159999999999
  POSITIVE_LONGITUDE_DIRECTION = EAST
  REFERENCE_LATITUDE = "N/A"
  REFERENCE_LONGITUDE = "N/A"
  SAMPLE_FIRST_PIXEL = 1
  SAMPLE_LAST_PIXEL = 3203
  SAMPLE_PROJECTION_OFFSET = 1325.375
  SECOND_STANDARD_PARALLEL = "N/A"
  WESTERNMOST_LONGITUDE = 194.879
END_OBJECT = IMAGE_MAP_PROJECTION
/* The JPEG2000 image data file associated with this label. */
OBJECT = COMPRESSED_FILE
  FILE_NAME = "H2410_0000_BL3.JP2"
  RECORD_TYPE = UNDEFINED
  FILE_RECORDS = UNK
  ENCODING_TYPE = "JP2"
  INTERCHANGE_FORMAT = BINARY
  UNCOMPRESSED_FILE_NAME = "H2410_0000_BL3.IMG"
  REQUIRED_STORAGE_BYTES = "74982230"
  ^DESCRIPTION = "JP2INFO.TXT"
END_OBJECT = COMPRESSED_FILE
END
