PDS_VERSION_ID = PDS3
/* FILE DATA ELEMENTS */
RECORD_TYPE = STREAM
/* POINTERS TO DATA OBJECTS */
^COMPRESSED_FILE = "H2410_0000_S13.JP2"
/* IDENTIFICATION DATA ELEMENTS */
DATA_SET_ID = "MEX-M-HRSC-5-REFDR-MAPPROJECTED-V3.0"
DATA_SET_NAME = "MARS EXPRESS HRSC MAP PROJECTED REFDR V3.0"
DETECTOR_ID = MEX_HRSC_S1
EVENT_TYPE = "MARS-REGIONAL-MAPPING-Im"
INSTRUMENT_HOST_ID = MEX
INSTRUMENT_HOST_NAME = "MARS EXPRESS"
INSTRUMENT_ID = HRSC
INSTRUMENT_NAME = "HIGH RESOLUTION STEREO CAMERA"
MISSION_NAME = "MARS EXPRESS"
MISSION_PHASE_NAME = MR_Phase_8
PROCESSING_LEVEL_ID = 3
PRODUCT_CREATION_TIME = 2016-04-06T10:39:59.000Z
PRODUCT_ID = "H2410_0000_S13.JP2"
RELEASE_ID = 0030
REVISION_ID = 0000
/* QUALITY DATA ELEMENTS */
DATA_QUALITY_ID = 1
DATA_QUALITY_DESC = "Data calculated based on original SPICE kernels"
/* TIME DATA ELEMENTS */
SPACECRAFT_CLOCK_START_COUNT = "1/0081262008.57974"
SPACECRAFT_CLOCK_STOP_COUNT = "1/0081262361.16463"
START_TIME = 2005-11-28T12:46:55.790Z
STOP_TIME = 2005-11-28T12:51:48.887Z
/* ORBITAL DATA ELEMENTS */
ASCENDING_NODE_LONGITUDE = 177.66
MAXIMUM_RESOLUTION = 22.9
FOOTPRINT_POINT_LATITUDE = (-68.9869,-69.0238,-69.0779,-68.7975, -68.223,-67.8402,-67.2643,-66.8796, -66.4942,-66.109,-65.7226,-65.3357, -64.9543,-64.3967,-64.0242,-63.6509, -63.278,-62.7178,-62.3438,-61.97, -61.407,-60.8474,-60.472,-60.0824, -59.4947,-58.9066,-58.5131,-58.1205, -57.5325,-56.9406,-56.5428,-55.9538, -55.56,-55.165,-54.5515,-54.1408, -53.7296,-53.3191,-52.9066,-52.4983, -52.0881,-51.8749,-51.6614,-51.4482, -51.235,-50.8089,-50.5917,-50.1717, -49.7403,-49.5195,-49.2968,-49.2721, -49.2603,-49.2518,-49.4678,-49.6874, -49.9059,-50.5394,-50.9633,-51.3876, -51.8127,-52.4386,-52.8483,-53.2598, -53.6666,-54.2811,-54.6924,-55.1015, -55.4977,-55.8906,-56.284,-56.6756, -57.0687,-57.6584,-58.2456,-58.8317, -59.2232,-59.6133,-60.0034,-60.5794, -60.9534,-61.5098,-61.8823,-62.4448, -62.8113,-63.1858,-63.7437,-64.1146, -64.4846,-64.8542,-65.4244,-65.808, -66.3836,-66.7566,-67.1502,-67.5291, -67.9098,-68.2913,-68.6695,-68.9869)
FOOTPRINT_POINT_LONGITUDE = (195.231,196.019,197.393,197.601, 197.765,197.867,198.015,198.109,198.201 ,198.289,198.374,198.457,198.536, 198.645,198.716,198.785,198.851,198.947 ,199.009,199.068,199.156,199.235, 199.289,199.344,199.422,199.497,199.547 ,199.594,199.66,199.728,199.774,199.834 ,199.873,199.913,199.972,200.01,200.048 ,200.083,200.12,200.152,200.183,200.2, 200.217,200.233,200.249,200.281,200.299 ,200.325,200.355,200.37,200.386,199.741 ,199.278,198.896,198.716,198.699, 198.683,198.632,198.597,198.561,198.523 ,198.465,198.425,198.384,198.34,198.273 ,198.227,198.179,198.131,198.08,198.028 ,197.975,197.919,197.832,197.741, 197.644,197.577,197.508,197.436,197.326 ,197.251,197.133,197.052,196.925, 196.836,196.744,196.601,196.502,196.399 ,196.292,196.12,195.998,195.807,195.673 ,195.536,195.392,195.243,195.088, 194.926,195.231)
ORBIT_NUMBER = 2410
ORBITAL_ECCENTRICITY = 0.572
ORBITAL_INCLINATION = 86.63
ORBITAL_SEMIMAJOR_AXIS = 8540.34
PERIAPSIS_ALTITUDE = 273.09
PERIAPSIS_ARGUMENT_ANGLE = 294.6
PERIAPSIS_TIME = 2005-11-28T12:48:16.000Z
SPACECRAFT_ORIENTATION = (0.0,-1.0,0.0)
^MEX_ORIENTATION_DESC = "MEX_ORIENTATION_DESC.TXT"
SPACECRAFT_POINTING_MODE = ACROSSTRACK
^MEX_POINTING_DESC = "MEX_POINTING_DESC.TXT"
RIGHT_ASCENSION = -1e+32
DECLINATION = -1e+32
OFFSET_ANGLE = -0.2
SPACECRAFT_SOLAR_DISTANCE = 2.22552e+08
TARGET_NAME = MARS
/* CAMERA DATA ELEMENTS */
DETECTOR_TEMPERATURE = 17.5549
FOCAL_PLANE_TEMPERATURE = 8.1755
INST_CMPRS_NAME = "DISCRETE COSINE TRANSFORMATION (DCT)"
INST_CMPRS_RATIO = 9.29055
INST_CMPRS_QUALITY = 0
INST_CMPRS_QUANTZ_TBL_ID = 0
INSTRUMENT_TEMPERATURE = 11.234
LENS_TEMPERATURE = 8.7872
MACROPIXEL_SIZE = 2
MISSING_FRAMES = 0
PIXEL_SUBSAMPLING_FLAG = N
SIGNAL_CHAIN_ID = 1
/* RADIOMETRIC DATA ELEMENTS */
BANDWIDTH = 180.0
CENTER_FILTER_WAVELENGTH = 677.0
RADIANCE_OFFSET = 3.9129
RADIANCE_SCALING_FACTOR = 0.0184136
REFLECTANCE_SCALING_FACTOR = 0.000475821
MEX:REFLECTANCE_OFFSET = 0.101112
/* IMAGE OBJECT DEFINITIONS */
OBJECT = IMAGE
  INTERCHANGE_FORMAT = BINARY
  LINES = 46805
  LINE_SAMPLES = 6405
  SAMPLE_TYPE = UNSIGNED_INTEGER
  SAMPLE_BITS = 8
  BANDS = 1
  BAND_STORAGE_TYPE = BAND_SEQUENTIAL
  MAXIMUM = 255
  MEAN = 113.589
  MINIMUM = 1
  STANDARD_DEVIATION = 26.9486
END_OBJECT = IMAGE
/* MAP OBJECT DEFINITIONS */
OBJECT = IMAGE_MAP_PROJECTION
  ^DATA_SET_MAP_PROJECTION_CATALOG= "DSMAP.CAT"
  A_AXIS_RADIUS = 3396.0
  B_AXIS_RADIUS = 3396.0
  C_AXIS_RADIUS = 3396.0
  CENTER_LATITUDE = 0.0
  CENTER_LONGITUDE = 198.0
  COORDINATE_SYSTEM_NAME = PLANETOGRAPHIC
  COORDINATE_SYSTEM_TYPE = "BODY-FIXED ROTATING"
  EASTERNMOST_LONGITUDE = 200.386
  FIRST_STANDARD_PARALLEL = "N/A"
  LINE_FIRST_PIXEL = 1
  LINE_LAST_PIXEL = 46805
  LINE_PROJECTION_OFFSET = -116730.75
  MAP_PROJECTION_ROTATION = 0.0
  MAP_PROJECTION_TYPE = SINUSOIDAL
  MAP_RESOLUTION = 2370.85521546667
  MAP_SCALE = 0.025
  MAXIMUM_LATITUDE = -49.2518
  MINIMUM_LATITUDE = -69.0779
  POSITIVE_LONGITUDE_DIRECTION = EAST
  REFERENCE_LATITUDE = "N/A"
  REFERENCE_LONGITUDE = "N/A"
  SAMPLE_FIRST_PIXEL = 1
  SAMPLE_LAST_PIXEL = 6405
  SAMPLE_PROJECTION_OFFSET = 2651.25
  SECOND_STANDARD_PARALLEL = "N/A"
  WESTERNMOST_LONGITUDE = 194.926
END_OBJECT = IMAGE_MAP_PROJECTION
/* The JPEG2000 image data file associated with this label. */
OBJECT = COMPRESSED_FILE
  FILE_NAME = "H2410_0000_S13.JP2"
  RECORD_TYPE = UNDEFINED
  FILE_RECORDS = UNK
  ENCODING_TYPE = "JP2"
  INTERCHANGE_FORMAT = BINARY
  UNCOMPRESSED_FILE_NAME = "H2410_0000_S13.IMG"
  REQUIRED_STORAGE_BYTES = "299818050"
  ^DESCRIPTION = "JP2INFO.TXT"
END_OBJECT = COMPRESSED_FILE
END
