PDS_VERSION_ID = PDS3
/* FILE DATA ELEMENTS */
RECORD_TYPE = STREAM
/* POINTERS TO DATA OBJECTS */
^COMPRESSED_FILE = "H2411_0000_S13.JP2"
/* IDENTIFICATION DATA ELEMENTS */
DATA_SET_ID = "MEX-M-HRSC-5-REFDR-MAPPROJECTED-V3.0"
DATA_SET_NAME = "MARS EXPRESS HRSC MAP PROJECTED REFDR V3.0"
DETECTOR_ID = MEX_HRSC_S1
EVENT_TYPE = "MARS-REGIONAL-MAPPING-Im-Fl"
INSTRUMENT_HOST_ID = MEX
INSTRUMENT_HOST_NAME = "MARS EXPRESS"
INSTRUMENT_ID = HRSC
INSTRUMENT_NAME = "HIGH RESOLUTION STEREO CAMERA"
MISSION_NAME = "MARS EXPRESS"
MISSION_PHASE_NAME = MR_Phase_8
PROCESSING_LEVEL_ID = 3
PRODUCT_CREATION_TIME = 2016-04-06T10:39:59.000Z
PRODUCT_ID = "H2411_0000_S13.JP2"
RELEASE_ID = 0030
REVISION_ID = 0000
/* QUALITY DATA ELEMENTS */
DATA_QUALITY_ID = 1
DATA_QUALITY_DESC = "Data calculated based on original SPICE kernels"
/* TIME DATA ELEMENTS */
SPACECRAFT_CLOCK_START_COUNT = "1/0081286312.57973"
SPACECRAFT_CLOCK_STOP_COUNT = "1/0081286743.00486"
START_TIME = 2005-11-28T19:31:59.795Z
STOP_TIME = 2005-11-28T19:37:46.181Z
/* ORBITAL DATA ELEMENTS */
ASCENDING_NODE_LONGITUDE = 177.64
MAXIMUM_RESOLUTION = 22.9
FOOTPRINT_POINT_LATITUDE = (-60.6629,-60.7396,-60.3216,-59.9147, -59.5117,-59.0937,-58.6829,-58.2767, -57.8656,-57.2533,-56.8451,-56.4418, -56.0303,-55.6211,-55.2043,-54.7794, -54.3519,-53.712,-53.2854,-52.8596, -52.2138,-51.7733,-51.1048,-50.6593, -50.2178,-49.5315,-49.0712,-48.6135, -48.1529,-47.6773,-46.968,-46.2485, -45.5145,-45.0259,-44.5239,-44.0148, -43.2579,-42.754,-42.0032,-41.4923, -40.9916,-40.4034,-40.1049,-39.8069, -39.2141,-38.9143,-38.6171,-38.3183, -37.7272,-37.4299,-37.3686,-37.3411, -37.2981,-37.8845,-38.478,-38.7789, -39.0788,-39.3794,-39.676,-39.9775, -40.5533,-41.1082,-41.6154,-42.1172, -42.8694,-43.626,-44.1299,-44.8847, -45.3733,-46.1062,-46.8262,-47.5367, -48.2424,-48.7016,-49.1592,-49.6095, -50.0647,-50.508,-51.1776,-51.6211, -52.0623,-52.4984,-53.1384,-53.5624, -53.9934,-54.625,-55.047,-55.4644, -55.8717,-56.4883,-56.9006,-57.515, -57.9229,-58.3291,-58.7333,-59.1383, -59.5429,-59.9454,-60.3493,-60.6629)
FOOTPRINT_POINT_LONGITUDE = (97.7088,98.7065,99.6544,99.7289, 99.8005,99.8725,99.9412,100.007,100.072 ,100.166,100.226,100.284,100.341, 100.396,100.451,100.506,100.559,100.637 ,100.686,100.735,100.806,100.852, 100.921,100.965,101.008,101.072,101.113 ,101.154,101.193,101.233,101.289, 101.345,101.399,101.434,101.469,101.504 ,101.553,101.585,101.63,101.661,101.689 ,101.722,101.738,101.754,101.784, 101.799,101.814,101.829,101.857,101.871 ,101.362,100.846,100.089,100.07,100.052 ,100.045,100.037,100.029,100.017, 100.008,99.9723,99.9513,99.9326,99.909, 99.87,99.83,99.8009,99.7546,99.7226, 99.6714,99.6194,99.5634,99.5048,99.4655 ,99.4232,99.3738,99.3282,99.2837, 99.2172,99.1684,99.1161,99.0638,98.9841 ,98.9266,98.8727,98.7761,98.7099, 98.6442,98.5777,98.4788,98.4113,98.3025 ,98.2256,98.1448,98.0598,97.973,97.8831 ,97.7886,97.6925,97.7088)
ORBIT_NUMBER = 2411
ORBITAL_ECCENTRICITY = 0.573
ORBITAL_INCLINATION = 86.63
ORBITAL_SEMIMAJOR_AXIS = 8543.23
PERIAPSIS_ALTITUDE = 272.54
PERIAPSIS_ARGUMENT_ANGLE = 294.41
PERIAPSIS_TIME = 2005-11-28T19:31:14.000Z
SPACECRAFT_ORIENTATION = (0.0,-1.0,0.0)
^MEX_ORIENTATION_DESC = "MEX_ORIENTATION_DESC.TXT"
SPACECRAFT_POINTING_MODE = ACROSSTRACK
^MEX_POINTING_DESC = "MEX_POINTING_DESC.TXT"
RIGHT_ASCENSION = -1e+32
DECLINATION = -1e+32
OFFSET_ANGLE = 0.458
SPACECRAFT_SOLAR_DISTANCE = 2.22606e+08
TARGET_NAME = MARS
/* CAMERA DATA ELEMENTS */
DETECTOR_TEMPERATURE = 17.5549
FOCAL_PLANE_TEMPERATURE = 8.1755
INST_CMPRS_NAME = "DISCRETE COSINE TRANSFORMATION (DCT)"
INST_CMPRS_RATIO = 8.83066
INST_CMPRS_QUALITY = 0
INST_CMPRS_QUANTZ_TBL_ID = 0
INSTRUMENT_TEMPERATURE = 9.3989
LENS_TEMPERATURE = 8.7872
MACROPIXEL_SIZE = 2
MISSING_FRAMES = 0
PIXEL_SUBSAMPLING_FLAG = N
SIGNAL_CHAIN_ID = 1
/* RADIOMETRIC DATA ELEMENTS */
BANDWIDTH = 180.0
CENTER_FILTER_WAVELENGTH = 677.0
RADIANCE_OFFSET = 5.35637
RADIANCE_SCALING_FACTOR = 0.0192868
REFLECTANCE_SCALING_FACTOR = 0.000498623
MEX:REFLECTANCE_OFFSET = 0.138479
/* IMAGE OBJECT DEFINITIONS */
OBJECT = IMAGE
  INTERCHANGE_FORMAT = BINARY
  LINES = 55345
  LINE_SAMPLES = 6453
  SAMPLE_TYPE = UNSIGNED_INTEGER
  SAMPLE_BITS = 8
  BANDS = 1
  BAND_STORAGE_TYPE = BAND_SEQUENTIAL
  MAXIMUM = 255
  MEAN = 115.534
  MINIMUM = 1
  STANDARD_DEVIATION = 34.8001
END_OBJECT = IMAGE
/* MAP OBJECT DEFINITIONS */
OBJECT = IMAGE_MAP_PROJECTION
  ^DATA_SET_MAP_PROJECTION_CATALOG= "DSMAP.CAT"
  A_AXIS_RADIUS = 3396.0
  B_AXIS_RADIUS = 3396.0
  C_AXIS_RADIUS = 3396.0
  CENTER_LATITUDE = 0.0
  CENTER_LONGITUDE = 100.0
  COORDINATE_SYSTEM_NAME = PLANETOGRAPHIC
  COORDINATE_SYSTEM_TYPE = "BODY-FIXED ROTATING"
  EASTERNMOST_LONGITUDE = 101.871
  FIRST_STANDARD_PARALLEL = "N/A"
  LINE_FIRST_PIXEL = 1
  LINE_LAST_PIXEL = 55345
  LINE_PROJECTION_OFFSET = -88530.75
  MAP_PROJECTION_ROTATION = 0.0
  MAP_PROJECTION_TYPE = SINUSOIDAL
  MAP_RESOLUTION = 2370.85521546667
  MAP_SCALE = 0.025
  MAXIMUM_LATITUDE = -37.2981
  MINIMUM_LATITUDE = -60.7396
  POSITIVE_LONGITUDE_DIRECTION = EAST
  REFERENCE_LATITUDE = "N/A"
  REFERENCE_LONGITUDE = "N/A"
  SAMPLE_FIRST_PIXEL = 1
  SAMPLE_LAST_PIXEL = 6453
  SAMPLE_PROJECTION_OFFSET = 2811.75
  SECOND_STANDARD_PARALLEL = "N/A"
  WESTERNMOST_LONGITUDE = 97.6925
END_OBJECT = IMAGE_MAP_PROJECTION
/* The JPEG2000 image data file associated with this label. */
OBJECT = COMPRESSED_FILE
  FILE_NAME = "H2411_0000_S13.JP2"
  RECORD_TYPE = UNDEFINED
  FILE_RECORDS = UNK
  ENCODING_TYPE = "JP2"
  INTERCHANGE_FORMAT = BINARY
  UNCOMPRESSED_FILE_NAME = "H2411_0000_S13.IMG"
  REQUIRED_STORAGE_BYTES = "357173550"
  ^DESCRIPTION = "JP2INFO.TXT"
END_OBJECT = COMPRESSED_FILE
END
