PDS_VERSION_ID = PDS3
/* FILE DATA ELEMENTS */
RECORD_TYPE = STREAM
/* POINTERS TO DATA OBJECTS */
^COMPRESSED_FILE = "H2412_0000_RE3.JP2"
/* IDENTIFICATION DATA ELEMENTS */
DATA_SET_ID = "MEX-M-HRSC-5-REFDR-MAPPROJECTED-V3.0"
DATA_SET_NAME = "MARS EXPRESS HRSC MAP PROJECTED REFDR V3.0"
DETECTOR_ID = MEX_HRSC_RED
EVENT_TYPE = "MARS-REGIONAL-MAPPING-Im-Lc-Pf"
INSTRUMENT_HOST_ID = MEX
INSTRUMENT_HOST_NAME = "MARS EXPRESS"
INSTRUMENT_ID = HRSC
INSTRUMENT_NAME = "HIGH RESOLUTION STEREO CAMERA"
MISSION_NAME = "MARS EXPRESS"
MISSION_PHASE_NAME = MR_Phase_8
PROCESSING_LEVEL_ID = 3
PRODUCT_CREATION_TIME = 2016-04-06T10:39:59.000Z
PRODUCT_ID = "H2412_0000_RE3.JP2"
RELEASE_ID = 0030
REVISION_ID = 0000
/* QUALITY DATA ELEMENTS */
DATA_QUALITY_ID = 1
DATA_QUALITY_DESC = "Data calculated based on original SPICE kernels"
/* TIME DATA ELEMENTS */
SPACECRAFT_CLOCK_START_COUNT = "1/0081310635.56186"
SPACECRAFT_CLOCK_STOP_COUNT = "1/0081310868.29127"
START_TIME = 2005-11-29T02:18:13.235Z
STOP_TIME = 2005-11-29T02:21:06.043Z
/* ORBITAL DATA ELEMENTS */
ASCENDING_NODE_LONGITUDE = 177.62
MAXIMUM_RESOLUTION = 53.8
FOOTPRINT_POINT_LATITUDE = (-50.7478,-50.7677,-50.7817,-50.6494, -50.461,-50.2759,-50.0886,-49.8958, -49.7004,-49.5042,-49.3109,-49.0213, -48.8287,-48.6354,-48.4357,-48.2357, -48.0363,-47.8376,-47.6397,-47.4419, -47.2433,-47.0461,-46.849,-46.6511, -46.4545,-46.2609,-46.0652,-45.772, -45.5767,-45.3817,-45.1874,-44.8672, -44.6364,-44.2892,-44.0588,-43.8294, -43.4853,-43.2561,-43.0273,-42.7991, -42.5713,-42.3442,-42.1175,-41.8905, -41.6643,-41.439,-41.2145,-40.9849, -40.7566,-40.5319,-40.3248,-40.319, -40.3135,-40.302,-40.2914,-40.5198, -40.7491,-40.9786,-41.3187,-41.542, -41.7779,-42.0046,-42.3381,-42.5665, -42.7937,-43.0203,-43.2439,-43.5865, -43.8155,-44.045,-44.275,-44.5057, -44.7365,-45.0692,-45.263,-45.4571, -45.7497,-46.0432,-46.2389,-46.435, -46.6314,-46.8276,-47.0243,-47.2211, -47.4182,-47.6156,-47.8129,-48.1094, -48.405,-48.6029,-48.7955,-48.9914, -49.1911,-49.3848,-49.6734,-49.8688, -50.0614,-50.427,-50.6156,-50.7478)
FOOTPRINT_POINT_LONGITUDE = (2.2507,2.84509,3.31114,3.58236,3.59831 ,3.61558,3.63148,3.64771,3.66271, 3.67706,3.69254,3.71531,3.73039,3.74502 ,3.75964,3.77384,3.78798,3.80222, 3.81647,3.83055,3.8439,3.85764,3.87114, 3.88398,3.89715,3.9115,3.92449,3.94369, 3.95626,3.96862,3.98107,4.00077,4.01526 ,4.03586,4.04961,4.06345,4.08354, 4.09655,4.10944,4.1222,4.13479,4.14735, 4.15975,4.17166,4.18362,4.19558,4.2076, 4.21952,4.23217,4.2461,4.16464,3.71438, 3.42655,2.79654,2.32275,2.31759,2.31195 ,2.30622,2.29732,2.29175,2.27944, 2.27198,2.26435,2.2559,2.2481,2.24056, 2.23461,2.22167,2.21267,2.2033,2.19357, 2.18331,2.173,2.1575,2.14846,2.13914, 2.12412,2.10848,2.09791,2.08696,2.07585 ,2.06465,2.05313,2.04143,2.02943, 2.01717,2.00487,1.98579,1.96705,1.95363 ,1.94006,1.92426,1.90579,1.89105,1.87, 1.85381,1.83839,1.8145,1.79843,2.2507)
ORBIT_NUMBER = 2412
ORBITAL_ECCENTRICITY = 0.572
ORBITAL_INCLINATION = 86.63
ORBITAL_SEMIMAJOR_AXIS = 8540.97
PERIAPSIS_ALTITUDE = 273.45
PERIAPSIS_ARGUMENT_ANGLE = 294.24
PERIAPSIS_TIME = 2005-11-29T02:14:07.000Z
SPACECRAFT_ORIENTATION = (0.0,-1.0,0.0)
^MEX_ORIENTATION_DESC = "MEX_ORIENTATION_DESC.TXT"
SPACECRAFT_POINTING_MODE = NADIR
^MEX_POINTING_DESC = "MEX_POINTING_DESC.TXT"
RIGHT_ASCENSION = -1e+32
DECLINATION = -1e+32
OFFSET_ANGLE = -1e+32
SPACECRAFT_SOLAR_DISTANCE = 2.2266e+08
TARGET_NAME = MARS
/* CAMERA DATA ELEMENTS */
DETECTOR_TEMPERATURE = 18.5744
FOCAL_PLANE_TEMPERATURE = 8.1755
INST_CMPRS_NAME = "DISCRETE COSINE TRANSFORMATION (DCT)"
INST_CMPRS_RATIO = 14.722
INST_CMPRS_QUALITY = 0
INST_CMPRS_QUANTZ_TBL_ID = 0
INSTRUMENT_TEMPERATURE = 11.0301
LENS_TEMPERATURE = 8.5833
MACROPIXEL_SIZE = 4
MISSING_FRAMES = 0
PIXEL_SUBSAMPLING_FLAG = N
SIGNAL_CHAIN_ID = 2
/* RADIOMETRIC DATA ELEMENTS */
BANDWIDTH = 48.0
CENTER_FILTER_WAVELENGTH = 748.0
RADIANCE_OFFSET = 1.1944
RADIANCE_SCALING_FACTOR = 0.00484359
REFLECTANCE_SCALING_FACTOR = 0.000547998
MEX:REFLECTANCE_OFFSET = 0.135133
/* IMAGE OBJECT DEFINITIONS */
OBJECT = IMAGE
  INTERCHANGE_FORMAT = BINARY
  LINES = 12512
  LINE_SAMPLES = 2007
  SAMPLE_TYPE = UNSIGNED_INTEGER
  SAMPLE_BITS = 8
  BANDS = 1
  BAND_STORAGE_TYPE = BAND_SEQUENTIAL
  MAXIMUM = 255
  MEAN = 152.04
  MINIMUM = 1
  STANDARD_DEVIATION = 31.8875
END_OBJECT = IMAGE
/* MAP OBJECT DEFINITIONS */
OBJECT = IMAGE_MAP_PROJECTION
  ^DATA_SET_MAP_PROJECTION_CATALOG= "DSMAP.CAT"
  A_AXIS_RADIUS = 3396.0
  B_AXIS_RADIUS = 3396.0
  C_AXIS_RADIUS = 3396.0
  CENTER_LATITUDE = 0.0
  CENTER_LONGITUDE = 3.0
  COORDINATE_SYSTEM_NAME = PLANETOGRAPHIC
  COORDINATE_SYSTEM_TYPE = "BODY-FIXED ROTATING"
  EASTERNMOST_LONGITUDE = 4.2461
  FIRST_STANDARD_PARALLEL = "N/A"
  LINE_FIRST_PIXEL = 1
  LINE_LAST_PIXEL = 12512
  LINE_PROJECTION_OFFSET = -47755.625
  MAP_PROJECTION_ROTATION = 0.0
  MAP_PROJECTION_TYPE = SINUSOIDAL
  MAP_RESOLUTION = 1185.42760773333
  MAP_SCALE = 0.05
  MAXIMUM_LATITUDE = -40.2914
  MINIMUM_LATITUDE = -50.7817
  POSITIVE_LONGITUDE_DIRECTION = EAST
  REFERENCE_LATITUDE = "N/A"
  REFERENCE_LONGITUDE = "N/A"
  SAMPLE_FIRST_PIXEL = 1
  SAMPLE_LAST_PIXEL = 2007
  SAMPLE_PROJECTION_OFFSET = 902.875
  SECOND_STANDARD_PARALLEL = "N/A"
  WESTERNMOST_LONGITUDE = 1.79843
END_OBJECT = IMAGE_MAP_PROJECTION
/* The JPEG2000 image data file associated with this label. */
OBJECT = COMPRESSED_FILE
  FILE_NAME = "H2412_0000_RE3.JP2"
  RECORD_TYPE = UNDEFINED
  FILE_RECORDS = UNK
  ENCODING_TYPE = "JP2"
  INTERCHANGE_FORMAT = BINARY
  UNCOMPRESSED_FILE_NAME = "H2412_0000_RE3.IMG"
  REQUIRED_STORAGE_BYTES = "25131654"
  ^DESCRIPTION = "JP2INFO.TXT"
END_OBJECT = COMPRESSED_FILE
END
