PDS_VERSION_ID = PDS3
/* FILE DATA ELEMENTS */
RECORD_TYPE = STREAM
/* POINTERS TO DATA OBJECTS */
^COMPRESSED_FILE = "H2412_0006_SR3.JP2"
/* IDENTIFICATION DATA ELEMENTS */
DATA_SET_ID = "MEX-M-HRSC-5-REFDR-MAPPROJECTED-V3.0"
DATA_SET_NAME = "MARS EXPRESS HRSC MAP PROJECTED REFDR V3.0"
DETECTOR_ID = MEX_HRSC_SRC
EVENT_TYPE = "MARS-REGIONAL-MAPPING-Im-Lc-Pf"
INSTRUMENT_HOST_ID = MEX
INSTRUMENT_HOST_NAME = "MARS EXPRESS"
INSTRUMENT_ID = HRSC
INSTRUMENT_NAME = "HIGH RESOLUTION STEREO CAMERA"
MISSION_NAME = "MARS EXPRESS"
MISSION_PHASE_NAME = MR_Phase_8
PROCESSING_LEVEL_ID = 3
PRODUCT_CREATION_TIME = 2016-04-06T10:39:59.000Z
PRODUCT_ID = "H2412_0006_SR3.JP2"
RELEASE_ID = 0030
REVISION_ID = 0000
/* QUALITY DATA ELEMENTS */
DATA_QUALITY_ID = 1
DATA_QUALITY_DESC = "Data calculated based on original SPICE kernels"
/* TIME DATA ELEMENTS */
SPACECRAFT_CLOCK_START_COUNT = "1/0081310635.56186"
SPACECRAFT_CLOCK_STOP_COUNT = "1/0081310868.29127"
IMAGE_TIME = 2005-11-29T02:18:12.085Z
START_TIME = 2005-11-29T02:18:12.083Z
STOP_TIME = 2005-11-29T02:18:12.088Z
/* ORBITAL DATA ELEMENTS */
ASCENDING_NODE_LONGITUDE = 177.62
MAXIMUM_RESOLUTION = 2.928
FOOTPRINT_POINT_LATITUDE = (-49.2866,-49.2897,-49.2921,-49.2944, -49.2962,-49.298,-49.2995,-49.3016, -49.3037,-49.3049,-49.3065,-49.3084, -49.3101,-49.3127,-49.3153,-49.3168, -49.3186,-49.3204,-49.3223,-49.3235, -49.3256,-49.3283,-49.3296,-49.3312, -49.3339,-49.3346,-49.3345,-49.3344, -49.3343,-49.3342,-49.3341,-49.334, -49.3339,-49.3338,-49.3337,-49.3336, -49.3335,-49.3335,-49.3334,-49.3333, -49.3332,-49.3331,-49.333,-49.3329, -49.3328,-49.3327,-49.3326,-49.3325, -49.3324,-49.3323,-49.3307,-49.3288, -49.3265,-49.3252,-49.3237,-49.3217, -49.3203,-49.3183,-49.3147,-49.3122, -49.3097,-49.3082,-49.3062,-49.3048, -49.3032,-49.3008,-49.2986,-49.2958, -49.2933,-49.2917,-49.2904,-49.2889, -49.2863,-49.2847,-49.2825,-49.2826, -49.2827,-49.2828,-49.2829,-49.2829, -49.283,-49.2831,-49.2833,-49.2834, -49.2835,-49.2836,-49.2837,-49.2838, -49.2839,-49.284,-49.2841,-49.2842, -49.2843,-49.2844,-49.2845,-49.2846, -49.2846,-49.2847,-49.2848,-49.2866)
FOOTPRINT_POINT_LONGITUDE = (2.82869,2.82847,2.82829,2.82812, 2.82798,2.82784,2.82773,2.82757,2.82741 ,2.82732,2.8272,2.82706,2.82693,2.82674 ,2.82655,2.82643,2.8263,2.82616,2.82602 ,2.82592,2.82577,2.82556,2.82547, 2.82535,2.82515,2.82197,2.81818,2.81514 ,2.81286,2.80983,2.80679,2.80375, 2.79996,2.79692,2.79388,2.79085,2.78781 ,2.78553,2.7825,2.77946,2.77642,2.77339 ,2.77111,2.76807,2.76504,2.76124, 2.75896,2.75668,2.75365,2.75061,2.748, 2.74814,2.74832,2.74842,2.74853,2.74869 ,2.7488,2.74894,2.74922,2.74942,2.7496, 2.74972,2.74987,2.74998,2.75011,2.75029 ,2.75046,2.75067,2.75086,2.75098, 2.75108,2.7512,2.7514,2.75152,2.75253, 2.75708,2.75935,2.76239,2.76542,2.7677, 2.77073,2.77376,2.77831,2.78135,2.78438 ,2.78741,2.79045,2.79348,2.79727, 2.79955,2.80334,2.80562,2.80865,2.81168 ,2.81548,2.81775,2.82003,2.82306, 2.82685,2.82869)
ORBIT_NUMBER = 2412
ORBITAL_ECCENTRICITY = 0.572
ORBITAL_INCLINATION = 86.63
ORBITAL_SEMIMAJOR_AXIS = 8540.97
PERIAPSIS_ALTITUDE = 273.45
PERIAPSIS_ARGUMENT_ANGLE = 294.24
PERIAPSIS_TIME = 2005-11-29T02:14:07.000Z
SPACECRAFT_ORIENTATION = (0.0,-1.0,0.0)
^MEX_ORIENTATION_DESC = "MEX_ORIENTATION_DESC.TXT"
SPACECRAFT_POINTING_MODE = NADIR
^MEX_POINTING_DESC = "MEX_POINTING_DESC.TXT"
RIGHT_ASCENSION = -1e+32
DECLINATION = -1e+32
OFFSET_ANGLE = -1e+32
SPACECRAFT_SOLAR_DISTANCE = 2.2266e+08
TARGET_NAME = MARS
/* CAMERA DATA ELEMENTS */
BUFFER_MODE_ID = BUFFER_8
EXPOSURE_DURATION = 5.04
INST_CMPRS_NAME = NONE
INST_CMPRS_RATIO = 1.0
INST_CMPRS_QUALITY = -2147483648
INST_CMPRS_QUANTZ_TBL_ID = -2147483648
INSTRUMENT_TEMPERATURE = 5.15152
MISSING_FRAMES = 0
START_BIT = 0
/* RADIOMETRIC DATA ELEMENTS */
BANDWIDTH = 250.0
CENTER_FILTER_WAVELENGTH = 600.0
RADIANCE_OFFSET = -9.99e+31
RADIANCE_SCALING_FACTOR = -9.99e+31
REFLECTANCE_SCALING_FACTOR = -9.99e+31
MEX:REFLECTANCE_OFFSET = -9.99e+31
/* IMAGE OBJECT DEFINITIONS */
OBJECT = IMAGE
  INTERCHANGE_FORMAT = BINARY
  LINES = 1325
  LINE_SAMPLES = 1333
  SAMPLE_TYPE = UNSIGNED_INTEGER
  SAMPLE_BITS = 8
  BANDS = 1
  BAND_STORAGE_TYPE = BAND_SEQUENTIAL
  MAXIMUM = 253
  MEAN = 125.393
  MINIMUM = 2
  STANDARD_DEVIATION = 25.6293
END_OBJECT = IMAGE
/* MAP OBJECT DEFINITIONS */
OBJECT = IMAGE_MAP_PROJECTION
  ^DATA_SET_MAP_PROJECTION_CATALOG= "DSMAP.CAT"
  A_AXIS_RADIUS = 3396.19
  B_AXIS_RADIUS = 3396.19
  C_AXIS_RADIUS = 3396.19
  CENTER_LATITUDE = 0.0
  CENTER_LONGITUDE = 3.0
  COORDINATE_SYSTEM_NAME = PLANETOGRAPHIC
  COORDINATE_SYSTEM_TYPE = "BODY-FIXED ROTATING"
  EASTERNMOST_LONGITUDE = 2.82869
  FIRST_STANDARD_PARALLEL = "N/A"
  LINE_FIRST_PIXEL = 1
  LINE_LAST_PIXEL = 1325
  LINE_PROJECTION_OFFSET = -1166976.0
  MAP_PROJECTION_ROTATION = 0.0
  MAP_PROJECTION_TYPE = SINUSOIDAL
  MAP_RESOLUTION = 23709.8786048756
  MAP_SCALE = 0.0025
  MAXIMUM_LATITUDE = -49.2825
  MINIMUM_LATITUDE = -49.3346
  POSITIVE_LONGITUDE_DIRECTION = EAST
  REFERENCE_LATITUDE = "N/A"
  REFERENCE_LONGITUDE = "N/A"
  SAMPLE_FIRST_PIXEL = 1
  SAMPLE_LAST_PIXEL = 1333
  SAMPLE_PROJECTION_OFFSET = 3928.0
  SECOND_STANDARD_PARALLEL = "N/A"
  WESTERNMOST_LONGITUDE = 2.748
END_OBJECT = IMAGE_MAP_PROJECTION
/* The JPEG2000 image data file associated with this label. */
OBJECT = COMPRESSED_FILE
  FILE_NAME = "H2412_0006_SR3.JP2"
  RECORD_TYPE = UNDEFINED
  FILE_RECORDS = UNK
  ENCODING_TYPE = "JP2"
  INTERCHANGE_FORMAT = BINARY
  UNCOMPRESSED_FILE_NAME = "H2412_0006_SR3.IMG"
  REQUIRED_STORAGE_BYTES = "1786220"
  ^DESCRIPTION = "JP2INFO.TXT"
END_OBJECT = COMPRESSED_FILE
END
