PDS_VERSION_ID = PDS3
/* FILE DATA ELEMENTS */
RECORD_TYPE = STREAM
/* POINTERS TO DATA OBJECTS */
^COMPRESSED_FILE = "H2412_0007_SR3.JP2"
/* IDENTIFICATION DATA ELEMENTS */
DATA_SET_ID = "MEX-M-HRSC-5-REFDR-MAPPROJECTED-V3.0"
DATA_SET_NAME = "MARS EXPRESS HRSC MAP PROJECTED REFDR V3.0"
DETECTOR_ID = MEX_HRSC_SRC
EVENT_TYPE = "MARS-REGIONAL-MAPPING-Im-Lc-Pf"
INSTRUMENT_HOST_ID = MEX
INSTRUMENT_HOST_NAME = "MARS EXPRESS"
INSTRUMENT_ID = HRSC
INSTRUMENT_NAME = "HIGH RESOLUTION STEREO CAMERA"
MISSION_NAME = "MARS EXPRESS"
MISSION_PHASE_NAME = MR_Phase_8
PROCESSING_LEVEL_ID = 3
PRODUCT_CREATION_TIME = 2016-04-06T10:39:59.000Z
PRODUCT_ID = "H2412_0007_SR3.JP2"
RELEASE_ID = 0030
REVISION_ID = 0000
/* QUALITY DATA ELEMENTS */
DATA_QUALITY_ID = 1
DATA_QUALITY_DESC = "Data calculated based on original SPICE kernels"
/* TIME DATA ELEMENTS */
SPACECRAFT_CLOCK_START_COUNT = "1/0081310635.56186"
SPACECRAFT_CLOCK_STOP_COUNT = "1/0081310868.29127"
IMAGE_TIME = 2005-11-29T02:18:12.630Z
START_TIME = 2005-11-29T02:18:12.628Z
STOP_TIME = 2005-11-29T02:18:12.633Z
/* ORBITAL DATA ELEMENTS */
ASCENDING_NODE_LONGITUDE = 177.62
MAXIMUM_RESOLUTION = 2.931
FOOTPRINT_POINT_LATITUDE = (-49.2511,-49.2539,-49.2565,-49.2583, -49.261,-49.2638,-49.2658,-49.2672, -49.2691,-49.2713,-49.2733,-49.2754, -49.2771,-49.2789,-49.2815,-49.2838, -49.2866,-49.2885,-49.2899,-49.2913, -49.2935,-49.2954,-49.2969,-49.2992, -49.2992,-49.2991,-49.299,-49.2989, -49.2988,-49.2987,-49.2986,-49.2985, -49.2984,-49.2983,-49.2982,-49.2981, -49.298,-49.2979,-49.2978,-49.2977, -49.2976,-49.2975,-49.2974,-49.2973, -49.2972,-49.2971,-49.297,-49.2969, -49.2969,-49.2959,-49.2937,-49.2921, -49.2907,-49.2891,-49.2869,-49.2845, -49.2818,-49.2793,-49.2776,-49.2751, -49.2724,-49.2705,-49.2683,-49.2664, -49.2635,-49.2616,-49.2602,-49.2588, -49.2572,-49.2551,-49.2533,-49.2517, -49.2503,-49.2483,-49.2469,-49.247, -49.2471,-49.2472,-49.2473,-49.2474, -49.2475,-49.2476,-49.2477,-49.2478, -49.2479,-49.248,-49.2481,-49.2482, -49.2483,-49.2484,-49.2485,-49.2487, -49.2488,-49.2489,-49.249,-49.2491, -49.2492,-49.2493,-49.2494,-49.2511)
FOOTPRINT_POINT_LONGITUDE = (2.8314,2.8312,2.831,2.83087,2.83066, 2.83045,2.8303,2.8302,2.83005,2.82989, 2.82974,2.82958,2.82946,2.82932,2.82913 ,2.82895,2.82875,2.82861,2.82849, 2.82839,2.82823,2.82809,2.82798,2.82772 ,2.82468,2.82165,2.81861,2.81557, 2.81254,2.8095,2.80722,2.80419,2.80115, 2.79811,2.79583,2.7928,2.78976,2.78672, 2.78369,2.77989,2.77686,2.77382,2.77078 ,2.76775,2.76471,2.76091,2.75864,2.7556 ,2.75332,2.75065,2.75082,2.75095, 2.75105,2.75117,2.75135,2.75153,2.75173 ,2.75192,2.75205,2.75225,2.75245,2.7526 ,2.75276,2.75291,2.75313,2.75327, 2.75338,2.75349,2.75361,2.75377,2.75391 ,2.75403,2.75414,2.75429,2.75447, 2.75675,2.75978,2.76281,2.76509,2.76812 ,2.77192,2.77571,2.77874,2.78329, 2.78633,2.78936,2.79239,2.79543,2.79846 ,2.80149,2.80377,2.80832,2.81211, 2.81515,2.81894,2.82197,2.82576,2.82804 ,2.83107,2.8314)
ORBIT_NUMBER = 2412
ORBITAL_ECCENTRICITY = 0.572
ORBITAL_INCLINATION = 86.63
ORBITAL_SEMIMAJOR_AXIS = 8540.97
PERIAPSIS_ALTITUDE = 273.45
PERIAPSIS_ARGUMENT_ANGLE = 294.24
PERIAPSIS_TIME = 2005-11-29T02:14:07.000Z
SPACECRAFT_ORIENTATION = (0.0,-1.0,0.0)
^MEX_ORIENTATION_DESC = "MEX_ORIENTATION_DESC.TXT"
SPACECRAFT_POINTING_MODE = NADIR
^MEX_POINTING_DESC = "MEX_POINTING_DESC.TXT"
RIGHT_ASCENSION = -1e+32
DECLINATION = -1e+32
OFFSET_ANGLE = -1e+32
SPACECRAFT_SOLAR_DISTANCE = 2.2266e+08
TARGET_NAME = MARS
/* CAMERA DATA ELEMENTS */
BUFFER_MODE_ID = BUFFER_8
EXPOSURE_DURATION = 5.04
INST_CMPRS_NAME = NONE
INST_CMPRS_RATIO = 1.0
INST_CMPRS_QUALITY = -2147483648
INST_CMPRS_QUANTZ_TBL_ID = -2147483648
INSTRUMENT_TEMPERATURE = 5.15152
MISSING_FRAMES = 0
START_BIT = 0
/* RADIOMETRIC DATA ELEMENTS */
BANDWIDTH = 250.0
CENTER_FILTER_WAVELENGTH = 600.0
RADIANCE_OFFSET = -9.99e+31
RADIANCE_SCALING_FACTOR = -9.99e+31
REFLECTANCE_SCALING_FACTOR = -9.99e+31
MEX:REFLECTANCE_OFFSET = -9.99e+31
/* IMAGE OBJECT DEFINITIONS */
OBJECT = IMAGE
  INTERCHANGE_FORMAT = BINARY
  LINES = 1326
  LINE_SAMPLES = 1334
  SAMPLE_TYPE = UNSIGNED_INTEGER
  SAMPLE_BITS = 8
  BANDS = 1
  BAND_STORAGE_TYPE = BAND_SEQUENTIAL
  MAXIMUM = 250
  MEAN = 123.789
  MINIMUM = 4
  STANDARD_DEVIATION = 38.2263
END_OBJECT = IMAGE
/* MAP OBJECT DEFINITIONS */
OBJECT = IMAGE_MAP_PROJECTION
  ^DATA_SET_MAP_PROJECTION_CATALOG= "DSMAP.CAT"
  A_AXIS_RADIUS = 3396.19
  B_AXIS_RADIUS = 3396.19
  C_AXIS_RADIUS = 3396.19
  CENTER_LATITUDE = 0.0
  CENTER_LONGITUDE = 3.0
  COORDINATE_SYSTEM_NAME = PLANETOGRAPHIC
  COORDINATE_SYSTEM_TYPE = "BODY-FIXED ROTATING"
  EASTERNMOST_LONGITUDE = 2.8314
  FIRST_STANDARD_PARALLEL = "N/A"
  LINE_FIRST_PIXEL = 1
  LINE_LAST_PIXEL = 1326
  LINE_PROJECTION_OFFSET = -1166137.0
  MAP_PROJECTION_ROTATION = 0.0
  MAP_PROJECTION_TYPE = SINUSOIDAL
  MAP_RESOLUTION = 23709.8786048756
  MAP_SCALE = 0.0025
  MAXIMUM_LATITUDE = -49.2469
  MINIMUM_LATITUDE = -49.2992
  POSITIVE_LONGITUDE_DIRECTION = EAST
  REFERENCE_LATITUDE = "N/A"
  REFERENCE_LONGITUDE = "N/A"
  SAMPLE_FIRST_PIXEL = 1
  SAMPLE_LAST_PIXEL = 1334
  SAMPLE_PROJECTION_OFFSET = 3889.0
  SECOND_STANDARD_PARALLEL = "N/A"
  WESTERNMOST_LONGITUDE = 2.75065
END_OBJECT = IMAGE_MAP_PROJECTION
/* The JPEG2000 image data file associated with this label. */
OBJECT = COMPRESSED_FILE
  FILE_NAME = "H2412_0007_SR3.JP2"
  RECORD_TYPE = UNDEFINED
  FILE_RECORDS = UNK
  ENCODING_TYPE = "JP2"
  INTERCHANGE_FORMAT = BINARY
  UNCOMPRESSED_FILE_NAME = "H2412_0007_SR3.IMG"
  REQUIRED_STORAGE_BYTES = "1788894"
  ^DESCRIPTION = "JP2INFO.TXT"
END_OBJECT = COMPRESSED_FILE
END
