PDS_VERSION_ID = PDS3
/* FILE DATA ELEMENTS */
RECORD_TYPE = STREAM
/* POINTERS TO DATA OBJECTS */
^COMPRESSED_FILE = "H2414_0000_P23.JP2"
/* IDENTIFICATION DATA ELEMENTS */
DATA_SET_ID = "MEX-M-HRSC-5-REFDR-MAPPROJECTED-V3.0"
DATA_SET_NAME = "MARS EXPRESS HRSC MAP PROJECTED REFDR V3.0"
DETECTOR_ID = MEX_HRSC_P2
EVENT_TYPE = "MARS-REGIONAL-MAPPING-Im-Fl"
INSTRUMENT_HOST_ID = MEX
INSTRUMENT_HOST_NAME = "MARS EXPRESS"
INSTRUMENT_ID = HRSC
INSTRUMENT_NAME = "HIGH RESOLUTION STEREO CAMERA"
MISSION_NAME = "MARS EXPRESS"
MISSION_PHASE_NAME = MR_Phase_8
PROCESSING_LEVEL_ID = 3
PRODUCT_CREATION_TIME = 2016-04-06T10:39:59.000Z
PRODUCT_ID = "H2414_0000_P23.JP2"
RELEASE_ID = 0030
REVISION_ID = 0000
/* QUALITY DATA ELEMENTS */
DATA_QUALITY_ID = 1
DATA_QUALITY_DESC = "Data calculated based on original SPICE kernels"
/* TIME DATA ELEMENTS */
SPACECRAFT_CLOCK_START_COUNT = "1/0081358904.57986"
SPACECRAFT_CLOCK_STOP_COUNT = "1/0081359173.55399"
START_TIME = 2005-11-29T15:42:33.157Z
STOP_TIME = 2005-11-29T15:46:05.494Z
/* ORBITAL DATA ELEMENTS */
ASCENDING_NODE_LONGITUDE = 177.58
MAXIMUM_RESOLUTION = 47.7
FOOTPRINT_POINT_LATITUDE = (-56.775,-56.7951,-56.8147,-56.5047, -56.2635,-56.0227,-55.6565,-55.4063, -55.1576,-54.9115,-54.6632,-54.4145, -54.166,-53.9148,-53.5359,-53.2801, -52.8966,-52.6409,-52.3856,-52.1304, -51.8755,-51.4845,-51.2225,-50.9597, -50.698,-50.3056,-50.0398,-49.7699, -49.5005,-49.0964,-48.8276,-48.5537, -48.2763,-47.8657,-47.5908,-47.3138, -47.0343,-46.765,-46.4914,-46.2157, -45.9108,-45.6392,-45.3677,-45.0965, -44.7822,-44.4605,-44.1392,-43.8188, -43.4625,-43.4568,-43.4511,-43.4432, -43.4327,-43.4218,-43.7413,-44.0617, -44.3822,-44.7046,-45.0242,-45.294, -45.5652,-45.8365,-46.1082,-46.4141, -46.6866,-46.9588,-47.233,-47.6494, -47.9252,-48.1985,-48.4754,-48.7492, -49.1517,-49.4201,-49.6889,-49.9579, -50.3529,-50.6135,-50.8781,-51.2689, -51.5311,-51.7898,-52.1708,-52.4262, -52.6817,-52.9365,-53.3187,-53.7039, -53.9517,-54.1995,-54.4474,-54.6956, -55.0679,-55.3128,-55.5616,-55.9279, -56.1683,-56.409,-56.6497,-56.775)
FOOTPRINT_POINT_LONGITUDE = (165.203,165.699,166.227,166.54,166.569 ,166.598,166.64,166.668,166.697,166.726 ,166.754,166.78,166.806,166.83,166.864, 166.89,166.928,166.953,166.977,167.001, 167.024,167.059,167.083,167.106,167.129 ,167.162,167.184,167.206,167.227, 167.258,167.279,167.299,167.319,167.351 ,167.372,167.39,167.406,167.427,167.446 ,167.462,167.483,167.5,167.518,167.535, 167.555,167.575,167.594,167.613,167.427 ,167.133,166.874,166.564,166.132, 165.783,165.77,165.757,165.743,165.728, 165.714,165.701,165.688,165.674,165.66, 165.643,165.628,165.613,165.597,165.568 ,165.55,165.533,165.514,165.495,165.465 ,165.445,165.425,165.404,165.373, 165.352,165.327,165.295,165.271,165.248 ,165.212,165.186,165.16,165.134,165.094 ,165.046,165.017,164.988,164.959, 164.928,164.882,164.854,164.822,164.772 ,164.739,164.705,164.67,165.203)
ORBIT_NUMBER = 2414
ORBITAL_ECCENTRICITY = 0.572
ORBITAL_INCLINATION = 86.63
ORBITAL_SEMIMAJOR_AXIS = 8541.05
PERIAPSIS_ALTITUDE = 273.95
PERIAPSIS_ARGUMENT_ANGLE = 293.91
PERIAPSIS_TIME = 2005-11-29T15:40:01.000Z
SPACECRAFT_ORIENTATION = (0.0,-1.0,0.0)
^MEX_ORIENTATION_DESC = "MEX_ORIENTATION_DESC.TXT"
SPACECRAFT_POINTING_MODE = NADIR
^MEX_POINTING_DESC = "MEX_POINTING_DESC.TXT"
RIGHT_ASCENSION = -1e+32
DECLINATION = -1e+32
OFFSET_ANGLE = -1e+32
SPACECRAFT_SOLAR_DISTANCE = 2.22768e+08
TARGET_NAME = MARS
/* CAMERA DATA ELEMENTS */
DETECTOR_TEMPERATURE = 18.1666
FOCAL_PLANE_TEMPERATURE = 7.156
INST_CMPRS_NAME = "DISCRETE COSINE TRANSFORMATION (DCT)"
INST_CMPRS_RATIO = 10.5393
INST_CMPRS_QUALITY = 0
INST_CMPRS_QUANTZ_TBL_ID = 0
INSTRUMENT_TEMPERATURE = 11.8457
LENS_TEMPERATURE = 8.3794
MACROPIXEL_SIZE = 4
MISSING_FRAMES = 5
PIXEL_SUBSAMPLING_FLAG = N
SIGNAL_CHAIN_ID = 3
/* RADIOMETRIC DATA ELEMENTS */
BANDWIDTH = 177.0
CENTER_FILTER_WAVELENGTH = 676.5
RADIANCE_OFFSET = 4.59167
RADIANCE_SCALING_FACTOR = 0.0186614
REFLECTANCE_SCALING_FACTOR = 0.000491027
MEX:REFLECTANCE_OFFSET = 0.120819
/* IMAGE OBJECT DEFINITIONS */
OBJECT = IMAGE
  INTERCHANGE_FORMAT = BINARY
  LINES = 15960
  LINE_SAMPLES = 2273
  SAMPLE_TYPE = UNSIGNED_INTEGER
  SAMPLE_BITS = 8
  BANDS = 1
  BAND_STORAGE_TYPE = BAND_SEQUENTIAL
  MAXIMUM = 255
  MEAN = 132.42
  MINIMUM = 1
  STANDARD_DEVIATION = 50.2749
END_OBJECT = IMAGE
/* MAP OBJECT DEFINITIONS */
OBJECT = IMAGE_MAP_PROJECTION
  ^DATA_SET_MAP_PROJECTION_CATALOG= "DSMAP.CAT"
  A_AXIS_RADIUS = 3396.0
  B_AXIS_RADIUS = 3396.0
  C_AXIS_RADIUS = 3396.0
  CENTER_LATITUDE = 0.0
  CENTER_LONGITUDE = 166.0
  COORDINATE_SYSTEM_NAME = PLANETOGRAPHIC
  COORDINATE_SYSTEM_TYPE = "BODY-FIXED ROTATING"
  EASTERNMOST_LONGITUDE = 167.613
  FIRST_STANDARD_PARALLEL = "N/A"
  LINE_FIRST_PIXEL = 1
  LINE_LAST_PIXEL = 15960
  LINE_PROJECTION_OFFSET = -51455.625
  MAP_PROJECTION_ROTATION = 0.0
  MAP_PROJECTION_TYPE = SINUSOIDAL
  MAP_RESOLUTION = 1185.42760773333
  MAP_SCALE = 0.05
  MAXIMUM_LATITUDE = -43.4218
  MINIMUM_LATITUDE = -56.8147
  POSITIVE_LONGITUDE_DIRECTION = EAST
  REFERENCE_LATITUDE = "N/A"
  REFERENCE_LONGITUDE = "N/A"
  SAMPLE_FIRST_PIXEL = 1
  SAMPLE_LAST_PIXEL = 2273
  SAMPLE_PROJECTION_OFFSET = 867.875
  SECOND_STANDARD_PARALLEL = "N/A"
  WESTERNMOST_LONGITUDE = 164.67
END_OBJECT = IMAGE_MAP_PROJECTION
/* The JPEG2000 image data file associated with this label. */
OBJECT = COMPRESSED_FILE
  FILE_NAME = "H2414_0000_P23.JP2"
  RECORD_TYPE = UNDEFINED
  FILE_RECORDS = UNK
  ENCODING_TYPE = "JP2"
  INTERCHANGE_FORMAT = BINARY
  UNCOMPRESSED_FILE_NAME = "H2414_0000_P23.IMG"
  REQUIRED_STORAGE_BYTES = "36299810"
  ^DESCRIPTION = "JP2INFO.TXT"
END_OBJECT = COMPRESSED_FILE
END
