PDS_VERSION_ID = PDS3
/* FILE DATA ELEMENTS */
RECORD_TYPE = STREAM
/* POINTERS TO DATA OBJECTS */
^COMPRESSED_FILE = "H2415_0000_BL3.JP2"
/* IDENTIFICATION DATA ELEMENTS */
DATA_SET_ID = "MEX-M-HRSC-5-REFDR-MAPPROJECTED-V3.0"
DATA_SET_NAME = "MARS EXPRESS HRSC MAP PROJECTED REFDR V3.0"
DETECTOR_ID = MEX_HRSC_BLUE
EVENT_TYPE = "MARS-REGIONAL-MAPPING-Vo-Im-Gl"
INSTRUMENT_HOST_ID = MEX
INSTRUMENT_HOST_NAME = "MARS EXPRESS"
INSTRUMENT_ID = HRSC
INSTRUMENT_NAME = "HIGH RESOLUTION STEREO CAMERA"
MISSION_NAME = "MARS EXPRESS"
MISSION_PHASE_NAME = MR_Phase_8
PROCESSING_LEVEL_ID = 3
PRODUCT_CREATION_TIME = 2016-04-06T10:39:59.000Z
PRODUCT_ID = "H2415_0000_BL3.JP2"
RELEASE_ID = 0030
REVISION_ID = 0000
/* QUALITY DATA ELEMENTS */
DATA_QUALITY_ID = 1
DATA_QUALITY_DESC = "Data calculated based on original SPICE kernels"
/* TIME DATA ELEMENTS */
SPACECRAFT_CLOCK_START_COUNT = "1/0081382823.56199"
SPACECRAFT_CLOCK_STOP_COUNT = "1/0081383184.05107"
START_TIME = 2005-11-29T22:21:00.881Z
STOP_TIME = 2005-11-29T22:26:06.165Z
/* ORBITAL DATA ELEMENTS */
ASCENDING_NODE_LONGITUDE = 177.56
MAXIMUM_RESOLUTION = 43.3
FOOTPRINT_POINT_LATITUDE = (-73.8183,-73.897,-73.9446,-73.7934, -73.4126,-72.8485,-72.4811,-72.1125, -71.7446,-71.3759,-71.0067,-70.6368, -68.5968,-68.2264,-67.8705,-67.5146, -66.9807,-66.6244,-66.2685,-65.9128, -65.5566,-65.0224,-64.4885,-63.9545, -63.4207,-63.0647,-62.5314,-61.9799, -61.6096,-61.2399,-60.87,-60.5005, -60.1311,-59.7622,-59.3932,-59.0244, -58.656,-58.1047,-57.7371,-57.1709, -56.7895,-56.4085,-56.0279,-55.6478, -55.268,-54.8889,-54.4991,-54.3025, -54.1059,-53.9095,-53.6812,-53.6615, -53.6488,-53.6328,-53.8201,-54.2122, -54.4083,-54.7978,-55.1764,-55.5552, -55.9343,-56.3138,-56.6938,-57.0739, -57.6394,-58.0059,-58.3724,-58.9232, -59.2903,-59.6581,-60.0258,-60.3939, -60.9461,-61.4988,-61.8672,-62.4173, -62.9483,-63.3023,-63.6564,-64.1876, -64.5416,-64.8958,-65.6037,-66.1344, -66.6649,-67.0185,-67.372,-67.7252, -68.0784,-68.445,-70.4669,-70.8326, -71.1977,-71.7441,-72.1086,-72.4719, -72.8347,-73.2082,-73.5843,-73.8183)
FOOTPRINT_POINT_LONGITUDE = (60.7561,62.133,63.0578,63.6926,63.9113 ,64.2084,64.395,64.57,64.7421,64.9047, 65.0603,65.2079,65.9379,66.0542,66.162, 66.2662,66.4161,66.5112,66.6044,66.6956 ,66.7824,66.9075,67.0277,67.1421, 67.2517,67.3212,67.4233,67.5239,67.5886 ,67.6525,67.7138,67.7736,67.8319, 67.8892,67.9441,67.9974,68.0497,68.1278 ,68.1769,68.2512,68.2994,68.3464, 68.3924,68.4375,68.4815,68.525,68.5676, 68.5887,68.6095,68.6301,68.3517,67.7818 ,67.4464,67.0616,66.8342,66.7894, 66.7669,66.7212,66.6741,66.6261,66.5767 ,66.5251,66.4713,66.4164,66.3299, 66.2711,66.2109,66.1151,66.0496,65.9802 ,65.9092,65.8352,65.7203,65.5987, 65.5146,65.3823,65.2488,65.1565,65.0609 ,64.911,64.8072,64.699,64.4727,64.2927, 64.1026,63.97,63.8318,63.6894,63.5411, 63.3819,62.3804,62.1718,61.9557,61.6173 ,61.3722,61.122,60.8598,60.5768,60.2771 ,60.7561)
ORBIT_NUMBER = 2415
ORBITAL_ECCENTRICITY = 0.572
ORBITAL_INCLINATION = 86.64
ORBITAL_SEMIMAJOR_AXIS = 8541.62
PERIAPSIS_ALTITUDE = 272.74
PERIAPSIS_ARGUMENT_ANGLE = 293.73
PERIAPSIS_TIME = 2005-11-29T22:22:55.000Z
SPACECRAFT_ORIENTATION = (0.0,-1.0,0.0)
^MEX_ORIENTATION_DESC = "MEX_ORIENTATION_DESC.TXT"
SPACECRAFT_POINTING_MODE = NADIR
^MEX_POINTING_DESC = "MEX_POINTING_DESC.TXT"
RIGHT_ASCENSION = -1e+32
DECLINATION = -1e+32
OFFSET_ANGLE = -1e+32
SPACECRAFT_SOLAR_DISTANCE = 2.22822e+08
TARGET_NAME = MARS
/* CAMERA DATA ELEMENTS */
DETECTOR_TEMPERATURE = 17.9627
FOCAL_PLANE_TEMPERATURE = 7.9716
INST_CMPRS_NAME = "DISCRETE COSINE TRANSFORMATION (DCT)"
INST_CMPRS_RATIO = 7.24089
INST_CMPRS_QUALITY = 0
INST_CMPRS_QUANTZ_TBL_ID = 0
INSTRUMENT_TEMPERATURE = 10.8262
LENS_TEMPERATURE = 9.8067
MACROPIXEL_SIZE = 4
MISSING_FRAMES = 326
PIXEL_SUBSAMPLING_FLAG = N
SIGNAL_CHAIN_ID = 2
/* RADIOMETRIC DATA ELEMENTS */
BANDWIDTH = 76.0
CENTER_FILTER_WAVELENGTH = 444.0
RADIANCE_OFFSET = 0.556213
RADIANCE_SCALING_FACTOR = 0.00188243
REFLECTANCE_SCALING_FACTOR = 9.60261e-05
MEX:REFLECTANCE_OFFSET = 0.0283734
/* IMAGE OBJECT DEFINITIONS */
OBJECT = IMAGE
  INTERCHANGE_FORMAT = BINARY
  LINES = 24146
  LINE_SAMPLES = 3758
  SAMPLE_TYPE = UNSIGNED_INTEGER
  SAMPLE_BITS = 8
  BANDS = 1
  BAND_STORAGE_TYPE = BAND_SEQUENTIAL
  MAXIMUM = 255
  MEAN = 128.31
  MINIMUM = 1
  STANDARD_DEVIATION = 46.1269
END_OBJECT = IMAGE
/* MAP OBJECT DEFINITIONS */
OBJECT = IMAGE_MAP_PROJECTION
  ^DATA_SET_MAP_PROJECTION_CATALOG= "DSMAP.CAT"
  A_AXIS_RADIUS = 3396.0
  B_AXIS_RADIUS = 3396.0
  C_AXIS_RADIUS = 3396.0
  CENTER_LATITUDE = 0.0
  CENTER_LONGITUDE = 66.0
  COORDINATE_SYSTEM_NAME = PLANETOGRAPHIC
  COORDINATE_SYSTEM_TYPE = "BODY-FIXED ROTATING"
  EASTERNMOST_LONGITUDE = 68.6301
  FIRST_STANDARD_PARALLEL = "N/A"
  LINE_FIRST_PIXEL = 1
  LINE_LAST_PIXEL = 24146
  LINE_PROJECTION_OFFSET = -63555.875
  MAP_PROJECTION_ROTATION = 0.0
  MAP_PROJECTION_TYPE = SINUSOIDAL
  MAP_RESOLUTION = 1185.42760773333
  MAP_SCALE = 0.05
  MAXIMUM_LATITUDE = -53.6328
  MINIMUM_LATITUDE = -73.94459999999999
  POSITIVE_LONGITUDE_DIRECTION = EAST
  REFERENCE_LATITUDE = "N/A"
  REFERENCE_LONGITUDE = "N/A"
  SAMPLE_FIRST_PIXEL = 1
  SAMPLE_LAST_PIXEL = 3758
  SAMPLE_PROJECTION_OFFSET = 1919.875
  SECOND_STANDARD_PARALLEL = "N/A"
  WESTERNMOST_LONGITUDE = 60.2771
END_OBJECT = IMAGE_MAP_PROJECTION
/* The JPEG2000 image data file associated with this label. */
OBJECT = COMPRESSED_FILE
  FILE_NAME = "H2415_0000_BL3.JP2"
  RECORD_TYPE = UNDEFINED
  FILE_RECORDS = UNK
  ENCODING_TYPE = "JP2"
  INTERCHANGE_FORMAT = BINARY
  UNCOMPRESSED_FILE_NAME = "H2415_0000_BL3.IMG"
  REQUIRED_STORAGE_BYTES = "90763216"
  ^DESCRIPTION = "JP2INFO.TXT"
END_OBJECT = COMPRESSED_FILE
END
