PDS_VERSION_ID = PDS3
/* FILE DATA ELEMENTS */
RECORD_TYPE = STREAM
/* POINTERS TO DATA OBJECTS */
^COMPRESSED_FILE = "H2416_0000_S13.JP2"
/* IDENTIFICATION DATA ELEMENTS */
DATA_SET_ID = "MEX-M-HRSC-5-REFDR-MAPPROJECTED-V3.0"
DATA_SET_NAME = "MARS EXPRESS HRSC MAP PROJECTED REFDR V3.0"
DETECTOR_ID = MEX_HRSC_S1
EVENT_TYPE = "MARS-REGIONAL-MAPPING-Fl-Gl-Pf"
INSTRUMENT_HOST_ID = MEX
INSTRUMENT_HOST_NAME = "MARS EXPRESS"
INSTRUMENT_ID = HRSC
INSTRUMENT_NAME = "HIGH RESOLUTION STEREO CAMERA"
MISSION_NAME = "MARS EXPRESS"
MISSION_PHASE_NAME = MR_Phase_8
PROCESSING_LEVEL_ID = 3
PRODUCT_CREATION_TIME = 2016-04-06T10:39:59.000Z
PRODUCT_ID = "H2416_0000_S13.JP2"
RELEASE_ID = 0030
REVISION_ID = 0000
/* QUALITY DATA ELEMENTS */
DATA_QUALITY_ID = 1
DATA_QUALITY_DESC = "Data calculated based on original SPICE kernels"
/* TIME DATA ELEMENTS */
SPACECRAFT_CLOCK_START_COUNT = "1/0081406934.57159"
SPACECRAFT_CLOCK_STOP_COUNT = "1/0081407204.15076"
START_TIME = 2005-11-30T05:02:21.745Z
STOP_TIME = 2005-11-30T05:06:00.275Z
/* ORBITAL DATA ELEMENTS */
ASCENDING_NODE_LONGITUDE = 177.54
MAXIMUM_RESOLUTION = 23.2
FOOTPRINT_POINT_LATITUDE = (-78.2488,-78.301,-78.3241,-78.345, -78.3636,-78.386,-78.144,-77.8396, -77.5358,-77.2305,-76.9252,-76.6303, -76.3347,-76.0379,-75.7417,-75.4437, -75.1451,-74.8491,-74.4154,-74.1254, -73.834,-73.5463,-73.254,-72.9637, -72.6724,-72.2377,-71.9568,-71.6749, -71.3902,-70.9683,-70.6826,-70.3997, -70.1154,-69.6866,-69.3995,-69.1175, -68.6899,-68.4044,-67.9921,-67.7166, -67.4417,-67.1657,-66.7539,-66.4745, -66.1962,-65.9245,-65.6466,-65.369, -65.0891,-64.8109,-64.5324,-64.2544, -63.9764,-63.9854,-63.9891,-64.1263, -64.4029,-64.8177,-65.2323,-65.5086, -65.7847,-66.0604,-66.3357,-66.6106, -67.0223,-67.2972,-67.5713,-67.8452, -68.1192,-68.392,-68.6754,-69.0998, -69.3852,-69.6679,-69.9502,-70.2319, -70.5129,-70.9342,-71.3549,-71.7749, -72.0525,-72.4778,-72.7666,-73.1987, -73.4903,-73.7757,-74.0616,-74.4898, -74.7744,-75.0668,-75.3607,-75.6537, -76.0915,-76.5279,-76.818,-77.1174, -77.416,-77.7141,-78.0111,-78.2488)
FOOTPRINT_POINT_LONGITUDE = (321.592,323.178,323.994,324.824,325.67 ,326.914,327.546,327.735,327.908, 328.077,328.236,328.38,328.518,328.654, 328.778,328.904,329.024,329.134,329.295 ,329.398,329.502,329.585,329.682, 329.766,329.85,329.968,330.04,330.112, 330.19,330.283,330.356,330.417,330.479, 330.574,330.638,330.684,330.762,330.815 ,330.885,330.932,330.974,331.018, 331.075,331.124,331.168,331.193,331.233 ,331.271,331.313,331.349,331.385, 331.418,331.452,330.505,329.726,329.111 ,329.054,328.967,328.875,328.812, 328.747,328.68,328.612,328.541,328.432, 328.356,328.278,328.198,328.115,328.03, 327.939,327.798,327.696,327.594,327.489 ,327.381,327.27,327.096,326.913,326.72, 326.588,326.376,326.224,325.986,325.813 ,325.643,325.464,325.183,324.986, 324.776,324.554,324.324,323.96,323.571, 323.296,322.999,322.686,322.358,322.012 ,321.592)
ORBIT_NUMBER = 2416
ORBITAL_ECCENTRICITY = 0.572
ORBITAL_INCLINATION = 86.64
ORBITAL_SEMIMAJOR_AXIS = 8538.44
PERIAPSIS_ALTITUDE = 273.43
PERIAPSIS_ARGUMENT_ANGLE = 293.56
PERIAPSIS_TIME = 2005-11-30T05:05:50.000Z
SPACECRAFT_ORIENTATION = (0.0,-1.0,0.0)
^MEX_ORIENTATION_DESC = "MEX_ORIENTATION_DESC.TXT"
SPACECRAFT_POINTING_MODE = ACROSSTRACK
^MEX_POINTING_DESC = "MEX_POINTING_DESC.TXT"
RIGHT_ASCENSION = -1e+32
DECLINATION = -1e+32
OFFSET_ANGLE = -0.98
SPACECRAFT_SOLAR_DISTANCE = 2.22876e+08
TARGET_NAME = MARS
/* CAMERA DATA ELEMENTS */
DETECTOR_TEMPERATURE = 17.351
FOCAL_PLANE_TEMPERATURE = 8.7872
INST_CMPRS_NAME = "DISCRETE COSINE TRANSFORMATION (DCT)"
INST_CMPRS_RATIO = 9.49592
INST_CMPRS_QUALITY = 0
INST_CMPRS_QUANTZ_TBL_ID = 0
INSTRUMENT_TEMPERATURE = 11.4379
LENS_TEMPERATURE = 23.8758
MACROPIXEL_SIZE = 2
MISSING_FRAMES = 0
PIXEL_SUBSAMPLING_FLAG = N
SIGNAL_CHAIN_ID = 1
/* RADIOMETRIC DATA ELEMENTS */
BANDWIDTH = 180.0
CENTER_FILTER_WAVELENGTH = 677.0
RADIANCE_OFFSET = 4.1306
RADIANCE_SCALING_FACTOR = 0.0138279
REFLECTANCE_SCALING_FACTOR = 0.000358364
MEX:REFLECTANCE_OFFSET = 0.107049
/* IMAGE OBJECT DEFINITIONS */
OBJECT = IMAGE
  INTERCHANGE_FORMAT = BINARY
  LINES = 34011
  LINE_SAMPLES = 6074
  SAMPLE_TYPE = UNSIGNED_INTEGER
  SAMPLE_BITS = 8
  BANDS = 1
  BAND_STORAGE_TYPE = BAND_SEQUENTIAL
  MAXIMUM = 255
  MEAN = 122.974
  MINIMUM = 1
  STANDARD_DEVIATION = 33.801
END_OBJECT = IMAGE
/* MAP OBJECT DEFINITIONS */
OBJECT = IMAGE_MAP_PROJECTION
  ^DATA_SET_MAP_PROJECTION_CATALOG= "DSMAP.CAT"
  A_AXIS_RADIUS = 3396.0
  B_AXIS_RADIUS = 3396.0
  C_AXIS_RADIUS = 3396.0
  CENTER_LATITUDE = 0.0
  CENTER_LONGITUDE = 329.0
  COORDINATE_SYSTEM_NAME = PLANETOGRAPHIC
  COORDINATE_SYSTEM_TYPE = "BODY-FIXED ROTATING"
  EASTERNMOST_LONGITUDE = 331.452
  FIRST_STANDARD_PARALLEL = "N/A"
  LINE_FIRST_PIXEL = 1
  LINE_LAST_PIXEL = 34011
  LINE_PROJECTION_OFFSET = -151591.25
  MAP_PROJECTION_ROTATION = 0.0
  MAP_PROJECTION_TYPE = SINUSOIDAL
  MAP_RESOLUTION = 2370.85521546667
  MAP_SCALE = 0.025
  MAXIMUM_LATITUDE = -63.9764
  MINIMUM_LATITUDE = -78.386
  POSITIVE_LONGITUDE_DIRECTION = EAST
  REFERENCE_LATITUDE = "N/A"
  REFERENCE_LONGITUDE = "N/A"
  SAMPLE_FIRST_PIXEL = 1
  SAMPLE_LAST_PIXEL = 6074
  SAMPLE_PROJECTION_OFFSET = 3504.75
  SECOND_STANDARD_PARALLEL = "N/A"
  WESTERNMOST_LONGITUDE = 321.592
END_OBJECT = IMAGE_MAP_PROJECTION
/* The JPEG2000 image data file associated with this label. */
OBJECT = COMPRESSED_FILE
  FILE_NAME = "H2416_0000_S13.JP2"
  RECORD_TYPE = UNDEFINED
  FILE_RECORDS = UNK
  ENCODING_TYPE = "JP2"
  INTERCHANGE_FORMAT = BINARY
  UNCOMPRESSED_FILE_NAME = "H2416_0000_S13.IMG"
  REQUIRED_STORAGE_BYTES = "206613184"
  ^DESCRIPTION = "JP2INFO.TXT"
END_OBJECT = COMPRESSED_FILE
END
