PDS_VERSION_ID = PDS3
/* FILE DATA ELEMENTS */
RECORD_TYPE = STREAM
/* POINTERS TO DATA OBJECTS */
^COMPRESSED_FILE = "H2418_0004_SR3.JP2"
/* IDENTIFICATION DATA ELEMENTS */
DATA_SET_ID = "MEX-M-HRSC-5-REFDR-MAPPROJECTED-V3.0"
DATA_SET_NAME = "MARS EXPRESS HRSC MAP PROJECTED REFDR V3.0"
DETECTOR_ID = MEX_HRSC_SRC
EVENT_TYPE = "MARS-REGIONAL-MAPPING-Gl-Pf-La"
INSTRUMENT_HOST_ID = MEX
INSTRUMENT_HOST_NAME = "MARS EXPRESS"
INSTRUMENT_ID = HRSC
INSTRUMENT_NAME = "HIGH RESOLUTION STEREO CAMERA"
MISSION_NAME = "MARS EXPRESS"
MISSION_PHASE_NAME = MR_Phase_8
PROCESSING_LEVEL_ID = 3
PRODUCT_CREATION_TIME = 2016-04-06T10:39:59.000Z
PRODUCT_ID = "H2418_0004_SR3.JP2"
RELEASE_ID = 0030
REVISION_ID = 0000
/* QUALITY DATA ELEMENTS */
DATA_QUALITY_ID = 1
DATA_QUALITY_DESC = "Data calculated based on original SPICE kernels"
/* TIME DATA ELEMENTS */
SPACECRAFT_CLOCK_START_COUNT = "1/0081455279.56196"
SPACECRAFT_CLOCK_STOP_COUNT = "1/0081455542.06798"
IMAGE_TIME = 2005-11-30T18:30:19.478Z
START_TIME = 2005-11-30T18:30:19.476Z
STOP_TIME = 2005-11-30T18:30:19.481Z
/* ORBITAL DATA ELEMENTS */
ASCENDING_NODE_LONGITUDE = 177.5
MAXIMUM_RESOLUTION = 2.546
FOOTPRINT_POINT_LATITUDE = (-71.9348,-71.9368,-71.9393,-71.9413, -71.9429,-71.9452,-71.9471,-71.9485, -71.9497,-71.9511,-71.9529,-71.9547, -71.956,-71.9585,-71.9605,-71.9627, -71.9641,-71.9662,-71.9678,-71.9695, -71.9708,-71.9726,-71.975,-71.9772, -71.9769,-71.9766,-71.9763,-71.976, -71.9757,-71.9753,-71.975,-71.9747, -71.9744,-71.9741,-71.9738,-71.9734, -71.9731,-71.9728,-71.9725,-71.9722, -71.9719,-71.9715,-71.9712,-71.9709, -71.9706,-71.9703,-71.9699,-71.9696, -71.9693,-71.9673,-71.966,-71.9639, -71.9627,-71.961,-71.9585,-71.9568, -71.9554,-71.9542,-71.9529,-71.9511, -71.9498,-71.9477,-71.9464,-71.9444, -71.9433,-71.9418,-71.9398,-71.9374, -71.9357,-71.934,-71.9328,-71.9314, -71.9303,-71.929,-71.9271,-71.9269, -71.9273,-71.9276,-71.9279,-71.9282, -71.9285,-71.9288,-71.9292,-71.9295, -71.9298,-71.9301,-71.9304,-71.9307, -71.9311,-71.9314,-71.9317,-71.932, -71.9323,-71.9326,-71.933,-71.9333, -71.9336,-71.9339,-71.9342,-71.9348)
FOOTPRINT_POINT_LONGITUDE = (127.756,127.755,127.754,127.752, 127.752,127.75,127.749,127.748,127.747, 127.747,127.746,127.744,127.744,127.742 ,127.741,127.74,127.739,127.738,127.737 ,127.736,127.735,127.734,127.732, 127.731,127.725,127.72,127.714,127.709, 127.703,127.698,127.692,127.687,127.681 ,127.676,127.67,127.665,127.659,127.654 ,127.648,127.643,127.638,127.632, 127.627,127.621,127.616,127.61,127.605, 127.599,127.594,127.593,127.593,127.595 ,127.595,127.596,127.598,127.599,127.6, 127.6,127.601,127.602,127.603,127.604, 127.605,127.606,127.607,127.608,127.609 ,127.611,127.612,127.613,127.613, 127.614,127.615,127.616,127.617,127.626 ,127.631,127.637,127.642,127.647, 127.653,127.658,127.664,127.669,127.675 ,127.68,127.686,127.691,127.697,127.702 ,127.708,127.713,127.719,127.724,127.73 ,127.735,127.741,127.746,127.752, 127.756)
ORBIT_NUMBER = 2418
ORBITAL_ECCENTRICITY = 0.572
ORBITAL_INCLINATION = 86.62
ORBITAL_SEMIMAJOR_AXIS = 8541.81
PERIAPSIS_ALTITUDE = 273.76
PERIAPSIS_ARGUMENT_ANGLE = 293.2
PERIAPSIS_TIME = 2005-11-30T18:31:42.000Z
SPACECRAFT_ORIENTATION = (0.0,-1.0,0.0)
^MEX_ORIENTATION_DESC = "MEX_ORIENTATION_DESC.TXT"
SPACECRAFT_POINTING_MODE = ACROSSTRACK
^MEX_POINTING_DESC = "MEX_POINTING_DESC.TXT"
RIGHT_ASCENSION = -1e+32
DECLINATION = -1e+32
OFFSET_ANGLE = 0.2
SPACECRAFT_SOLAR_DISTANCE = 2.22984e+08
TARGET_NAME = MARS
/* CAMERA DATA ELEMENTS */
BUFFER_MODE_ID = BUFFER_8
EXPOSURE_DURATION = 5.04
INST_CMPRS_NAME = NONE
INST_CMPRS_RATIO = 1.0
INST_CMPRS_QUALITY = -2147483648
INST_CMPRS_QUANTZ_TBL_ID = -2147483648
INSTRUMENT_TEMPERATURE = 8.18182
MISSING_FRAMES = 0
START_BIT = 0
/* RADIOMETRIC DATA ELEMENTS */
BANDWIDTH = 250.0
CENTER_FILTER_WAVELENGTH = 600.0
RADIANCE_OFFSET = -9.99e+31
RADIANCE_SCALING_FACTOR = -9.99e+31
REFLECTANCE_SCALING_FACTOR = -9.99e+31
MEX:REFLECTANCE_OFFSET = -9.99e+31
/* IMAGE OBJECT DEFINITIONS */
OBJECT = IMAGE
  INTERCHANGE_FORMAT = BINARY
  LINES = 1323
  LINE_SAMPLES = 1327
  SAMPLE_TYPE = UNSIGNED_INTEGER
  SAMPLE_BITS = 8
  BANDS = 1
  BAND_STORAGE_TYPE = BAND_SEQUENTIAL
  MAXIMUM = 243
  MEAN = 142.21
  MINIMUM = 15
  STANDARD_DEVIATION = 20.1777
END_OBJECT = IMAGE
/* MAP OBJECT DEFINITIONS */
OBJECT = IMAGE_MAP_PROJECTION
  ^DATA_SET_MAP_PROJECTION_CATALOG= "DSMAP.CAT"
  A_AXIS_RADIUS = 3396.19
  B_AXIS_RADIUS = 3396.19
  C_AXIS_RADIUS = 3396.19
  CENTER_LATITUDE = 0.0
  CENTER_LONGITUDE = 128.0
  COORDINATE_SYSTEM_NAME = PLANETOGRAPHIC
  COORDINATE_SYSTEM_TYPE = "BODY-FIXED ROTATING"
  EASTERNMOST_LONGITUDE = 127.756
  FIRST_STANDARD_PARALLEL = "N/A"
  LINE_FIRST_PIXEL = 1
  LINE_LAST_PIXEL = 1323
  LINE_PROJECTION_OFFSET = -1701386.0
  MAP_PROJECTION_ROTATION = 0.0
  MAP_PROJECTION_TYPE = SINUSOIDAL
  MAP_RESOLUTION = 23709.8786048756
  MAP_SCALE = 0.0025
  MAXIMUM_LATITUDE = -71.9269
  MINIMUM_LATITUDE = -71.9772
  POSITIVE_LONGITUDE_DIRECTION = EAST
  REFERENCE_LATITUDE = "N/A"
  REFERENCE_LONGITUDE = "N/A"
  SAMPLE_FIRST_PIXEL = 1
  SAMPLE_LAST_PIXEL = 1327
  SAMPLE_PROJECTION_OFFSET = 3390.0
  SECOND_STANDARD_PARALLEL = "N/A"
  WESTERNMOST_LONGITUDE = 127.593
END_OBJECT = IMAGE_MAP_PROJECTION
/* The JPEG2000 image data file associated with this label. */
OBJECT = COMPRESSED_FILE
  FILE_NAME = "H2418_0004_SR3.JP2"
  RECORD_TYPE = UNDEFINED
  FILE_RECORDS = UNK
  ENCODING_TYPE = "JP2"
  INTERCHANGE_FORMAT = BINARY
  UNCOMPRESSED_FILE_NAME = "H2418_0004_SR3.IMG"
  REQUIRED_STORAGE_BYTES = "1775526"
  ^DESCRIPTION = "JP2INFO.TXT"
END_OBJECT = COMPRESSED_FILE
END
