PDS_VERSION_ID = PDS3
/* FILE DATA ELEMENTS */
RECORD_TYPE = STREAM
/* POINTERS TO DATA OBJECTS */
^COMPRESSED_FILE = "H2421_0000_BL3.JP2"
/* IDENTIFICATION DATA ELEMENTS */
DATA_SET_ID = "MEX-M-HRSC-5-REFDR-MAPPROJECTED-V3.0"
DATA_SET_NAME = "MARS EXPRESS HRSC MAP PROJECTED REFDR V3.0"
DETECTOR_ID = MEX_HRSC_BLUE
EVENT_TYPE = "MARS-REGIONAL-MAPPING-Te-Im"
INSTRUMENT_HOST_ID = MEX
INSTRUMENT_HOST_NAME = "MARS EXPRESS"
INSTRUMENT_ID = HRSC
INSTRUMENT_NAME = "HIGH RESOLUTION STEREO CAMERA"
MISSION_NAME = "MARS EXPRESS"
MISSION_PHASE_NAME = ME_Phase_1
PROCESSING_LEVEL_ID = 3
PRODUCT_CREATION_TIME = 2016-04-06T10:39:59.000Z
PRODUCT_ID = "H2421_0000_BL3.JP2"
RELEASE_ID = 0030
REVISION_ID = 0000
/* QUALITY DATA ELEMENTS */
DATA_QUALITY_ID = 1
DATA_QUALITY_DESC = "Data calculated based on original SPICE kernels"
/* TIME DATA ELEMENTS */
SPACECRAFT_CLOCK_START_COUNT = "1/0081528244.57940"
SPACECRAFT_CLOCK_STOP_COUNT = "1/0081528639.55613"
START_TIME = 2005-12-01T14:44:44.304Z
STOP_TIME = 2005-12-01T14:49:54.376Z
/* ORBITAL DATA ELEMENTS */
ASCENDING_NODE_LONGITUDE = 177.43
MAXIMUM_RESOLUTION = 52
FOOTPRINT_POINT_LATITUDE = (-50.5575,-50.5968,-50.2154,-49.8277, -49.4401,-49.0538,-48.6608,-48.2631, -47.8657,-47.469,-47.073,-46.6778, -46.2829,-45.8898,-45.4975,-45.1056, -44.7143,-44.324,-43.9348,-43.5463, -43.1591,-42.5805,-42.1968,-41.6212, -41.2388,-40.857,-40.4758,-40.0954, -39.7156,-39.3368,-38.959,-38.5817, -38.2068,-37.8312,-37.4557,-37.0832, -36.7114,-36.3412,-35.9712,-35.6031, -35.2362,-34.8701,-34.5052,-34.1412, -33.7781,-33.4165,-33.0558,-32.6962, -32.3377,-31.6235,-31.6092,-31.6061, -31.6006,-31.7714,-32.4847,-33.202, -33.7433,-34.1045,-34.4673,-34.8315, -35.1969,-35.5632,-35.9306,-36.299, -36.6682,-37.0398,-37.4109,-37.7833, -38.157,-38.5317,-38.9073,-39.2841, -39.8513,-40.2304,-40.8012,-41.1824, -41.5645,-41.9471,-42.3313,-42.7166, -43.1024,-43.489,-43.877,-44.2655, -44.6544,-45.0444,-45.4359,-45.8275, -46.2203,-46.6139,-47.0078,-47.4028, -47.7987,-48.1953,-48.5925,-49.1783, -49.5633,-49.9504,-50.3365,-50.5575)
FOOTPRINT_POINT_LONGITUDE = (198.894,199.887,199.912,199.941, 199.969,199.997,200.025,200.053,200.08, 200.105,200.13,200.154,200.176,200.201, 200.225,200.247,200.268,200.29,200.311, 200.331,200.352,200.384,200.408,200.438 ,200.457,200.476,200.493,200.509, 200.524,200.539,200.554,200.567,200.584 ,200.595,200.605,200.619,200.632, 200.646,200.658,200.672,200.685,200.698 ,200.712,200.724,200.736,200.749, 200.761,200.773,200.784,200.806,200.336 ,199.763,199.17,198.615,198.621,198.627 ,198.63,198.633,198.634,198.635,198.635 ,198.634,198.633,198.632,198.63,198.626 ,198.624,198.62,198.616,198.611,198.606 ,198.6,198.589,198.581,198.568,198.559, 198.55,198.541,198.53,198.518,198.505, 198.493,198.478,198.463,198.449,198.433 ,198.414,198.397,198.377,198.357, 198.337,198.315,198.292,198.268,198.243 ,198.203,198.179,198.15,198.12,198.894)
ORBIT_NUMBER = 2421
ORBITAL_ECCENTRICITY = 0.572
ORBITAL_INCLINATION = 86.63
ORBITAL_SEMIMAJOR_AXIS = 8538.27
PERIAPSIS_ALTITUDE = 273.38
PERIAPSIS_ARGUMENT_ANGLE = 292.68
PERIAPSIS_TIME = 2005-12-01T14:40:30.000Z
SPACECRAFT_ORIENTATION = (0.0,-1.0,0.0)
^MEX_ORIENTATION_DESC = "MEX_ORIENTATION_DESC.TXT"
SPACECRAFT_POINTING_MODE = ACROSSTRACK
^MEX_POINTING_DESC = "MEX_POINTING_DESC.TXT"
RIGHT_ASCENSION = -1e+32
DECLINATION = -1e+32
OFFSET_ANGLE = -0.15
SPACECRAFT_SOLAR_DISTANCE = 2.23147e+08
TARGET_NAME = MARS
/* CAMERA DATA ELEMENTS */
DETECTOR_TEMPERATURE = 18.1666
FOCAL_PLANE_TEMPERATURE = 7.7677
INST_CMPRS_NAME = "DISCRETE COSINE TRANSFORMATION (DCT)"
INST_CMPRS_RATIO = 9.99441
INST_CMPRS_QUALITY = 0
INST_CMPRS_QUANTZ_TBL_ID = 0
INSTRUMENT_TEMPERATURE = 11.0301
LENS_TEMPERATURE = 8.1755
MACROPIXEL_SIZE = 4
MISSING_FRAMES = 0
PIXEL_SUBSAMPLING_FLAG = N
SIGNAL_CHAIN_ID = 2
/* RADIOMETRIC DATA ELEMENTS */
BANDWIDTH = 76.0
CENTER_FILTER_WAVELENGTH = 444.0
RADIANCE_OFFSET = 0.762688
RADIANCE_SCALING_FACTOR = 0.00155085
REFLECTANCE_SCALING_FACTOR = 7.93434e-05
MEX:REFLECTANCE_OFFSET = 0.03902
/* IMAGE OBJECT DEFINITIONS */
OBJECT = IMAGE
  INTERCHANGE_FORMAT = BINARY
  LINES = 22531
  LINE_SAMPLES = 2285
  SAMPLE_TYPE = UNSIGNED_INTEGER
  SAMPLE_BITS = 8
  BANDS = 1
  BAND_STORAGE_TYPE = BAND_SEQUENTIAL
  MAXIMUM = 255
  MEAN = 137.594
  MINIMUM = 1
  STANDARD_DEVIATION = 30.0897
END_OBJECT = IMAGE
/* MAP OBJECT DEFINITIONS */
OBJECT = IMAGE_MAP_PROJECTION
  ^DATA_SET_MAP_PROJECTION_CATALOG= "DSMAP.CAT"
  A_AXIS_RADIUS = 3396.0
  B_AXIS_RADIUS = 3396.0
  C_AXIS_RADIUS = 3396.0
  CENTER_LATITUDE = 0.0
  CENTER_LONGITUDE = 200.0
  COORDINATE_SYSTEM_NAME = PLANETOGRAPHIC
  COORDINATE_SYSTEM_TYPE = "BODY-FIXED ROTATING"
  EASTERNMOST_LONGITUDE = 200.806
  FIRST_STANDARD_PARALLEL = "N/A"
  LINE_FIRST_PIXEL = 1
  LINE_LAST_PIXEL = 22531
  LINE_PROJECTION_OFFSET = -37436.375
  MAP_PROJECTION_ROTATION = 0.0
  MAP_PROJECTION_TYPE = SINUSOIDAL
  MAP_RESOLUTION = 1185.42760773333
  MAP_SCALE = 0.05
  MAXIMUM_LATITUDE = -31.6006
  MINIMUM_LATITUDE = -50.5968
  POSITIVE_LONGITUDE_DIRECTION = EAST
  REFERENCE_LATITUDE = "N/A"
  REFERENCE_LONGITUDE = "N/A"
  SAMPLE_FIRST_PIXEL = 1
  SAMPLE_LAST_PIXEL = 2285
  SAMPLE_PROJECTION_OFFSET = 1439.125
  SECOND_STANDARD_PARALLEL = "N/A"
  WESTERNMOST_LONGITUDE = 198.12
END_OBJECT = IMAGE_MAP_PROJECTION
/* The JPEG2000 image data file associated with this label. */
OBJECT = COMPRESSED_FILE
  FILE_NAME = "H2421_0000_BL3.JP2"
  RECORD_TYPE = UNDEFINED
  FILE_RECORDS = UNK
  ENCODING_TYPE = "JP2"
  INTERCHANGE_FORMAT = BINARY
  UNCOMPRESSED_FILE_NAME = "H2421_0000_BL3.IMG"
  REQUIRED_STORAGE_BYTES = "51506185"
  ^DESCRIPTION = "JP2INFO.TXT"
END_OBJECT = COMPRESSED_FILE
END
