PDS_VERSION_ID = PDS3
/* FILE DATA ELEMENTS */
RECORD_TYPE = STREAM
/* POINTERS TO DATA OBJECTS */
^COMPRESSED_FILE = "H2421_0000_IR3.JP2"
/* IDENTIFICATION DATA ELEMENTS */
DATA_SET_ID = "MEX-M-HRSC-5-REFDR-MAPPROJECTED-V3.0"
DATA_SET_NAME = "MARS EXPRESS HRSC MAP PROJECTED REFDR V3.0"
DETECTOR_ID = MEX_HRSC_IR
EVENT_TYPE = "MARS-REGIONAL-MAPPING-Te-Im"
INSTRUMENT_HOST_ID = MEX
INSTRUMENT_HOST_NAME = "MARS EXPRESS"
INSTRUMENT_ID = HRSC
INSTRUMENT_NAME = "HIGH RESOLUTION STEREO CAMERA"
MISSION_NAME = "MARS EXPRESS"
MISSION_PHASE_NAME = ME_Phase_1
PROCESSING_LEVEL_ID = 3
PRODUCT_CREATION_TIME = 2016-04-06T10:39:59.000Z
PRODUCT_ID = "H2421_0000_IR3.JP2"
RELEASE_ID = 0030
REVISION_ID = 0000
/* QUALITY DATA ELEMENTS */
DATA_QUALITY_ID = 1
DATA_QUALITY_DESC = "Data calculated based on original SPICE kernels"
/* TIME DATA ELEMENTS */
SPACECRAFT_CLOCK_START_COUNT = "1/0081528244.57940"
SPACECRAFT_CLOCK_STOP_COUNT = "1/0081528639.55613"
START_TIME = 2005-12-01T14:44:16.521Z
STOP_TIME = 2005-12-01T14:49:05.275Z
/* ORBITAL DATA ELEMENTS */
ASCENDING_NODE_LONGITUDE = 177.43
MAXIMUM_RESOLUTION = 52.3
FOOTPRINT_POINT_LATITUDE = (-50.582,-50.5971,-50.6096,-50.5639, -50.2158,-49.8517,-49.487,-49.12, -48.5629,-47.9988,-47.6223,-47.2456, -46.6734,-46.2864,-45.8969,-45.3119, -44.9235,-44.3429,-43.9553,-43.5691, -42.9897,-42.3993,-41.8154,-41.4284, -41.0413,-40.6566,-40.2738,-39.8924, -39.5122,-38.9429,-38.3724,-37.9952, -37.6264,-37.248,-36.87,-36.4935, -35.9284,-35.5507,-34.9845,-34.6087, -34.2335,-33.8549,-33.4834,-33.1093, -32.7358,-32.3628,-31.9914,-31.5702, -31.5711,-31.5672,-31.5642,-31.5586, -31.9265,-32.2963,-32.6698,-33.0437, -33.4116,-33.7843,-34.164,-34.5377, -34.9118,-35.2869,-35.6624,-36.0385, -36.416,-36.979,-37.3581,-37.7383, -38.1165,-38.4953,-38.8749,-39.2545, -39.8237,-40.2061,-40.7763,-41.3528, -41.739,-42.1259,-42.5086,-42.8937, -43.2803,-43.6648,-44.0509,-44.439, -44.8291,-45.2146,-45.6026,-45.9905, -46.5729,-47.1496,-47.5255,-47.9019, -48.28,-48.6552,-49.0192,-49.3856, -49.7555,-50.1177,-50.4695,-50.582)
FOOTPRINT_POINT_LONGITUDE = (198.528,199.026,199.526,199.87,199.892 ,199.919,199.944,199.97,200.009,200.047 ,200.07,200.093,200.127,200.148,200.171 ,200.205,200.226,200.256,200.276, 200.295,200.324,200.359,200.389,200.407 ,200.426,200.443,200.459,200.473, 200.487,200.508,200.529,200.541,200.548 ,200.561,200.574,200.586,200.604, 200.617,200.636,200.648,200.659,200.673 ,200.683,200.694,200.705,200.716, 200.726,200.377,199.864,199.429,199.127 ,198.706,198.708,198.709,198.712, 198.714,198.713,198.714,198.715,198.715 ,198.714,198.712,198.71,198.707,198.705 ,198.698,198.694,198.69,198.684,198.678 ,198.671,198.664,198.651,198.643, 198.628,198.613,198.603,198.592,198.579 ,198.566,198.552,198.537,198.522, 198.506,198.49,198.472,198.454,198.434, 198.404,198.372,198.35,198.327,198.303, 198.278,198.253,198.227,198.202,198.174 ,198.145,198.528)
ORBIT_NUMBER = 2421
ORBITAL_ECCENTRICITY = 0.572
ORBITAL_INCLINATION = 86.63
ORBITAL_SEMIMAJOR_AXIS = 8538.27
PERIAPSIS_ALTITUDE = 273.38
PERIAPSIS_ARGUMENT_ANGLE = 292.68
PERIAPSIS_TIME = 2005-12-01T14:40:30.000Z
SPACECRAFT_ORIENTATION = (0.0,-1.0,0.0)
^MEX_ORIENTATION_DESC = "MEX_ORIENTATION_DESC.TXT"
SPACECRAFT_POINTING_MODE = ACROSSTRACK
^MEX_POINTING_DESC = "MEX_POINTING_DESC.TXT"
RIGHT_ASCENSION = -1e+32
DECLINATION = -1e+32
OFFSET_ANGLE = -0.15
SPACECRAFT_SOLAR_DISTANCE = 2.23147e+08
TARGET_NAME = MARS
/* CAMERA DATA ELEMENTS */
DETECTOR_TEMPERATURE = 16.9432
FOCAL_PLANE_TEMPERATURE = 7.7677
INST_CMPRS_NAME = "DISCRETE COSINE TRANSFORMATION (DCT)"
INST_CMPRS_RATIO = 12.3994
INST_CMPRS_QUALITY = 0
INST_CMPRS_QUANTZ_TBL_ID = 0
INSTRUMENT_TEMPERATURE = 11.0301
LENS_TEMPERATURE = 8.1755
MACROPIXEL_SIZE = 4
MISSING_FRAMES = 1
PIXEL_SUBSAMPLING_FLAG = N
SIGNAL_CHAIN_ID = 2
/* RADIOMETRIC DATA ELEMENTS */
BANDWIDTH = 81.0
CENTER_FILTER_WAVELENGTH = 955.5
RADIANCE_OFFSET = 0.975475
RADIANCE_SCALING_FACTOR = 0.00459047
REFLECTANCE_SCALING_FACTOR = 0.000493139
MEX:REFLECTANCE_OFFSET = 0.104792
/* IMAGE OBJECT DEFINITIONS */
OBJECT = IMAGE
  INTERCHANGE_FORMAT = BINARY
  LINES = 22531
  LINE_SAMPLES = 2285
  SAMPLE_TYPE = UNSIGNED_INTEGER
  SAMPLE_BITS = 8
  BANDS = 1
  BAND_STORAGE_TYPE = BAND_SEQUENTIAL
  MAXIMUM = 255
  MEAN = 126.959
  MINIMUM = 1
  STANDARD_DEVIATION = 37.5003
END_OBJECT = IMAGE
/* MAP OBJECT DEFINITIONS */
OBJECT = IMAGE_MAP_PROJECTION
  ^DATA_SET_MAP_PROJECTION_CATALOG= "DSMAP.CAT"
  A_AXIS_RADIUS = 3396.0
  B_AXIS_RADIUS = 3396.0
  C_AXIS_RADIUS = 3396.0
  CENTER_LATITUDE = 0.0
  CENTER_LONGITUDE = 200.0
  COORDINATE_SYSTEM_NAME = PLANETOGRAPHIC
  COORDINATE_SYSTEM_TYPE = "BODY-FIXED ROTATING"
  EASTERNMOST_LONGITUDE = 200.726
  FIRST_STANDARD_PARALLEL = "N/A"
  LINE_FIRST_PIXEL = 1
  LINE_LAST_PIXEL = 22531
  LINE_PROJECTION_OFFSET = -37436.375
  MAP_PROJECTION_ROTATION = 0.0
  MAP_PROJECTION_TYPE = SINUSOIDAL
  MAP_RESOLUTION = 1185.42760773333
  MAP_SCALE = 0.05
  MAXIMUM_LATITUDE = -31.5586
  MINIMUM_LATITUDE = -50.6096
  POSITIVE_LONGITUDE_DIRECTION = EAST
  REFERENCE_LATITUDE = "N/A"
  REFERENCE_LONGITUDE = "N/A"
  SAMPLE_FIRST_PIXEL = 1
  SAMPLE_LAST_PIXEL = 2285
  SAMPLE_PROJECTION_OFFSET = 1439.125
  SECOND_STANDARD_PARALLEL = "N/A"
  WESTERNMOST_LONGITUDE = 198.145
END_OBJECT = IMAGE_MAP_PROJECTION
/* The JPEG2000 image data file associated with this label. */
OBJECT = COMPRESSED_FILE
  FILE_NAME = "H2421_0000_IR3.JP2"
  RECORD_TYPE = UNDEFINED
  FILE_RECORDS = UNK
  ENCODING_TYPE = "JP2"
  INTERCHANGE_FORMAT = BINARY
  UNCOMPRESSED_FILE_NAME = "H2421_0000_IR3.IMG"
  REQUIRED_STORAGE_BYTES = "51506185"
  ^DESCRIPTION = "JP2INFO.TXT"
END_OBJECT = COMPRESSED_FILE
END
