PDS_VERSION_ID = PDS3
/* FILE DATA ELEMENTS */
RECORD_TYPE = STREAM
/* POINTERS TO DATA OBJECTS */
^COMPRESSED_FILE = "H2421_0000_P23.JP2"
/* IDENTIFICATION DATA ELEMENTS */
DATA_SET_ID = "MEX-M-HRSC-5-REFDR-MAPPROJECTED-V3.0"
DATA_SET_NAME = "MARS EXPRESS HRSC MAP PROJECTED REFDR V3.0"
DETECTOR_ID = MEX_HRSC_P2
EVENT_TYPE = "MARS-REGIONAL-MAPPING-Te-Im"
INSTRUMENT_HOST_ID = MEX
INSTRUMENT_HOST_NAME = "MARS EXPRESS"
INSTRUMENT_ID = HRSC
INSTRUMENT_NAME = "HIGH RESOLUTION STEREO CAMERA"
MISSION_NAME = "MARS EXPRESS"
MISSION_PHASE_NAME = ME_Phase_1
PROCESSING_LEVEL_ID = 3
PRODUCT_CREATION_TIME = 2016-04-06T10:39:59.000Z
PRODUCT_ID = "H2421_0000_P23.JP2"
RELEASE_ID = 0030
REVISION_ID = 0000
/* QUALITY DATA ELEMENTS */
DATA_QUALITY_ID = 1
DATA_QUALITY_DESC = "Data calculated based on original SPICE kernels"
/* TIME DATA ELEMENTS */
SPACECRAFT_CLOCK_START_COUNT = "1/0081528244.57940"
SPACECRAFT_CLOCK_STOP_COUNT = "1/0081528639.55613"
START_TIME = 2005-12-01T14:44:59.020Z
STOP_TIME = 2005-12-01T14:50:22.841Z
/* ORBITAL DATA ELEMENTS */
ASCENDING_NODE_LONGITUDE = 177.43
MAXIMUM_RESOLUTION = 54.6
FOOTPRINT_POINT_LATITUDE = (-50.5144,-50.5332,-50.5503,-50.1995, -49.804,-49.3964,-48.9919,-48.3878, -47.9849,-47.5831,-47.1817,-46.7816, -46.3803,-45.9837,-45.3912,-44.9969, -44.4055,-44.0144,-43.623,-43.2352, -42.8471,-42.4665,-42.0852,-41.7026, -41.3214,-40.9409,-40.37,-39.9899, -39.4207,-39.0428,-38.6653,-38.2934, -37.9175,-37.3527,-36.9829,-36.6139, -36.2476,-35.7003,-35.1574,-34.797, -34.4378,-34.0793,-33.7227,-33.3685, -33.0148,-32.663,-32.3128,-31.9621, -31.6134,-31.6051,-31.6031,-31.6005, -31.5983,-31.5919,-31.9373,-32.2869, -32.6354,-32.9851,-33.3419,-33.6966, -34.2257,-34.5839,-34.9433,-35.3044, -35.6665,-36.2123,-36.5764,-36.9461, -37.4975,-37.8678,-38.2395,-38.6128, -38.9862,-39.3626,-39.9303,-40.3085, -40.8807,-41.4525,-41.8338,-42.2163, -42.6043,-42.9909,-43.3775,-43.7686, -44.1593,-44.5495,-44.9404,-45.3357, -45.7302,-46.1265,-46.5237,-46.921, -47.3198,-47.9214,-48.323,-48.9287, -49.333,-49.7336,-50.3286,-50.5144)
FOOTPRINT_POINT_LONGITUDE = (198.587,199.115,199.644,199.944, 199.974,200.003,200.033,200.078,200.105 ,200.132,200.158,200.183,200.206, 200.231,200.268,200.292,200.324,200.347 ,200.368,200.39,200.41,200.435,200.458, 200.479,200.499,200.519,200.546,200.563 ,200.586,200.602,200.616,200.633, 200.646,200.663,200.678,200.692,200.706 ,200.728,200.749,200.763,200.777,200.79 ,200.803,200.817,200.83,200.843,200.856 ,200.867,200.879,200.555,200.143, 199.819,199.451,198.847,198.564,198.568 ,198.573,198.578,198.579,198.582, 198.588,198.59,198.591,198.591,198.592, 198.591,198.591,198.588,198.585,198.582 ,198.578,198.574,198.57,198.564,198.554 ,198.547,198.534,198.522,198.514, 198.505,198.492,198.481,198.469,198.455 ,198.441,198.427,198.412,198.395, 198.377,198.359,198.339,198.319,198.298 ,198.264,198.24,198.201,198.174,198.148 ,198.103,198.587)
ORBIT_NUMBER = 2421
ORBITAL_ECCENTRICITY = 0.572
ORBITAL_INCLINATION = 86.63
ORBITAL_SEMIMAJOR_AXIS = 8538.27
PERIAPSIS_ALTITUDE = 273.38
PERIAPSIS_ARGUMENT_ANGLE = 292.68
PERIAPSIS_TIME = 2005-12-01T14:40:30.000Z
SPACECRAFT_ORIENTATION = (0.0,-1.0,0.0)
^MEX_ORIENTATION_DESC = "MEX_ORIENTATION_DESC.TXT"
SPACECRAFT_POINTING_MODE = ACROSSTRACK
^MEX_POINTING_DESC = "MEX_POINTING_DESC.TXT"
RIGHT_ASCENSION = -1e+32
DECLINATION = -1e+32
OFFSET_ANGLE = -0.15
SPACECRAFT_SOLAR_DISTANCE = 2.23147e+08
TARGET_NAME = MARS
/* CAMERA DATA ELEMENTS */
DETECTOR_TEMPERATURE = 18.1666
FOCAL_PLANE_TEMPERATURE = 7.7677
INST_CMPRS_NAME = "DISCRETE COSINE TRANSFORMATION (DCT)"
INST_CMPRS_RATIO = 9.67376
INST_CMPRS_QUALITY = 0
INST_CMPRS_QUANTZ_TBL_ID = 0
INSTRUMENT_TEMPERATURE = 11.0301
LENS_TEMPERATURE = 8.1755
MACROPIXEL_SIZE = 4
MISSING_FRAMES = 0
PIXEL_SUBSAMPLING_FLAG = N
SIGNAL_CHAIN_ID = 3
/* RADIOMETRIC DATA ELEMENTS */
BANDWIDTH = 177.0
CENTER_FILTER_WAVELENGTH = 676.5
RADIANCE_OFFSET = 4.98061
RADIANCE_SCALING_FACTOR = 0.0157152
REFLECTANCE_SCALING_FACTOR = 0.000414919
MEX:REFLECTANCE_OFFSET = 0.1315
/* IMAGE OBJECT DEFINITIONS */
OBJECT = IMAGE
  INTERCHANGE_FORMAT = BINARY
  LINES = 22531
  LINE_SAMPLES = 2285
  SAMPLE_TYPE = UNSIGNED_INTEGER
  SAMPLE_BITS = 8
  BANDS = 1
  BAND_STORAGE_TYPE = BAND_SEQUENTIAL
  MAXIMUM = 255
  MEAN = 130.139
  MINIMUM = 1
  STANDARD_DEVIATION = 36.9222
END_OBJECT = IMAGE
/* MAP OBJECT DEFINITIONS */
OBJECT = IMAGE_MAP_PROJECTION
  ^DATA_SET_MAP_PROJECTION_CATALOG= "DSMAP.CAT"
  A_AXIS_RADIUS = 3396.0
  B_AXIS_RADIUS = 3396.0
  C_AXIS_RADIUS = 3396.0
  CENTER_LATITUDE = 0.0
  CENTER_LONGITUDE = 200.0
  COORDINATE_SYSTEM_NAME = PLANETOGRAPHIC
  COORDINATE_SYSTEM_TYPE = "BODY-FIXED ROTATING"
  EASTERNMOST_LONGITUDE = 200.879
  FIRST_STANDARD_PARALLEL = "N/A"
  LINE_FIRST_PIXEL = 1
  LINE_LAST_PIXEL = 22531
  LINE_PROJECTION_OFFSET = -37436.375
  MAP_PROJECTION_ROTATION = 0.0
  MAP_PROJECTION_TYPE = SINUSOIDAL
  MAP_RESOLUTION = 1185.42760773333
  MAP_SCALE = 0.05
  MAXIMUM_LATITUDE = -31.5919
  MINIMUM_LATITUDE = -50.5503
  POSITIVE_LONGITUDE_DIRECTION = EAST
  REFERENCE_LATITUDE = "N/A"
  REFERENCE_LONGITUDE = "N/A"
  SAMPLE_FIRST_PIXEL = 1
  SAMPLE_LAST_PIXEL = 2285
  SAMPLE_PROJECTION_OFFSET = 1439.125
  SECOND_STANDARD_PARALLEL = "N/A"
  WESTERNMOST_LONGITUDE = 198.103
END_OBJECT = IMAGE_MAP_PROJECTION
/* The JPEG2000 image data file associated with this label. */
OBJECT = COMPRESSED_FILE
  FILE_NAME = "H2421_0000_P23.JP2"
  RECORD_TYPE = UNDEFINED
  FILE_RECORDS = UNK
  ENCODING_TYPE = "JP2"
  INTERCHANGE_FORMAT = BINARY
  UNCOMPRESSED_FILE_NAME = "H2421_0000_P23.IMG"
  REQUIRED_STORAGE_BYTES = "51506185"
  ^DESCRIPTION = "JP2INFO.TXT"
END_OBJECT = COMPRESSED_FILE
END
