PDS_VERSION_ID = PDS3
/* FILE DATA ELEMENTS */
RECORD_TYPE = STREAM
/* POINTERS TO DATA OBJECTS */
^COMPRESSED_FILE = "H2424_0000_ND3.JP2"
/* IDENTIFICATION DATA ELEMENTS */
DATA_SET_ID = "MEX-M-HRSC-5-REFDR-MAPPROJECTED-V3.0"
DATA_SET_NAME = "MARS EXPRESS HRSC MAP PROJECTED REFDR V3.0"
DETECTOR_ID = MEX_HRSC_NADIR
EVENT_TYPE = "MARS-REGIONAL-MAPPING-Te-Im"
INSTRUMENT_HOST_ID = MEX
INSTRUMENT_HOST_NAME = "MARS EXPRESS"
INSTRUMENT_ID = HRSC
INSTRUMENT_NAME = "HIGH RESOLUTION STEREO CAMERA"
MISSION_NAME = "MARS EXPRESS"
MISSION_PHASE_NAME = ME_Phase_1
PROCESSING_LEVEL_ID = 3
PRODUCT_CREATION_TIME = 2016-04-06T10:39:59.000Z
PRODUCT_ID = "H2424_0000_ND3.JP2"
RELEASE_ID = 0030
REVISION_ID = 0000
/* QUALITY DATA ELEMENTS */
DATA_QUALITY_ID = 1
DATA_QUALITY_DESC = "Data calculated based on original SPICE kernels"
/* TIME DATA ELEMENTS */
SPACECRAFT_CLOCK_START_COUNT = "1/0081600548.57952"
SPACECRAFT_CLOCK_STOP_COUNT = "1/0081600908.01521"
START_TIME = 2005-12-02T10:49:39.535Z
STOP_TIME = 2005-12-02T10:54:38.510Z
/* ORBITAL DATA ELEMENTS */
ASCENDING_NODE_LONGITUDE = 177.37
MAXIMUM_RESOLUTION = 10.8
FOOTPRINT_POINT_LATITUDE = (-66.3879,-66.4636,-66.1066,-65.7496, -65.3926,-65.0356,-64.6786,-64.3073, -63.9354,-63.5636,-63.1919,-62.8202, -62.4486,-62.0772,-61.7057,-61.3345, -60.9634,-60.5925,-60.2218,-59.8512, -59.4809,-59.1108,-58.5344,-58.15, -57.7659,-57.3821,-56.9986,-56.6154, -56.2325,-55.6379,-55.2413,-54.845, -54.4493,-54.0539,-53.4423,-53.0335, -52.6252,-52.2175,-51.7992,-51.3781, -50.9576,-50.5377,-49.8902,-49.4576, -49.0257,-48.3591,-47.9149,-47.4715, -47.029,-46.7823,-46.7701,-46.7467, -47.1719,-47.6139,-48.0568,-48.5005, -48.9443,-49.3752,-49.8068,-50.4535, -50.8724,-51.2919,-51.7121,-52.1299, -52.5366,-52.9439,-53.3516,-53.9622, -54.3565,-54.7512,-55.1464,-55.7397, -56.1353,-56.517,-56.899,-57.2812, -57.6635,-58.0463,-58.4296,-58.8129, -59.3734,-59.7424,-60.296,-60.6652, -61.035,-61.4045,-61.7741,-62.1438, -62.5136,-62.8833,-63.2532,-63.6231, -63.9927,-64.3624,-64.7251,-65.0799, -65.4347,-65.7895,-66.3213,-66.3879)
FOOTPRINT_POINT_LONGITUDE = (260.445,261.905,262.008,262.108, 262.204,262.298,262.388,262.48,262.568, 262.655,262.739,262.819,262.898,262.974 ,263.047,263.119,263.189,263.257, 263.324,263.388,263.451,263.512,263.604 ,263.663,263.72,263.776,263.83,263.882, 263.934,264.01,264.06,264.109,264.157, 264.203,264.272,264.316,264.36,264.402, 264.444,264.486,264.526,264.565,264.624 ,264.663,264.7,264.756,264.792,264.827, 264.861,264.613,264.187,263.49,263.04, 263.007,262.979,262.945,262.909,262.873 ,262.836,262.779,262.738,262.697, 262.654,262.608,262.563,262.516,262.468 ,262.392,262.341,262.288,262.234, 262.148,262.088,262.028,261.967,261.903 ,261.83,261.76,261.698,261.625,261.515, 261.44,261.315,261.231,261.154,261.064, 260.973,260.879,260.781,260.677,260.577 ,260.47,260.352,260.237,260.124,260.005 ,259.882,259.756,259.556,260.445)
ORBIT_NUMBER = 2424
ORBITAL_ECCENTRICITY = 0.572
ORBITAL_INCLINATION = 86.62
ORBITAL_SEMIMAJOR_AXIS = 8538.16
PERIAPSIS_ALTITUDE = 273.16
PERIAPSIS_ARGUMENT_ANGLE = 292.15
PERIAPSIS_TIME = 2005-12-02T10:49:22.000Z
SPACECRAFT_ORIENTATION = (0.0,-1.0,0.0)
^MEX_ORIENTATION_DESC = "MEX_ORIENTATION_DESC.TXT"
SPACECRAFT_POINTING_MODE = ACROSSTRACK
^MEX_POINTING_DESC = "MEX_POINTING_DESC.TXT"
RIGHT_ASCENSION = -1e+32
DECLINATION = -1e+32
OFFSET_ANGLE = 0.25
SPACECRAFT_SOLAR_DISTANCE = 2.2331e+08
TARGET_NAME = MARS
/* CAMERA DATA ELEMENTS */
DETECTOR_TEMPERATURE = 17.9627
FOCAL_PLANE_TEMPERATURE = 7.9716
INST_CMPRS_NAME = "DISCRETE COSINE TRANSFORMATION (DCT)"
INST_CMPRS_RATIO = 7.29575
INST_CMPRS_QUALITY = 0
INST_CMPRS_QUANTZ_TBL_ID = 0
INSTRUMENT_TEMPERATURE = 11.0301
LENS_TEMPERATURE = 8.3794
MACROPIXEL_SIZE = 1
MISSING_FRAMES = 0
PIXEL_SUBSAMPLING_FLAG = N
SIGNAL_CHAIN_ID = 0
/* RADIOMETRIC DATA ELEMENTS */
BANDWIDTH = 177.0
CENTER_FILTER_WAVELENGTH = 677.5
RADIANCE_OFFSET = 3.05127
RADIANCE_SCALING_FACTOR = 0.0125955
REFLECTANCE_SCALING_FACTOR = 0.000333671
MEX:REFLECTANCE_OFFSET = 0.0808317
/* IMAGE OBJECT DEFINITIONS */
OBJECT = IMAGE
  INTERCHANGE_FORMAT = BINARY
  LINES = 93561
  LINE_SAMPLES = 12578
  SAMPLE_TYPE = UNSIGNED_INTEGER
  SAMPLE_BITS = 8
  BANDS = 1
  BAND_STORAGE_TYPE = BAND_SEQUENTIAL
  MAXIMUM = 255
  MEAN = 135.169
  MINIMUM = 1
  STANDARD_DEVIATION = 23.8959
END_OBJECT = IMAGE
/* MAP OBJECT DEFINITIONS */
OBJECT = IMAGE_MAP_PROJECTION
  ^DATA_SET_MAP_PROJECTION_CATALOG= "DSMAP.CAT"
  A_AXIS_RADIUS = 3396.0
  B_AXIS_RADIUS = 3396.0
  C_AXIS_RADIUS = 3396.0
  CENTER_LATITUDE = 0.0
  CENTER_LONGITUDE = 263.0
  COORDINATE_SYSTEM_NAME = PLANETOGRAPHIC
  COORDINATE_SYSTEM_TYPE = "BODY-FIXED ROTATING"
  EASTERNMOST_LONGITUDE = 264.861
  FIRST_STANDARD_PARALLEL = "N/A"
  LINE_FIRST_PIXEL = 1
  LINE_LAST_PIXEL = 93561
  LINE_PROJECTION_OFFSET = -221586.0
  MAP_PROJECTION_ROTATION = 0.0
  MAP_PROJECTION_TYPE = SINUSOIDAL
  MAP_RESOLUTION = 4741.71043093333
  MAP_SCALE = 0.0125
  MAXIMUM_LATITUDE = -46.7467
  MINIMUM_LATITUDE = -66.4636
  POSITIVE_LONGITUDE_DIRECTION = EAST
  REFERENCE_LATITUDE = "N/A"
  REFERENCE_LONGITUDE = "N/A"
  SAMPLE_FIRST_PIXEL = 1
  SAMPLE_LAST_PIXEL = 12578
  SAMPLE_PROJECTION_OFFSET = 6485.0
  SECOND_STANDARD_PARALLEL = "N/A"
  WESTERNMOST_LONGITUDE = 259.556
END_OBJECT = IMAGE_MAP_PROJECTION
/* The JPEG2000 image data file associated with this label. */
OBJECT = COMPRESSED_FILE
  FILE_NAME = "H2424_0000_ND3.JP2"
  RECORD_TYPE = UNDEFINED
  FILE_RECORDS = UNK
  ENCODING_TYPE = "JP2"
  INTERCHANGE_FORMAT = BINARY
  UNCOMPRESSED_FILE_NAME = "H2424_0000_ND3.IMG"
  REQUIRED_STORAGE_BYTES = "1176847992"
  ^DESCRIPTION = "JP2INFO.TXT"
END_OBJECT = COMPRESSED_FILE
END
