PDS_VERSION_ID = PDS3
/* FILE DATA ELEMENTS */
RECORD_TYPE = STREAM
/* POINTERS TO DATA OBJECTS */
^COMPRESSED_FILE = "H2425_0000_BL3.JP2"
/* IDENTIFICATION DATA ELEMENTS */
DATA_SET_ID = "MEX-M-HRSC-5-REFDR-MAPPROJECTED-V3.0"
DATA_SET_NAME = "MARS EXPRESS HRSC MAP PROJECTED REFDR V3.0"
DETECTOR_ID = MEX_HRSC_BLUE
EVENT_TYPE = "MARS-REGIONAL-MAPPING-Im-Fl"
INSTRUMENT_HOST_ID = MEX
INSTRUMENT_HOST_NAME = "MARS EXPRESS"
INSTRUMENT_ID = HRSC
INSTRUMENT_NAME = "HIGH RESOLUTION STEREO CAMERA"
MISSION_NAME = "MARS EXPRESS"
MISSION_PHASE_NAME = ME_Phase_1
PROCESSING_LEVEL_ID = 3
PRODUCT_CREATION_TIME = 2016-04-06T10:39:59.000Z
PRODUCT_ID = "H2425_0000_BL3.JP2"
RELEASE_ID = 0030
REVISION_ID = 0000
/* QUALITY DATA ELEMENTS */
DATA_QUALITY_ID = 1
DATA_QUALITY_DESC = "Data calculated based on original SPICE kernels"
/* TIME DATA ELEMENTS */
SPACECRAFT_CLOCK_START_COUNT = "1/0081624765.57283"
SPACECRAFT_CLOCK_STOP_COUNT = "1/0081624939.06898"
START_TIME = 2005-12-02T17:33:20.578Z
STOP_TIME = 2005-12-02T17:35:21.040Z
/* ORBITAL DATA ELEMENTS */
ASCENDING_NODE_LONGITUDE = 177.35
MAXIMUM_RESOLUTION = 43.9
FOOTPRINT_POINT_LATITUDE = (-63.8118,-63.8412,-63.8682,-63.9109, -63.7556,-63.6004,-63.4454,-63.2903, -63.0577,-62.8251,-62.5925,-62.4375, -62.2826,-62.1277,-61.9728,-61.818, -61.6631,-61.4309,-61.1988,-61.044, -60.8894,-60.7346,-60.5801,-60.4255, -60.2662,-60.1056,-59.945,-59.7844, -59.6241,-59.3837,-59.2235,-59.0633, -58.9031,-58.743,-58.5825,-58.4227, -58.2629,-58.1032,-57.9434,-57.7837, -57.5444,-57.3849,-57.2198,-57.0543, -56.8889,-56.7235,-56.5582,-56.3931, -56.228,-56.063,-55.9112,-55.899, -55.8839,-55.8662,-55.9379,-56.1025, -56.2672,-56.4319,-56.5967,-56.7616, -56.9266,-57.174,-57.3376,-57.4966, -57.7354,-57.8945,-58.0537,-58.2131, -58.4523,-58.6915,-58.8511,-59.0119, -59.1716,-59.3312,-59.5703,-59.8102, -59.9702,-60.1303,-60.3682,-60.5222, -60.6763,-60.8304,-60.9845,-61.1388, -61.293,-61.4472,-61.6014,-61.7557, -61.9099,-62.0642,-62.2186,-62.3729, -62.5272,-62.6817,-62.8361,-62.9905, -63.1449,-63.2994,-63.531,-63.8118)
FOOTPRINT_POINT_LONGITUDE = (163.759,164.367,164.982,165.699, 165.728,165.756,165.784,165.812,165.853 ,165.892,165.931,165.956,165.982, 166.007,166.031,166.056,166.079,166.114 ,166.149,166.171,166.194,166.215, 166.237,166.258,166.28,166.302,166.324, 166.345,166.366,166.398,166.419,166.439 ,166.459,166.479,166.497,166.517, 166.536,166.556,166.574,166.593,166.621 ,166.639,166.658,166.676,166.695, 166.712,166.73,166.748,166.765,166.782, 166.376,166.028,165.629,165.2,164.927, 164.907,164.887,164.866,164.845,164.824 ,164.802,164.77,164.747,164.725,164.692 ,164.669,164.646,164.623,164.586,164.55 ,164.525,164.498,164.472,164.446, 164.407,164.366,164.338,164.31,164.267, 164.239,164.21,164.181,164.152,164.122, 164.092,164.061,164.03,163.998,163.966, 163.934,163.9,163.867,163.833,163.799, 163.764,163.728,163.692,163.656,163.6, 163.759)
ORBIT_NUMBER = 2425
ORBITAL_ECCENTRICITY = 0.572
ORBITAL_INCLINATION = 86.62
ORBITAL_SEMIMAJOR_AXIS = 8539.01
PERIAPSIS_ALTITUDE = 274.27
PERIAPSIS_ARGUMENT_ANGLE = 291.99
PERIAPSIS_TIME = 2005-12-02T17:32:17.000Z
SPACECRAFT_ORIENTATION = (0.0,-1.0,0.0)
^MEX_ORIENTATION_DESC = "MEX_ORIENTATION_DESC.TXT"
SPACECRAFT_POINTING_MODE = ACROSSTRACK
^MEX_POINTING_DESC = "MEX_POINTING_DESC.TXT"
RIGHT_ASCENSION = -1e+32
DECLINATION = -1e+32
OFFSET_ANGLE = -0.3
SPACECRAFT_SOLAR_DISTANCE = 2.23364e+08
TARGET_NAME = MARS
/* CAMERA DATA ELEMENTS */
DETECTOR_TEMPERATURE = 18.1666
FOCAL_PLANE_TEMPERATURE = 7.5638
INST_CMPRS_NAME = "DISCRETE COSINE TRANSFORMATION (DCT)"
INST_CMPRS_RATIO = 7.19406
INST_CMPRS_QUALITY = 0
INST_CMPRS_QUANTZ_TBL_ID = 0
INSTRUMENT_TEMPERATURE = 11.6418
LENS_TEMPERATURE = 8.5833
MACROPIXEL_SIZE = 4
MISSING_FRAMES = 0
PIXEL_SUBSAMPLING_FLAG = N
SIGNAL_CHAIN_ID = 2
/* RADIOMETRIC DATA ELEMENTS */
BANDWIDTH = 76.0
CENTER_FILTER_WAVELENGTH = 444.0
RADIANCE_OFFSET = 0.640025
RADIANCE_SCALING_FACTOR = 0.000986033
REFLECTANCE_SCALING_FACTOR = 5.05447e-05
MEX:REFLECTANCE_OFFSET = 0.0328081
/* IMAGE OBJECT DEFINITIONS */
OBJECT = IMAGE
  INTERCHANGE_FORMAT = BINARY
  LINES = 9539
  LINE_SAMPLES = 1984
  SAMPLE_TYPE = UNSIGNED_INTEGER
  SAMPLE_BITS = 8
  BANDS = 1
  BAND_STORAGE_TYPE = BAND_SEQUENTIAL
  MAXIMUM = 254
  MEAN = 143.322
  MINIMUM = 9
  STANDARD_DEVIATION = 24.7418
END_OBJECT = IMAGE
/* MAP OBJECT DEFINITIONS */
OBJECT = IMAGE_MAP_PROJECTION
  ^DATA_SET_MAP_PROJECTION_CATALOG= "DSMAP.CAT"
  A_AXIS_RADIUS = 3396.0
  B_AXIS_RADIUS = 3396.0
  C_AXIS_RADIUS = 3396.0
  CENTER_LATITUDE = 0.0
  CENTER_LONGITUDE = 165.0
  COORDINATE_SYSTEM_NAME = PLANETOGRAPHIC
  COORDINATE_SYSTEM_TYPE = "BODY-FIXED ROTATING"
  EASTERNMOST_LONGITUDE = 166.782
  FIRST_STANDARD_PARALLEL = "N/A"
  LINE_FIRST_PIXEL = 1
  LINE_LAST_PIXEL = 9539
  LINE_PROJECTION_OFFSET = -66218.375
  MAP_PROJECTION_ROTATION = 0.0
  MAP_PROJECTION_TYPE = SINUSOIDAL
  MAP_RESOLUTION = 1185.42760773333
  MAP_SCALE = 0.05
  MAXIMUM_LATITUDE = -55.8662
  MINIMUM_LATITUDE = -63.9109
  POSITIVE_LONGITUDE_DIRECTION = EAST
  REFERENCE_LATITUDE = "N/A"
  REFERENCE_LONGITUDE = "N/A"
  SAMPLE_FIRST_PIXEL = 1
  SAMPLE_LAST_PIXEL = 1984
  SAMPLE_PROJECTION_OFFSET = 758.125
  SECOND_STANDARD_PARALLEL = "N/A"
  WESTERNMOST_LONGITUDE = 163.6
END_OBJECT = IMAGE_MAP_PROJECTION
/* The JPEG2000 image data file associated with this label. */
OBJECT = COMPRESSED_FILE
  FILE_NAME = "H2425_0000_BL3.JP2"
  RECORD_TYPE = UNDEFINED
  FILE_RECORDS = UNK
  ENCODING_TYPE = "JP2"
  INTERCHANGE_FORMAT = BINARY
  UNCOMPRESSED_FILE_NAME = "H2425_0000_BL3.IMG"
  REQUIRED_STORAGE_BYTES = "18945216"
  ^DESCRIPTION = "JP2INFO.TXT"
END_OBJECT = COMPRESSED_FILE
END
