PDS_VERSION_ID = PDS3
/* FILE DATA ELEMENTS */
RECORD_TYPE = STREAM
/* POINTERS TO DATA OBJECTS */
^COMPRESSED_FILE = "H2427_0000_GR3.JP2"
/* IDENTIFICATION DATA ELEMENTS */
DATA_SET_ID = "MEX-M-HRSC-5-REFDR-MAPPROJECTED-V3.0"
DATA_SET_NAME = "MARS EXPRESS HRSC MAP PROJECTED REFDR V3.0"
DETECTOR_ID = MEX_HRSC_GREEN
EVENT_TYPE = "MARS-REGIONAL-MAPPING-Gl-Eo"
INSTRUMENT_HOST_ID = MEX
INSTRUMENT_HOST_NAME = "MARS EXPRESS"
INSTRUMENT_ID = HRSC
INSTRUMENT_NAME = "HIGH RESOLUTION STEREO CAMERA"
MISSION_NAME = "MARS EXPRESS"
MISSION_PHASE_NAME = ME_Phase_1
PROCESSING_LEVEL_ID = 3
PRODUCT_CREATION_TIME = 2016-04-06T10:39:59.000Z
PRODUCT_ID = "H2427_0000_GR3.JP2"
RELEASE_ID = 0030
REVISION_ID = 0000
/* QUALITY DATA ELEMENTS */
DATA_QUALITY_ID = 1
DATA_QUALITY_DESC = "Data calculated based on original SPICE kernels"
/* TIME DATA ELEMENTS */
SPACECRAFT_CLOCK_START_COUNT = "1/0081672899.56183"
SPACECRAFT_CLOCK_STOP_COUNT = "1/0081673131.55842"
START_TIME = 2005-12-03T06:55:29.408Z
STOP_TIME = 2005-12-03T06:58:28.746Z
/* ORBITAL DATA ELEMENTS */
ASCENDING_NODE_LONGITUDE = 177.31
MAXIMUM_RESOLUTION = 43.3
FOOTPRINT_POINT_LATITUDE = (-78.2022,-78.2396,-78.3039,-78.3399, -78.3743,-78.4072,-78.2947,-78.0482, -77.8012,-77.554,-77.308,-77.0693, -76.8302,-76.5909,-76.2313,-75.9913, -75.7511,-75.5106,-75.2698,-75.1435, -74.9024,-74.6611,-74.3025,-74.07, -73.8373,-73.6045,-73.2547,-73.0212, -72.6711,-72.4375,-72.2037,-71.8531, -71.5019,-71.2676,-70.9161,-70.6815, -70.3296,-69.9775,-69.7426,-69.5076, -69.1548,-68.8021,-68.5667,-68.3314, -67.9784,-67.6251,-67.2719,-67.0362, -66.8006,-66.5649,-66.5238,-66.5056, -66.4902,-66.4646,-66.4444,-66.6787, -67.0302,-67.3813,-67.6153,-67.8492, -68.083,-68.3169,-68.5505,-68.7837, -69.0172,-69.2506,-69.4837,-69.7167, -69.9496,-70.2987,-70.5312,-70.8797, -71.1117,-71.3437,-71.6905,-71.9227, -72.1536,-72.3848,-72.6157,-72.8464, -73.1917,-73.4218,-73.6516,-73.881, -74.1102,-74.4629,-74.7006,-74.9379, -75.1806,-75.417,-75.7711,-76.0064, -76.3588,-76.5932,-76.8272,-77.0606, -77.421,-77.6619,-78.0224,-78.2022)
FOOTPRINT_POINT_LONGITUDE = (318.369,319.004,320.167,320.864,321.57 ,322.283,323.031,323.274,323.507,323.73 ,323.944,324.142,324.333,324.517, 324.782,324.949,325.11,325.268,325.421, 325.499,325.642,325.783,325.982,326.107 ,326.227,326.344,326.518,326.631, 326.789,326.891,326.99,327.131,327.269, 327.359,327.487,327.572,327.692,327.809 ,327.885,327.958,328.07,328.173,328.241 ,328.306,328.401,328.494,328.583, 328.642,328.698,328.754,328.153,327.707 ,327.354,326.806,326.385,326.309,326.19 ,326.067,325.982,325.896,325.807, 325.716,325.622,325.526,325.428,325.328 ,325.224,325.118,325.009,324.841, 324.725,324.544,324.42,324.293,324.093, 323.958,323.817,323.672,323.523,323.37, 323.132,322.967,322.797,322.622,322.442 ,322.153,321.95,321.741,321.518,321.294 ,320.942,320.697,320.314,320.047, 319.769,319.482,319.015,318.686,318.167 ,318.369)
ORBIT_NUMBER = 2427
ORBITAL_ECCENTRICITY = 0.572
ORBITAL_INCLINATION = 86.63
ORBITAL_SEMIMAJOR_AXIS = 8536.42
PERIAPSIS_ALTITUDE = 273.74
PERIAPSIS_ARGUMENT_ANGLE = 291.64
PERIAPSIS_TIME = 2005-12-03T06:58:08.000Z
SPACECRAFT_ORIENTATION = (0.0,-1.0,0.0)
^MEX_ORIENTATION_DESC = "MEX_ORIENTATION_DESC.TXT"
SPACECRAFT_POINTING_MODE = ACROSSTRACK
^MEX_POINTING_DESC = "MEX_POINTING_DESC.TXT"
RIGHT_ASCENSION = -1e+32
DECLINATION = -1e+32
OFFSET_ANGLE = -0.3
SPACECRAFT_SOLAR_DISTANCE = 2.23473e+08
TARGET_NAME = MARS
/* CAMERA DATA ELEMENTS */
DETECTOR_TEMPERATURE = 18.9822
FOCAL_PLANE_TEMPERATURE = 7.9716
INST_CMPRS_NAME = "DISCRETE COSINE TRANSFORMATION (DCT)"
INST_CMPRS_RATIO = 20.6813
INST_CMPRS_QUALITY = 0
INST_CMPRS_QUANTZ_TBL_ID = 0
INSTRUMENT_TEMPERATURE = 11.0301
LENS_TEMPERATURE = 8.5833
MACROPIXEL_SIZE = 4
MISSING_FRAMES = 1
PIXEL_SUBSAMPLING_FLAG = N
SIGNAL_CHAIN_ID = 2
/* RADIOMETRIC DATA ELEMENTS */
BANDWIDTH = 88.0
CENTER_FILTER_WAVELENGTH = 538.0
RADIANCE_OFFSET = 1.2402
RADIANCE_SCALING_FACTOR = 0.00282611
REFLECTANCE_SCALING_FACTOR = 0.000121514
MEX:REFLECTANCE_OFFSET = 0.0533251
/* IMAGE OBJECT DEFINITIONS */
OBJECT = IMAGE
  INTERCHANGE_FORMAT = BINARY
  LINES = 14192
  LINE_SAMPLES = 3449
  SAMPLE_TYPE = UNSIGNED_INTEGER
  SAMPLE_BITS = 8
  BANDS = 1
  BAND_STORAGE_TYPE = BAND_SEQUENTIAL
  MAXIMUM = 255
  MEAN = 137.735
  MINIMUM = 1
  STANDARD_DEVIATION = 38.4234
END_OBJECT = IMAGE
/* MAP OBJECT DEFINITIONS */
OBJECT = IMAGE_MAP_PROJECTION
  ^DATA_SET_MAP_PROJECTION_CATALOG= "DSMAP.CAT"
  A_AXIS_RADIUS = 3396.0
  B_AXIS_RADIUS = 3396.0
  C_AXIS_RADIUS = 3396.0
  CENTER_LATITUDE = 0.0
  CENTER_LONGITUDE = 325.0
  COORDINATE_SYSTEM_NAME = PLANETOGRAPHIC
  COORDINATE_SYSTEM_TYPE = "BODY-FIXED ROTATING"
  EASTERNMOST_LONGITUDE = 328.754
  FIRST_STANDARD_PARALLEL = "N/A"
  LINE_FIRST_PIXEL = 1
  LINE_LAST_PIXEL = 14192
  LINE_PROJECTION_OFFSET = -78763.625
  MAP_PROJECTION_ROTATION = 0.0
  MAP_PROJECTION_TYPE = SINUSOIDAL
  MAP_RESOLUTION = 1185.42760773333
  MAP_SCALE = 0.05
  MAXIMUM_LATITUDE = -66.4444
  MINIMUM_LATITUDE = -78.4072
  POSITIVE_LONGITUDE_DIRECTION = EAST
  REFERENCE_LATITUDE = "N/A"
  REFERENCE_LONGITUDE = "N/A"
  SAMPLE_FIRST_PIXEL = 1
  SAMPLE_LAST_PIXEL = 3449
  SAMPLE_PROJECTION_OFFSET = 1696.875
  SECOND_STANDARD_PARALLEL = "N/A"
  WESTERNMOST_LONGITUDE = 318.167
END_OBJECT = IMAGE_MAP_PROJECTION
/* The JPEG2000 image data file associated with this label. */
OBJECT = COMPRESSED_FILE
  FILE_NAME = "H2427_0000_GR3.JP2"
  RECORD_TYPE = UNDEFINED
  FILE_RECORDS = UNK
  ENCODING_TYPE = "JP2"
  INTERCHANGE_FORMAT = BINARY
  UNCOMPRESSED_FILE_NAME = "H2427_0000_GR3.IMG"
  REQUIRED_STORAGE_BYTES = "48972351"
  ^DESCRIPTION = "JP2INFO.TXT"
END_OBJECT = COMPRESSED_FILE
END
