PDS_VERSION_ID = PDS3
/* FILE DATA ELEMENTS */
RECORD_TYPE = STREAM
/* POINTERS TO DATA OBJECTS */
^COMPRESSED_FILE = "H2427_0006_SR3.JP2"
/* IDENTIFICATION DATA ELEMENTS */
DATA_SET_ID = "MEX-M-HRSC-5-REFDR-MAPPROJECTED-V3.0"
DATA_SET_NAME = "MARS EXPRESS HRSC MAP PROJECTED REFDR V3.0"
DETECTOR_ID = MEX_HRSC_SRC
EVENT_TYPE = "MARS-REGIONAL-MAPPING-Gl-Eo"
INSTRUMENT_HOST_ID = MEX
INSTRUMENT_HOST_NAME = "MARS EXPRESS"
INSTRUMENT_ID = HRSC
INSTRUMENT_NAME = "HIGH RESOLUTION STEREO CAMERA"
MISSION_NAME = "MARS EXPRESS"
MISSION_PHASE_NAME = ME_Phase_1
PROCESSING_LEVEL_ID = 3
PRODUCT_CREATION_TIME = 2016-04-06T10:39:59.000Z
PRODUCT_ID = "H2427_0006_SR3.JP2"
RELEASE_ID = 0030
REVISION_ID = 0000
/* QUALITY DATA ELEMENTS */
DATA_QUALITY_ID = 1
DATA_QUALITY_DESC = "Data calculated based on original SPICE kernels"
/* TIME DATA ELEMENTS */
SPACECRAFT_CLOCK_START_COUNT = "1/0081672899.56183"
SPACECRAFT_CLOCK_STOP_COUNT = "1/0081673131.55842"
IMAGE_TIME = 2005-12-03T06:56:01.529Z
START_TIME = 2005-12-03T06:56:01.526Z
STOP_TIME = 2005-12-03T06:56:01.531Z
/* ORBITAL DATA ELEMENTS */
ASCENDING_NODE_LONGITUDE = 177.31
MAXIMUM_RESOLUTION = 2.626
FOOTPRINT_POINT_LATITUDE = (-76.4705,-76.4724,-76.4737,-76.4752, -76.4769,-76.4789,-76.4818,-76.4831, -76.4848,-76.4859,-76.4875,-76.4886, -76.4899,-76.4914,-76.4937,-76.4951, -76.4969,-76.498,-76.5006,-76.5023, -76.5043,-76.5056,-76.5076,-76.509, -76.5109,-76.5125,-76.5134,-76.513, -76.5126,-76.5123,-76.5119,-76.5115, -76.5111,-76.5107,-76.5104,-76.51, -76.5096,-76.5092,-76.5088,-76.5084, -76.5081,-76.5077,-76.5073,-76.5069, -76.5065,-76.5061,-76.5058,-76.5054, -76.505,-76.5046,-76.5042,-76.5036, -76.5022,-76.4994,-76.4975,-76.4955, -76.4932,-76.4917,-76.4894,-76.488, -76.486,-76.484,-76.4827,-76.4806, -76.4784,-76.477,-76.4754,-76.4731, -76.4705,-76.4686,-76.4671,-76.4657, -76.4633,-76.4618,-76.4603,-76.4607, -76.4611,-76.4614,-76.4618,-76.4622, -76.4626,-76.463,-76.4634,-76.4637, -76.4641,-76.4645,-76.4649,-76.4653, -76.4657,-76.466,-76.4664,-76.4668, -76.4672,-76.4676,-76.4679,-76.4683, -76.4687,-76.4691,-76.4695,-76.4705)
FOOTPRINT_POINT_LONGITUDE = (322.49,322.488,322.487,322.486,322.484 ,322.482,322.48,322.478,322.477,322.476 ,322.474,322.473,322.472,322.471, 322.468,322.467,322.466,322.464,322.462 ,322.46,322.459,322.457,322.456,322.454 ,322.452,322.451,322.446,322.439, 322.431,322.424,322.416,322.409,322.401 ,322.394,322.386,322.379,322.371, 322.364,322.356,322.349,322.341,322.334 ,322.326,322.319,322.311,322.304, 322.297,322.289,322.282,322.274,322.267 ,322.26,322.261,322.264,322.266,322.268 ,322.27,322.271,322.274,322.275,322.277 ,322.279,322.28,322.282,322.284,322.285 ,322.287,322.289,322.291,322.293, 322.295,322.296,322.298,322.3,322.305, 322.313,322.32,322.328,322.335,322.342, 322.35,322.357,322.365,322.372,322.38, 322.387,322.395,322.402,322.409,322.417 ,322.424,322.432,322.439,322.447, 322.454,322.462,322.469,322.477,322.484 ,322.49)
ORBIT_NUMBER = 2427
ORBITAL_ECCENTRICITY = 0.572
ORBITAL_INCLINATION = 86.63
ORBITAL_SEMIMAJOR_AXIS = 8536.42
PERIAPSIS_ALTITUDE = 273.74
PERIAPSIS_ARGUMENT_ANGLE = 291.64
PERIAPSIS_TIME = 2005-12-03T06:58:08.000Z
SPACECRAFT_ORIENTATION = (0.0,-1.0,0.0)
^MEX_ORIENTATION_DESC = "MEX_ORIENTATION_DESC.TXT"
SPACECRAFT_POINTING_MODE = ACROSSTRACK
^MEX_POINTING_DESC = "MEX_POINTING_DESC.TXT"
RIGHT_ASCENSION = -1e+32
DECLINATION = -1e+32
OFFSET_ANGLE = -0.3
SPACECRAFT_SOLAR_DISTANCE = 2.23473e+08
TARGET_NAME = MARS
/* CAMERA DATA ELEMENTS */
BUFFER_MODE_ID = BUFFER_8
EXPOSURE_DURATION = 5.04
INST_CMPRS_NAME = NONE
INST_CMPRS_RATIO = 1.0
INST_CMPRS_QUALITY = -2147483648
INST_CMPRS_QUANTZ_TBL_ID = -2147483648
INSTRUMENT_TEMPERATURE = 5.15152
MISSING_FRAMES = 0
START_BIT = 0
/* RADIOMETRIC DATA ELEMENTS */
BANDWIDTH = 250.0
CENTER_FILTER_WAVELENGTH = 600.0
RADIANCE_OFFSET = -9.99e+31
RADIANCE_SCALING_FACTOR = -9.99e+31
REFLECTANCE_SCALING_FACTOR = -9.99e+31
MEX:REFLECTANCE_OFFSET = -9.99e+31
/* IMAGE OBJECT DEFINITIONS */
OBJECT = IMAGE
  INTERCHANGE_FORMAT = BINARY
  LINES = 1392
  LINE_SAMPLES = 1409
  SAMPLE_TYPE = UNSIGNED_INTEGER
  SAMPLE_BITS = 8
  BANDS = 1
  BAND_STORAGE_TYPE = BAND_SEQUENTIAL
  MAXIMUM = 244
  MEAN = 134.841
  MINIMUM = 14
  STANDARD_DEVIATION = 24.5464
END_OBJECT = IMAGE
/* MAP OBJECT DEFINITIONS */
OBJECT = IMAGE_MAP_PROJECTION
  ^DATA_SET_MAP_PROJECTION_CATALOG= "DSMAP.CAT"
  A_AXIS_RADIUS = 3396.19
  B_AXIS_RADIUS = 3396.19
  C_AXIS_RADIUS = 3396.19
  CENTER_LATITUDE = 0.0
  CENTER_LONGITUDE = 322.0
  COORDINATE_SYSTEM_NAME = PLANETOGRAPHIC
  COORDINATE_SYSTEM_TYPE = "BODY-FIXED ROTATING"
  EASTERNMOST_LONGITUDE = 322.49
  FIRST_STANDARD_PARALLEL = "N/A"
  LINE_FIRST_PIXEL = 1
  LINE_LAST_PIXEL = 1392
  LINE_PROJECTION_OFFSET = -1808496.0
  MAP_PROJECTION_ROTATION = 0.0
  MAP_PROJECTION_TYPE = SINUSOIDAL
  MAP_RESOLUTION = 23709.8786048756
  MAP_SCALE = 0.0025
  MAXIMUM_LATITUDE = -76.4603
  MINIMUM_LATITUDE = -76.5134
  POSITIVE_LONGITUDE_DIRECTION = EAST
  REFERENCE_LATITUDE = "N/A"
  REFERENCE_LONGITUDE = "N/A"
  SAMPLE_FIRST_PIXEL = 1
  SAMPLE_LAST_PIXEL = 1409
  SAMPLE_PROJECTION_OFFSET = -1883.0
  SECOND_STANDARD_PARALLEL = "N/A"
  WESTERNMOST_LONGITUDE = 322.26
END_OBJECT = IMAGE_MAP_PROJECTION
/* The JPEG2000 image data file associated with this label. */
OBJECT = COMPRESSED_FILE
  FILE_NAME = "H2427_0006_SR3.JP2"
  RECORD_TYPE = UNDEFINED
  FILE_RECORDS = UNK
  ENCODING_TYPE = "JP2"
  INTERCHANGE_FORMAT = BINARY
  UNCOMPRESSED_FILE_NAME = "H2427_0006_SR3.IMG"
  REQUIRED_STORAGE_BYTES = "1981054"
  ^DESCRIPTION = "JP2INFO.TXT"
END_OBJECT = COMPRESSED_FILE
END
