PDS_VERSION_ID = PDS3
/* FILE DATA ELEMENTS */
RECORD_TYPE = STREAM
/* POINTERS TO DATA OBJECTS */
^COMPRESSED_FILE = "H2428_0000_IR3.JP2"
/* IDENTIFICATION DATA ELEMENTS */
DATA_SET_ID = "MEX-M-HRSC-5-REFDR-MAPPROJECTED-V3.0"
DATA_SET_NAME = "MARS EXPRESS HRSC MAP PROJECTED REFDR V3.0"
DETECTOR_ID = MEX_HRSC_IR
EVENT_TYPE = "MARS-REGIONAL-MAPPING-Gl-Eo-La"
INSTRUMENT_HOST_ID = MEX
INSTRUMENT_HOST_NAME = "MARS EXPRESS"
INSTRUMENT_ID = HRSC
INSTRUMENT_NAME = "HIGH RESOLUTION STEREO CAMERA"
MISSION_NAME = "MARS EXPRESS"
MISSION_PHASE_NAME = ME_Phase_1
PROCESSING_LEVEL_ID = 3
PRODUCT_CREATION_TIME = 2016-04-06T10:39:59.000Z
PRODUCT_ID = "H2428_0000_IR3.JP2"
RELEASE_ID = 0030
REVISION_ID = 0000
/* QUALITY DATA ELEMENTS */
DATA_QUALITY_ID = 1
DATA_QUALITY_DESC = "Data calculated based on original SPICE kernels"
/* TIME DATA ELEMENTS */
SPACECRAFT_CLOCK_START_COUNT = "1/0081696974.57150"
SPACECRAFT_CLOCK_STOP_COUNT = "1/0081697179.22982"
START_TIME = 2005-12-03T13:36:27.513Z
STOP_TIME = 2005-12-03T13:38:57.248Z
/* ORBITAL DATA ELEMENTS */
ASCENDING_NODE_LONGITUDE = 177.29
MAXIMUM_RESOLUTION = 48
FOOTPRINT_POINT_LATITUDE = (-83.0201,-83.318,-83.5731,-83.8116, -83.7166,-83.5558,-83.3926,-83.2271, -83.0596,-82.8901,-82.7188,-82.5458, -82.3713,-82.1952,-82.0233,-81.8504, -81.676,-81.5006,-81.324,-81.1465, -80.9679,-80.7884,-80.6139,-80.4385, -80.2623,-80.0851,-79.9069,-79.7283, -79.5509,-79.3721,-79.1026,-78.9279, -78.7525,-78.4856,-78.3073,-78.1353, -77.8694,-77.6018,-77.4225,-77.2439, -77.068,-76.8076,-76.6328,-76.3705, -76.1962,-76.0211,-75.7583,-75.5827, -75.4062,-75.1413,-74.9349,-74.8426, -74.7725,-74.6508,-74.7987,-75.0555, -75.3118,-75.4825,-75.7382,-75.9081, -76.0775,-76.2472,-76.4968,-76.6657, -76.9245,-77.0971,-77.269,-77.4402, -77.6107,-77.7817,-77.9524,-78.1209, -78.289,-78.4557,-78.6225,-78.7934, -78.9637,-79.2178,-79.3862,-79.5535, -79.7199,-79.8854,-80.0493,-80.2132, -80.3803,-80.5465,-80.7928,-80.9557, -81.1168,-81.276,-81.4333,-81.672, -81.8296,-81.985,-82.138,-82.2886, -82.4367,-82.5821,-82.7247,-83.0201)
FOOTPRINT_POINT_LONGITUDE = (191.427,193.652,195.802,198.063,199.49 ,200.559,201.577,202.547,203.47,204.352 ,205.192,205.995,206.762,207.494, 208.173,208.824,209.448,210.048,210.623 ,211.175,211.707,212.218,212.694, 213.152,213.595,214.022,214.434,214.833 ,215.218,215.59,216.122,216.454,216.775 ,217.238,217.535,217.826,218.244, 218.644,218.901,219.152,219.391,219.732 ,219.951,220.271,220.477,220.679, 220.972,221.161,221.346,221.615,221.032 ,220.05,219.339,218.184,217.732,217.389 ,217.034,216.792,216.418,216.161, 215.897,215.629,215.205,214.92,214.464, 214.146,213.819,213.483,213.138,212.785 ,212.423,212.048,211.662,211.264, 210.856,210.42,209.969,209.268,208.783, 208.281,207.764,207.23,206.678,206.105, 205.494,204.864,203.876,203.188,202.476 ,201.737,200.971,199.738,198.87,197.969 ,197.033,196.061,195.051,194.002, 192.913,191.427)
ORBIT_NUMBER = 2428
ORBITAL_ECCENTRICITY = 0.572
ORBITAL_INCLINATION = 86.63
ORBITAL_SEMIMAJOR_AXIS = 8536.54
PERIAPSIS_ALTITUDE = 272.91
PERIAPSIS_ARGUMENT_ANGLE = 291.45
PERIAPSIS_TIME = 2005-12-03T13:41:01.000Z
SPACECRAFT_ORIENTATION = (0.0,-1.0,0.0)
^MEX_ORIENTATION_DESC = "MEX_ORIENTATION_DESC.TXT"
SPACECRAFT_POINTING_MODE = ACROSSTRACK
^MEX_POINTING_DESC = "MEX_POINTING_DESC.TXT"
RIGHT_ASCENSION = -1e+32
DECLINATION = -1e+32
OFFSET_ANGLE = 1.05
SPACECRAFT_SOLAR_DISTANCE = 2.23527e+08
TARGET_NAME = MARS
/* CAMERA DATA ELEMENTS */
DETECTOR_TEMPERATURE = 17.351
FOCAL_PLANE_TEMPERATURE = 8.3794
INST_CMPRS_NAME = "DISCRETE COSINE TRANSFORMATION (DCT)"
INST_CMPRS_RATIO = 16.3482
INST_CMPRS_QUALITY = 0
INST_CMPRS_QUANTZ_TBL_ID = 0
INSTRUMENT_TEMPERATURE = 11.0301
LENS_TEMPERATURE = 8.5833
MACROPIXEL_SIZE = 4
MISSING_FRAMES = 0
PIXEL_SUBSAMPLING_FLAG = N
SIGNAL_CHAIN_ID = 2
/* RADIOMETRIC DATA ELEMENTS */
BANDWIDTH = 81.0
CENTER_FILTER_WAVELENGTH = 955.5
RADIANCE_OFFSET = 0.54872
RADIANCE_SCALING_FACTOR = 0.00249418
REFLECTANCE_SCALING_FACTOR = 0.000268852
MEX:REFLECTANCE_OFFSET = 0.0591474
/* IMAGE OBJECT DEFINITIONS */
OBJECT = IMAGE
  INTERCHANGE_FORMAT = BINARY
  LINES = 10750
  LINE_SAMPLES = 5824
  SAMPLE_TYPE = UNSIGNED_INTEGER
  SAMPLE_BITS = 8
  BANDS = 1
  BAND_STORAGE_TYPE = BAND_SEQUENTIAL
  MAXIMUM = 255
  MEAN = 103.479
  MINIMUM = 5
  STANDARD_DEVIATION = 51.6124
END_OBJECT = IMAGE
/* MAP OBJECT DEFINITIONS */
OBJECT = IMAGE_MAP_PROJECTION
  ^DATA_SET_MAP_PROJECTION_CATALOG= "DSMAP.CAT"
  A_AXIS_RADIUS = 3396.0
  B_AXIS_RADIUS = 3396.0
  C_AXIS_RADIUS = 3396.0
  CENTER_LATITUDE = 0.0
  CENTER_LONGITUDE = 213.0
  COORDINATE_SYSTEM_NAME = PLANETOGRAPHIC
  COORDINATE_SYSTEM_TYPE = "BODY-FIXED ROTATING"
  EASTERNMOST_LONGITUDE = 221.615
  FIRST_STANDARD_PARALLEL = "N/A"
  LINE_FIRST_PIXEL = 1
  LINE_LAST_PIXEL = 10750
  LINE_PROJECTION_OFFSET = -88524.375
  MAP_PROJECTION_ROTATION = 0.0
  MAP_PROJECTION_TYPE = SINUSOIDAL
  MAP_RESOLUTION = 1185.42760773333
  MAP_SCALE = 0.05
  MAXIMUM_LATITUDE = -74.6508
  MINIMUM_LATITUDE = -83.8116
  POSITIVE_LONGITUDE_DIRECTION = EAST
  REFERENCE_LATITUDE = "N/A"
  REFERENCE_LONGITUDE = "N/A"
  SAMPLE_FIRST_PIXEL = 1
  SAMPLE_LAST_PIXEL = 5824
  SAMPLE_PROJECTION_OFFSET = 3081.125
  SECOND_STANDARD_PARALLEL = "N/A"
  WESTERNMOST_LONGITUDE = 191.427
END_OBJECT = IMAGE_MAP_PROJECTION
/* The JPEG2000 image data file associated with this label. */
OBJECT = COMPRESSED_FILE
  FILE_NAME = "H2428_0000_IR3.JP2"
  RECORD_TYPE = UNDEFINED
  FILE_RECORDS = UNK
  ENCODING_TYPE = "JP2"
  INTERCHANGE_FORMAT = BINARY
  UNCOMPRESSED_FILE_NAME = "H2428_0000_IR3.IMG"
  REQUIRED_STORAGE_BYTES = "62637120"
  ^DESCRIPTION = "JP2INFO.TXT"
END_OBJECT = COMPRESSED_FILE
END
