PDS_VERSION_ID = PDS3
/* FILE DATA ELEMENTS */
RECORD_TYPE = STREAM
/* POINTERS TO DATA OBJECTS */
^COMPRESSED_FILE = "H2428_0000_RE3.JP2"
/* IDENTIFICATION DATA ELEMENTS */
DATA_SET_ID = "MEX-M-HRSC-5-REFDR-MAPPROJECTED-V3.0"
DATA_SET_NAME = "MARS EXPRESS HRSC MAP PROJECTED REFDR V3.0"
DETECTOR_ID = MEX_HRSC_RED
EVENT_TYPE = "MARS-REGIONAL-MAPPING-Gl-Eo-La"
INSTRUMENT_HOST_ID = MEX
INSTRUMENT_HOST_NAME = "MARS EXPRESS"
INSTRUMENT_ID = HRSC
INSTRUMENT_NAME = "HIGH RESOLUTION STEREO CAMERA"
MISSION_NAME = "MARS EXPRESS"
MISSION_PHASE_NAME = ME_Phase_1
PROCESSING_LEVEL_ID = 3
PRODUCT_CREATION_TIME = 2016-04-06T10:39:59.000Z
PRODUCT_ID = "H2428_0000_RE3.JP2"
RELEASE_ID = 0030
REVISION_ID = 0000
/* QUALITY DATA ELEMENTS */
DATA_QUALITY_ID = 1
DATA_QUALITY_DESC = "Data calculated based on original SPICE kernels"
/* TIME DATA ELEMENTS */
SPACECRAFT_CLOCK_START_COUNT = "1/0081696974.57150"
SPACECRAFT_CLOCK_STOP_COUNT = "1/0081697179.22982"
START_TIME = 2005-12-03T13:37:18.262Z
STOP_TIME = 2005-12-03T13:39:39.799Z
/* ORBITAL DATA ELEMENTS */
ASCENDING_NODE_LONGITUDE = 177.29
MAXIMUM_RESOLUTION = 46.7
FOOTPRINT_POINT_LATITUDE = (-83.0317,-83.1402,-83.2448,-83.3454, -83.442,-83.5348,-83.6239,-83.4183, -83.1698,-83.0017,-82.7462,-82.5739, -82.3999,-82.1364,-81.9591,-81.7826, -81.5222,-81.3473,-81.1715,-80.9063, -80.7286,-80.5502,-80.371,-80.1913, -80.0112,-79.8314,-79.5679,-79.3913, -79.2156,-79.0386,-78.8616,-78.5958, -78.4201,-78.1505,-77.97,-77.7908, -77.5223,-77.2527,-77.0792,-76.8192, -76.6453,-76.4714,-76.2092,-76.0343, -75.8589,-75.6839,-75.5085,-75.3335, -75.1578,-74.8937,-74.8604,-74.837, -74.8026,-74.7571,-74.6896,-74.8491, -75.0209,-75.1921,-75.363,-75.6187, -75.8736,-76.0433,-76.297,-76.4672, -76.6348,-76.8032,-76.9705,-77.1432, -77.3167,-77.5759,-77.8336,-78.0904, -78.3461,-78.5159,-78.6849,-78.8535, -79.105,-79.2717,-79.4376,-79.6935, -79.8632,-80.032,-80.1998,-80.3665, -80.6143,-80.778,-80.9402,-81.1011, -81.2606,-81.5035,-81.6645,-81.8236, -81.9807,-82.1356,-82.2883,-82.4386, -82.5864,-82.7315,-82.8782,-83.0317)
FOOTPRINT_POINT_LONGITUDE = (193.169,194.265,195.377,196.506, 197.649,198.809,199.988,201.036,202.515 ,203.441,204.75,205.572,206.357,207.469 ,208.169,208.832,209.753,210.335, 210.895,211.694,212.2,212.687,213.156, 213.607,214.041,214.456,215.041,215.417 ,215.773,216.122,216.458,216.94,217.24, 217.697,217.992,218.27,218.67,219.058, 219.297,219.641,219.864,220.08,220.397, 220.602,220.802,220.996,221.185,221.368 ,221.549,221.813,221.153,220.694, 220.052,219.255,218.14,217.718,217.489, 217.257,217.021,216.657,216.28,216.019, 215.619,215.328,215.053,214.758,214.465 ,214.146,213.817,213.305,212.778, 212.223,211.641,211.237,210.823,210.391 ,209.72,209.256,208.778,208.004,207.466 ,206.908,206.33,205.731,204.795,204.143 ,203.471,202.773,202.048,200.874, 200.046,199.186,198.292,197.361,196.393 ,195.386,194.339,193.249,192.077, 193.169)
ORBIT_NUMBER = 2428
ORBITAL_ECCENTRICITY = 0.572
ORBITAL_INCLINATION = 86.63
ORBITAL_SEMIMAJOR_AXIS = 8536.54
PERIAPSIS_ALTITUDE = 272.91
PERIAPSIS_ARGUMENT_ANGLE = 291.45
PERIAPSIS_TIME = 2005-12-03T13:41:01.000Z
SPACECRAFT_ORIENTATION = (0.0,-1.0,0.0)
^MEX_ORIENTATION_DESC = "MEX_ORIENTATION_DESC.TXT"
SPACECRAFT_POINTING_MODE = ACROSSTRACK
^MEX_POINTING_DESC = "MEX_POINTING_DESC.TXT"
RIGHT_ASCENSION = -1e+32
DECLINATION = -1e+32
OFFSET_ANGLE = 1.05
SPACECRAFT_SOLAR_DISTANCE = 2.23527e+08
TARGET_NAME = MARS
/* CAMERA DATA ELEMENTS */
DETECTOR_TEMPERATURE = 18.5744
FOCAL_PLANE_TEMPERATURE = 8.3794
INST_CMPRS_NAME = "DISCRETE COSINE TRANSFORMATION (DCT)"
INST_CMPRS_RATIO = 31.1823
INST_CMPRS_QUALITY = 0
INST_CMPRS_QUANTZ_TBL_ID = 0
INSTRUMENT_TEMPERATURE = 11.0301
LENS_TEMPERATURE = 8.5833
MACROPIXEL_SIZE = 4
MISSING_FRAMES = 0
PIXEL_SUBSAMPLING_FLAG = N
SIGNAL_CHAIN_ID = 2
/* RADIOMETRIC DATA ELEMENTS */
BANDWIDTH = 48.0
CENTER_FILTER_WAVELENGTH = 748.0
RADIANCE_OFFSET = 0.603079
RADIANCE_SCALING_FACTOR = 0.00258502
REFLECTANCE_SCALING_FACTOR = 0.000294745
MEX:REFLECTANCE_OFFSET = 0.0687634
/* IMAGE OBJECT DEFINITIONS */
OBJECT = IMAGE
  INTERCHANGE_FORMAT = BINARY
  LINES = 10750
  LINE_SAMPLES = 5824
  SAMPLE_TYPE = UNSIGNED_INTEGER
  SAMPLE_BITS = 8
  BANDS = 1
  BAND_STORAGE_TYPE = BAND_SEQUENTIAL
  MAXIMUM = 255
  MEAN = 106.595
  MINIMUM = 1
  STANDARD_DEVIATION = 57.1134
END_OBJECT = IMAGE
/* MAP OBJECT DEFINITIONS */
OBJECT = IMAGE_MAP_PROJECTION
  ^DATA_SET_MAP_PROJECTION_CATALOG= "DSMAP.CAT"
  A_AXIS_RADIUS = 3396.0
  B_AXIS_RADIUS = 3396.0
  C_AXIS_RADIUS = 3396.0
  CENTER_LATITUDE = 0.0
  CENTER_LONGITUDE = 213.0
  COORDINATE_SYSTEM_NAME = PLANETOGRAPHIC
  COORDINATE_SYSTEM_TYPE = "BODY-FIXED ROTATING"
  EASTERNMOST_LONGITUDE = 221.813
  FIRST_STANDARD_PARALLEL = "N/A"
  LINE_FIRST_PIXEL = 1
  LINE_LAST_PIXEL = 10750
  LINE_PROJECTION_OFFSET = -88524.375
  MAP_PROJECTION_ROTATION = 0.0
  MAP_PROJECTION_TYPE = SINUSOIDAL
  MAP_RESOLUTION = 1185.42760773333
  MAP_SCALE = 0.05
  MAXIMUM_LATITUDE = -74.6896
  MINIMUM_LATITUDE = -83.62390000000001
  POSITIVE_LONGITUDE_DIRECTION = EAST
  REFERENCE_LATITUDE = "N/A"
  REFERENCE_LONGITUDE = "N/A"
  SAMPLE_FIRST_PIXEL = 1
  SAMPLE_LAST_PIXEL = 5824
  SAMPLE_PROJECTION_OFFSET = 3081.125
  SECOND_STANDARD_PARALLEL = "N/A"
  WESTERNMOST_LONGITUDE = 192.077
END_OBJECT = IMAGE_MAP_PROJECTION
/* The JPEG2000 image data file associated with this label. */
OBJECT = COMPRESSED_FILE
  FILE_NAME = "H2428_0000_RE3.JP2"
  RECORD_TYPE = UNDEFINED
  FILE_RECORDS = UNK
  ENCODING_TYPE = "JP2"
  INTERCHANGE_FORMAT = BINARY
  UNCOMPRESSED_FILE_NAME = "H2428_0000_RE3.IMG"
  REQUIRED_STORAGE_BYTES = "62637120"
  ^DESCRIPTION = "JP2INFO.TXT"
END_OBJECT = COMPRESSED_FILE
END
