PDS_VERSION_ID = PDS3
/* FILE DATA ELEMENTS */
RECORD_TYPE = STREAM
/* POINTERS TO DATA OBJECTS */
^COMPRESSED_FILE = "H2430_0000_RE3.JP2"
/* IDENTIFICATION DATA ELEMENTS */
DATA_SET_ID = "MEX-M-HRSC-5-REFDR-MAPPROJECTED-V3.0"
DATA_SET_NAME = "MARS EXPRESS HRSC MAP PROJECTED REFDR V3.0"
DETECTOR_ID = MEX_HRSC_RED
EVENT_TYPE = "MARS-REGIONAL-MAPPING-Gl-Pf-Eo"
INSTRUMENT_HOST_ID = MEX
INSTRUMENT_HOST_NAME = "MARS EXPRESS"
INSTRUMENT_ID = HRSC
INSTRUMENT_NAME = "HIGH RESOLUTION STEREO CAMERA"
MISSION_NAME = "MARS EXPRESS"
MISSION_PHASE_NAME = ME_Phase_1
PROCESSING_LEVEL_ID = 3
PRODUCT_CREATION_TIME = 2016-04-06T10:39:59.000Z
PRODUCT_ID = "H2430_0000_RE3.JP2"
RELEASE_ID = 0030
REVISION_ID = 0000
/* QUALITY DATA ELEMENTS */
DATA_QUALITY_ID = 1
DATA_QUALITY_DESC = "Data calculated based on original SPICE kernels"
/* TIME DATA ELEMENTS */
SPACECRAFT_CLOCK_START_COUNT = "1/0081745365.57306"
SPACECRAFT_CLOCK_STOP_COUNT = "1/0081745548.09029"
START_TIME = 2005-12-04T03:03:45.675Z
STOP_TIME = 2005-12-04T03:05:48.882Z
/* ORBITAL DATA ELEMENTS */
ASCENDING_NODE_LONGITUDE = 177.25
MAXIMUM_RESOLUTION = 46.2
FOOTPRINT_POINT_LATITUDE = (-82.4068,-82.4715,-82.5341,-82.5947, -82.6531,-82.7168,-82.4658,-82.2967, -82.1275,-81.9578,-81.7885,-81.6214, -81.4568,-81.2099,-81.045,-80.8802, -80.7158,-80.5501,-80.3846,-80.2199, -80.0541,-79.888,-79.7221,-79.5555, -79.3091,-79.1489,-78.9884,-78.8276, -78.6665,-78.4251,-78.1835,-78.0214, -77.8589,-77.6974,-77.5372,-77.2945, -77.1317,-76.8896,-76.6479,-76.4862, -76.2432,-76.0865,-75.9306,-75.7758, -75.6202,-75.3868,-75.1544,-74.9983, -74.8424,-74.6392,-74.607,-74.5511, -74.4876,-74.516,-74.67,-74.8235, -75.0533,-75.2832,-75.4369,-75.5897, -75.7443,-75.8975,-76.0501,-76.2089, -76.4462,-76.6055,-76.8417,-77.003, -77.1628,-77.3214,-77.4756,-77.6325, -77.7912,-77.9491,-78.1063,-78.2649, -78.4218,-78.5771,-78.7338,-78.9686, -79.1255,-79.2869,-79.5284,-79.6885, -79.9284,-80.0881,-80.2467,-80.4024, -80.5598,-80.718,-80.8808,-81.0364, -81.2654,-81.4335,-81.5946,-81.8338, -81.9911,-82.1506,-82.3091,-82.4068)
FOOTPRINT_POINT_LONGITUDE = (16.4321,17.4765,18.5447,19.6367, 20.7543,22.2733,22.8977,23.2885,23.6629 ,24.0212,24.366,24.6916,24.9967,25.4335 ,25.7111,25.9795,26.2395,26.488,26.7285 ,26.9633,27.1879,27.4047,27.6151, 27.8178,28.106,28.2873,28.4629,28.6331, 28.7978,29.0369,29.2659,29.4116,29.5522 ,29.6916,29.83,30.0265,30.1509,30.3365, 30.5164,30.6316,30.7949,30.8968,30.9982 ,31.0994,31.1968,31.3391,31.4786, 31.5671,31.654,31.7644,31.1074,30.0518, 28.952,28.0953,27.9713,27.8447,27.6499, 27.4483,27.3098,27.1686,27.0226,26.8743 ,26.723,26.5618,26.313,26.1406,25.8766, 25.6903,25.5007,25.3073,25.114,24.9121, 24.7021,24.487,24.2668,24.0381,23.8051, 23.5675,23.3206,22.9362,22.6692,22.3855 ,21.9433,21.6375,21.1593,20.8269, 20.4848,20.137,19.7724,19.3922,18.985, 18.5811,17.9578,17.475,16.9928,16.2372, 15.7126,15.1557,14.5761,16.4321)
ORBIT_NUMBER = 2430
ORBITAL_ECCENTRICITY = 0.572
ORBITAL_INCLINATION = 86.62
ORBITAL_SEMIMAJOR_AXIS = 8538.84
PERIAPSIS_ALTITUDE = 273.89
PERIAPSIS_ARGUMENT_ANGLE = 291.11
PERIAPSIS_TIME = 2005-12-04T03:06:57.000Z
SPACECRAFT_ORIENTATION = (0.0,-1.0,0.0)
^MEX_ORIENTATION_DESC = "MEX_ORIENTATION_DESC.TXT"
SPACECRAFT_POINTING_MODE = ACROSSTRACK
^MEX_POINTING_DESC = "MEX_POINTING_DESC.TXT"
RIGHT_ASCENSION = -1e+32
DECLINATION = -1e+32
OFFSET_ANGLE = -0.458
SPACECRAFT_SOLAR_DISTANCE = 2.23636e+08
TARGET_NAME = MARS
/* CAMERA DATA ELEMENTS */
DETECTOR_TEMPERATURE = 18.3705
FOCAL_PLANE_TEMPERATURE = 7.9716
INST_CMPRS_NAME = "DISCRETE COSINE TRANSFORMATION (DCT)"
INST_CMPRS_RATIO = 34.101
INST_CMPRS_QUALITY = 0
INST_CMPRS_QUANTZ_TBL_ID = 0
INSTRUMENT_TEMPERATURE = 11.0301
LENS_TEMPERATURE = 8.3794
MACROPIXEL_SIZE = 4
MISSING_FRAMES = 0
PIXEL_SUBSAMPLING_FLAG = N
SIGNAL_CHAIN_ID = 2
/* RADIOMETRIC DATA ELEMENTS */
BANDWIDTH = 48.0
CENTER_FILTER_WAVELENGTH = 748.0
RADIANCE_OFFSET = 0.706255
RADIANCE_SCALING_FACTOR = 0.00212142
REFLECTANCE_SCALING_FACTOR = 0.000242122
MEX:REFLECTANCE_OFFSET = 0.0806064
/* IMAGE OBJECT DEFINITIONS */
OBJECT = IMAGE
  INTERCHANGE_FORMAT = BINARY
  LINES = 9889
  LINE_SAMPLES = 3610
  SAMPLE_TYPE = UNSIGNED_INTEGER
  SAMPLE_BITS = 8
  BANDS = 1
  BAND_STORAGE_TYPE = BAND_SEQUENTIAL
  MAXIMUM = 255
  MEAN = 137.067
  MINIMUM = 1
  STANDARD_DEVIATION = 29.6539
END_OBJECT = IMAGE
/* MAP OBJECT DEFINITIONS */
OBJECT = IMAGE_MAP_PROJECTION
  ^DATA_SET_MAP_PROJECTION_CATALOG= "DSMAP.CAT"
  A_AXIS_RADIUS = 3396.0
  B_AXIS_RADIUS = 3396.0
  C_AXIS_RADIUS = 3396.0
  CENTER_LATITUDE = 0.0
  CENTER_LONGITUDE = 26.0
  COORDINATE_SYSTEM_NAME = PLANETOGRAPHIC
  COORDINATE_SYSTEM_TYPE = "BODY-FIXED ROTATING"
  EASTERNMOST_LONGITUDE = 31.7644
  FIRST_STANDARD_PARALLEL = "N/A"
  LINE_FIRST_PIXEL = 1
  LINE_LAST_PIXEL = 9889
  LINE_PROJECTION_OFFSET = -88275.875
  MAP_PROJECTION_ROTATION = 0.0
  MAP_PROJECTION_TYPE = SINUSOIDAL
  MAP_RESOLUTION = 1185.42760773333
  MAP_SCALE = 0.05
  MAXIMUM_LATITUDE = -74.4876
  MINIMUM_LATITUDE = -82.71680000000001
  POSITIVE_LONGITUDE_DIRECTION = EAST
  REFERENCE_LATITUDE = "N/A"
  REFERENCE_LONGITUDE = "N/A"
  SAMPLE_FIRST_PIXEL = 1
  SAMPLE_LAST_PIXEL = 3610
  SAMPLE_PROJECTION_OFFSET = 1864.625
  SECOND_STANDARD_PARALLEL = "N/A"
  WESTERNMOST_LONGITUDE = 14.5761
END_OBJECT = IMAGE_MAP_PROJECTION
/* The JPEG2000 image data file associated with this label. */
OBJECT = COMPRESSED_FILE
  FILE_NAME = "H2430_0000_RE3.JP2"
  RECORD_TYPE = UNDEFINED
  FILE_RECORDS = UNK
  ENCODING_TYPE = "JP2"
  INTERCHANGE_FORMAT = BINARY
  UNCOMPRESSED_FILE_NAME = "H2430_0000_RE3.IMG"
  REQUIRED_STORAGE_BYTES = "35720950"
  ^DESCRIPTION = "JP2INFO.TXT"
END_OBJECT = COMPRESSED_FILE
END
