PDS_VERSION_ID = PDS3
/* FILE DATA ELEMENTS */
RECORD_TYPE = STREAM
/* POINTERS TO DATA OBJECTS */
^COMPRESSED_FILE = "H2431_0000_S13.JP2"
/* IDENTIFICATION DATA ELEMENTS */
DATA_SET_ID = "MEX-M-HRSC-5-REFDR-MAPPROJECTED-V3.0"
DATA_SET_NAME = "MARS EXPRESS HRSC MAP PROJECTED REFDR V3.0"
DETECTOR_ID = MEX_HRSC_S1
EVENT_TYPE = "MARS-REGIONAL-MAPPING-Im-Fl-Pf"
INSTRUMENT_HOST_ID = MEX
INSTRUMENT_HOST_NAME = "MARS EXPRESS"
INSTRUMENT_ID = HRSC
INSTRUMENT_NAME = "HIGH RESOLUTION STEREO CAMERA"
MISSION_NAME = "MARS EXPRESS"
MISSION_PHASE_NAME = ME_Phase_1
PROCESSING_LEVEL_ID = 3
PRODUCT_CREATION_TIME = 2016-04-06T10:39:59.000Z
PRODUCT_ID = "H2431_0000_S13.JP2"
RELEASE_ID = 0030
REVISION_ID = 0000
/* QUALITY DATA ELEMENTS */
DATA_QUALITY_ID = 1
DATA_QUALITY_DESC = "Data calculated based on original SPICE kernels"
/* TIME DATA ELEMENTS */
SPACECRAFT_CLOCK_START_COUNT = "1/0081769897.57315"
SPACECRAFT_CLOCK_STOP_COUNT = "1/0081770312.46027"
START_TIME = 2005-12-04T09:51:44.754Z
STOP_TIME = 2005-12-04T09:57:07.751Z
/* ORBITAL DATA ELEMENTS */
ASCENDING_NODE_LONGITUDE = 177.23
MAXIMUM_RESOLUTION = 23.8
FOOTPRINT_POINT_LATITUDE = (-60.1487,-60.1574,-60.1631,-59.9011, -59.5304,-59.1593,-58.6035,-58.0462, -57.6806,-57.3111,-56.9401,-56.5615, -55.9814,-55.4057,-55.0211,-54.6348, -54.0408,-53.6414,-53.2387,-52.6412, -52.2463,-51.828,-51.4155,-50.7982, -50.3787,-49.9515,-49.3171,-48.6648, -48.2252,-47.7857,-47.1225,-46.6821, -46.2454,-45.8074,-45.3674,-44.9302, -44.4202,-43.6405,-43.1185,-42.5997, -42.0819,-41.5652,-41.0489,-40.5321, -40.0035,-39.4737,-39.2032,-38.933, -38.6629,-38.3872,-38.3692,-38.3775, -38.3796,-38.6573,-39.197,-39.7329, -40.2579,-41.0358,-41.5493,-42.0715, -42.845,-43.365,-43.8832,-44.4026, -44.9191,-45.3544,-45.7919,-46.4487, -46.8868,-47.3273,-47.7658,-48.2067, -48.6468,-49.076,-49.7146,-50.1437, -50.5668,-50.9753,-51.3849,-51.7958, -52.2106,-52.6164,-53.0172,-53.4151, -53.8142,-54.2054,-54.7936,-55.1838, -55.563,-55.9526,-56.5237,-56.9057, -57.2744,-57.8281,-58.1961,-58.5665, -58.9369,-59.3061,-59.6757,-60.1487)
FOOTPRINT_POINT_LONGITUDE = (295.937,296.526,297.126,297.717, 297.758,297.797,297.853,297.909,297.937 ,297.969,298.002,298.036,298.088, 298.132,298.161,298.192,298.243,298.272 ,298.303,298.342,298.362,298.394, 298.419,298.453,298.48,298.505,298.534, 298.573,298.595,298.617,298.652,298.674 ,298.692,298.711,298.732,298.75,298.768 ,298.798,298.819,298.838,298.856, 298.873,298.889,298.907,298.923,298.939 ,298.947,298.955,298.962,298.97,298.213 ,297.708,297.037,297.036,297.031, 297.026,297.02,297.009,297.0,296.991, 296.975,296.962,296.949,296.934,296.918 ,296.904,296.889,296.865,296.847, 296.828,296.809,296.788,296.766,296.744 ,296.708,296.683,296.657,296.631, 296.604,296.576,296.546,296.514,296.483 ,296.45,296.416,296.382,296.327,296.288 ,296.251,296.209,296.148,296.103,296.06 ,295.992,295.945,295.895,295.844, 295.791,295.736,295.937)
ORBIT_NUMBER = 2431
ORBITAL_ECCENTRICITY = 0.572
ORBITAL_INCLINATION = 86.62
ORBITAL_SEMIMAJOR_AXIS = 8536.53
PERIAPSIS_ALTITUDE = 273.88
PERIAPSIS_ARGUMENT_ANGLE = 290.95
PERIAPSIS_TIME = 2005-12-04T09:49:57.000Z
SPACECRAFT_ORIENTATION = (0.0,-1.0,0.0)
^MEX_ORIENTATION_DESC = "MEX_ORIENTATION_DESC.TXT"
SPACECRAFT_POINTING_MODE = ACROSSTRACK
^MEX_POINTING_DESC = "MEX_POINTING_DESC.TXT"
RIGHT_ASCENSION = -1e+32
DECLINATION = -1e+32
OFFSET_ANGLE = -0.61
SPACECRAFT_SOLAR_DISTANCE = 2.23691e+08
TARGET_NAME = MARS
/* CAMERA DATA ELEMENTS */
DETECTOR_TEMPERATURE = 17.5549
FOCAL_PLANE_TEMPERATURE = 7.9716
INST_CMPRS_NAME = "DISCRETE COSINE TRANSFORMATION (DCT)"
INST_CMPRS_RATIO = 9.80035
INST_CMPRS_QUALITY = 0
INST_CMPRS_QUANTZ_TBL_ID = 0
INSTRUMENT_TEMPERATURE = 11.234
LENS_TEMPERATURE = 8.5833
MACROPIXEL_SIZE = 2
MISSING_FRAMES = 0
PIXEL_SUBSAMPLING_FLAG = N
SIGNAL_CHAIN_ID = 1
/* RADIOMETRIC DATA ELEMENTS */
BANDWIDTH = 180.0
CENTER_FILTER_WAVELENGTH = 677.0
RADIANCE_OFFSET = 3.94424
RADIANCE_SCALING_FACTOR = 0.0131761
REFLECTANCE_SCALING_FACTOR = 0.000343975
MEX:REFLECTANCE_OFFSET = 0.102968
/* IMAGE OBJECT DEFINITIONS */
OBJECT = IMAGE
  INTERCHANGE_FORMAT = BINARY
  LINES = 51533
  LINE_SAMPLES = 4805
  SAMPLE_TYPE = UNSIGNED_INTEGER
  SAMPLE_BITS = 8
  BANDS = 1
  BAND_STORAGE_TYPE = BAND_SEQUENTIAL
  MAXIMUM = 255
  MEAN = 151.633
  MINIMUM = 1
  STANDARD_DEVIATION = 22.9226
END_OBJECT = IMAGE
/* MAP OBJECT DEFINITIONS */
OBJECT = IMAGE_MAP_PROJECTION
  ^DATA_SET_MAP_PROJECTION_CATALOG= "DSMAP.CAT"
  A_AXIS_RADIUS = 3396.0
  B_AXIS_RADIUS = 3396.0
  C_AXIS_RADIUS = 3396.0
  CENTER_LATITUDE = 0.0
  CENTER_LONGITUDE = 298.0
  COORDINATE_SYSTEM_NAME = PLANETOGRAPHIC
  COORDINATE_SYSTEM_TYPE = "BODY-FIXED ROTATING"
  EASTERNMOST_LONGITUDE = 298.97
  FIRST_STANDARD_PARALLEL = "N/A"
  LINE_FIRST_PIXEL = 1
  LINE_LAST_PIXEL = 51533
  LINE_PROJECTION_OFFSET = -90950.25
  MAP_PROJECTION_ROTATION = 0.0
  MAP_PROJECTION_TYPE = SINUSOIDAL
  MAP_RESOLUTION = 2370.85521546667
  MAP_SCALE = 0.025
  MAXIMUM_LATITUDE = -38.3692
  MINIMUM_LATITUDE = -60.1631
  POSITIVE_LONGITUDE_DIRECTION = EAST
  REFERENCE_LATITUDE = "N/A"
  REFERENCE_LONGITUDE = "N/A"
  SAMPLE_FIRST_PIXEL = 1
  SAMPLE_LAST_PIXEL = 4805
  SAMPLE_PROJECTION_OFFSET = 2787.75
  SECOND_STANDARD_PARALLEL = "N/A"
  WESTERNMOST_LONGITUDE = 295.736
END_OBJECT = IMAGE_MAP_PROJECTION
/* The JPEG2000 image data file associated with this label. */
OBJECT = COMPRESSED_FILE
  FILE_NAME = "H2431_0000_S13.JP2"
  RECORD_TYPE = UNDEFINED
  FILE_RECORDS = UNK
  ENCODING_TYPE = "JP2"
  INTERCHANGE_FORMAT = BINARY
  UNCOMPRESSED_FILE_NAME = "H2431_0000_S13.IMG"
  REQUIRED_STORAGE_BYTES = "247640090"
  ^DESCRIPTION = "JP2INFO.TXT"
END_OBJECT = COMPRESSED_FILE
END
