PDS_VERSION_ID = PDS3
/* FILE DATA ELEMENTS */
RECORD_TYPE = STREAM
/* POINTERS TO DATA OBJECTS */
^COMPRESSED_FILE = "H2432_0000_IR3.JP2"
/* IDENTIFICATION DATA ELEMENTS */
DATA_SET_ID = "MEX-M-HRSC-5-REFDR-MAPPROJECTED-V3.0"
DATA_SET_NAME = "MARS EXPRESS HRSC MAP PROJECTED REFDR V3.0"
DETECTOR_ID = MEX_HRSC_IR
EVENT_TYPE = "MARS-REGIONAL-MAPPING-Gl-La"
INSTRUMENT_HOST_ID = MEX
INSTRUMENT_HOST_NAME = "MARS EXPRESS"
INSTRUMENT_ID = HRSC
INSTRUMENT_NAME = "HIGH RESOLUTION STEREO CAMERA"
MISSION_NAME = "MARS EXPRESS"
MISSION_PHASE_NAME = ME_Phase_1
PROCESSING_LEVEL_ID = 3
PRODUCT_CREATION_TIME = 2016-04-06T10:39:59.000Z
PRODUCT_ID = "H2432_0000_IR3.JP2"
RELEASE_ID = 0030
REVISION_ID = 0000
/* QUALITY DATA ELEMENTS */
DATA_QUALITY_ID = 1
DATA_QUALITY_DESC = "Data calculated based on original SPICE kernels"
/* TIME DATA ELEMENTS */
SPACECRAFT_CLOCK_START_COUNT = "1/0081793678.57166"
SPACECRAFT_CLOCK_STOP_COUNT = "1/0081793829.32433"
START_TIME = 2005-12-04T16:28:11.397Z
STOP_TIME = 2005-12-04T16:29:45.916Z
/* ORBITAL DATA ELEMENTS */
ASCENDING_NODE_LONGITUDE = 177.2
MAXIMUM_RESOLUTION = 101.1
FOOTPRINT_POINT_LATITUDE = (-84.4645,-84.5838,-84.7083,-84.8299, -84.9483,-85.0631,-85.195,-85.2035, -85.1053,-84.9561,-84.8554,-84.7536, -84.6508,-84.5472,-84.3902,-84.2846, -84.1782,-84.071,-83.9104,-83.8051, -83.6992,-83.5929,-83.4859,-83.3784, -83.2705,-83.1621,-83.0532,-82.9439, -82.8342,-82.7241,-82.6147,-82.5075, -82.4,-82.2921,-82.184,-82.0756, -81.9668,-81.8578,-81.7485,-81.6389, -81.529,-81.4189,-81.3085,-81.1426, -80.9275,-80.7653,-80.5497,-80.3328, -80.1163,-80.0073,-79.8982,-79.7468, -79.6954,-79.6511,-79.5816,-79.5035, -79.4522,-79.5552,-79.7636,-80.0225, -80.2797,-80.4845,-80.688,-80.8442, -80.9484,-81.0524,-81.1559,-81.2589, -81.3611,-81.4624,-81.564,-81.6656, -81.817,-81.917,-82.0164,-82.1153, -82.2168,-82.3179,-82.4184,-82.5181, -82.617,-82.7148,-82.8122,-82.9572, -83.0528,-83.1474,-83.2417,-83.3369, -83.4327,-83.5274,-83.6208,-83.7131, -83.8042,-83.8938,-83.9819,-84.1113, -84.1961,-84.2787,-84.3606,-84.4645)
FOOTPRINT_POINT_LONGITUDE = (156.961,158.096,159.359,160.682, 162.066,163.513,165.318,166.926,167.781 ,168.999,169.771,170.516,171.232, 171.923,172.91,173.538,174.143,174.729, 175.561,176.08,176.582,177.067,177.536, 177.992,178.432,178.859,179.273,179.674 ,180.063,180.441,180.804,181.149, 181.483,181.809,182.126,182.434,182.733 ,183.026,183.31,183.588,183.858,184.121 ,184.378,184.751,185.214,185.549, 185.973,186.38,186.765,186.953,187.137, 187.165,186.272,185.543,184.459,183.336 ,182.629,181.531,181.034,180.383, 179.698,179.124,178.524,178.043,177.711 ,177.372,177.024,176.668,176.305, 175.932,175.551,175.16,174.555,174.14, 173.715,173.279,172.817,172.342,171.855 ,171.355,170.842,170.316,169.775, 168.936,168.358,167.764,167.152,166.515 ,165.847,165.159,164.452,163.725, 162.976,162.206,161.415,160.186,159.337 ,158.466,157.567,156.961)
ORBIT_NUMBER = 2432
ORBITAL_ECCENTRICITY = 0.572
ORBITAL_INCLINATION = 86.63
ORBITAL_SEMIMAJOR_AXIS = 8536.32
PERIAPSIS_ALTITUDE = 273.6
PERIAPSIS_ARGUMENT_ANGLE = 290.76
PERIAPSIS_TIME = 2005-12-04T16:32:51.000Z
SPACECRAFT_ORIENTATION = (0.0,-1.0,0.0)
^MEX_ORIENTATION_DESC = "MEX_ORIENTATION_DESC.TXT"
SPACECRAFT_POINTING_MODE = ACROSSTRACK
^MEX_POINTING_DESC = "MEX_POINTING_DESC.TXT"
RIGHT_ASCENSION = -1e+32
DECLINATION = -1e+32
OFFSET_ANGLE = 0.15
SPACECRAFT_SOLAR_DISTANCE = 2.23745e+08
TARGET_NAME = MARS
/* CAMERA DATA ELEMENTS */
DETECTOR_TEMPERATURE = 17.5549
FOCAL_PLANE_TEMPERATURE = 8.5833
INST_CMPRS_NAME = "DISCRETE COSINE TRANSFORMATION (DCT)"
INST_CMPRS_RATIO = 34.5534
INST_CMPRS_QUALITY = 0
INST_CMPRS_QUANTZ_TBL_ID = 0
INSTRUMENT_TEMPERATURE = 11.234
LENS_TEMPERATURE = 9.3989
MACROPIXEL_SIZE = 8
MISSING_FRAMES = 0
PIXEL_SUBSAMPLING_FLAG = N
SIGNAL_CHAIN_ID = 2
/* RADIOMETRIC DATA ELEMENTS */
BANDWIDTH = 81.0
CENTER_FILTER_WAVELENGTH = 955.5
RADIANCE_OFFSET = 0.530267
RADIANCE_SCALING_FACTOR = 0.00168339
REFLECTANCE_SCALING_FACTOR = 0.000181809
MEX:REFLECTANCE_OFFSET = 0.0572699
/* IMAGE OBJECT DEFINITIONS */
OBJECT = IMAGE
  INTERCHANGE_FORMAT = BINARY
  LINES = 3413
  LINE_SAMPLES = 2195
  SAMPLE_TYPE = UNSIGNED_INTEGER
  SAMPLE_BITS = 8
  BANDS = 1
  BAND_STORAGE_TYPE = BAND_SEQUENTIAL
  MAXIMUM = 255
  MEAN = 113.321
  MINIMUM = 1
  STANDARD_DEVIATION = 40.5598
END_OBJECT = IMAGE
/* MAP OBJECT DEFINITIONS */
OBJECT = IMAGE_MAP_PROJECTION
  ^DATA_SET_MAP_PROJECTION_CATALOG= "DSMAP.CAT"
  A_AXIS_RADIUS = 3396.0
  B_AXIS_RADIUS = 3396.0
  C_AXIS_RADIUS = 3396.0
  CENTER_LATITUDE = 0.0
  CENTER_LONGITUDE = 177.0
  COORDINATE_SYSTEM_NAME = PLANETOGRAPHIC
  COORDINATE_SYSTEM_TYPE = "BODY-FIXED ROTATING"
  EASTERNMOST_LONGITUDE = 187.165
  FIRST_STANDARD_PARALLEL = "N/A"
  LINE_FIRST_PIXEL = 1
  LINE_LAST_PIXEL = 3413
  LINE_PROJECTION_OFFSET = -47063.1875
  MAP_PROJECTION_ROTATION = 0.0
  MAP_PROJECTION_TYPE = SINUSOIDAL
  MAP_RESOLUTION = 592.713803866667
  MAP_SCALE = 0.1
  MAXIMUM_LATITUDE = -79.4522
  MINIMUM_LATITUDE = -85.20350000000001
  POSITIVE_LONGITUDE_DIRECTION = EAST
  REFERENCE_LATITUDE = "N/A"
  REFERENCE_LONGITUDE = "N/A"
  SAMPLE_FIRST_PIXEL = 1
  SAMPLE_LAST_PIXEL = 2195
  SAMPLE_PROJECTION_OFFSET = 1106.3125
  SECOND_STANDARD_PARALLEL = "N/A"
  WESTERNMOST_LONGITUDE = 156.961
END_OBJECT = IMAGE_MAP_PROJECTION
/* The JPEG2000 image data file associated with this label. */
OBJECT = COMPRESSED_FILE
  FILE_NAME = "H2432_0000_IR3.JP2"
  RECORD_TYPE = UNDEFINED
  FILE_RECORDS = UNK
  ENCODING_TYPE = "JP2"
  INTERCHANGE_FORMAT = BINARY
  UNCOMPRESSED_FILE_NAME = "H2432_0000_IR3.IMG"
  REQUIRED_STORAGE_BYTES = "7513485"
  ^DESCRIPTION = "JP2INFO.TXT"
END_OBJECT = COMPRESSED_FILE
END
