PDS_VERSION_ID = PDS3
/* FILE DATA ELEMENTS */
RECORD_TYPE = STREAM
/* POINTERS TO DATA OBJECTS */
^COMPRESSED_FILE = "H2432_0000_S23.JP2"
/* IDENTIFICATION DATA ELEMENTS */
DATA_SET_ID = "MEX-M-HRSC-5-REFDR-MAPPROJECTED-V3.0"
DATA_SET_NAME = "MARS EXPRESS HRSC MAP PROJECTED REFDR V3.0"
DETECTOR_ID = MEX_HRSC_S2
EVENT_TYPE = "MARS-REGIONAL-MAPPING-Gl-La"
INSTRUMENT_HOST_ID = MEX
INSTRUMENT_HOST_NAME = "MARS EXPRESS"
INSTRUMENT_ID = HRSC
INSTRUMENT_NAME = "HIGH RESOLUTION STEREO CAMERA"
MISSION_NAME = "MARS EXPRESS"
MISSION_PHASE_NAME = ME_Phase_1
PROCESSING_LEVEL_ID = 3
PRODUCT_CREATION_TIME = 2016-04-06T10:39:59.000Z
PRODUCT_ID = "H2432_0000_S23.JP2"
RELEASE_ID = 0030
REVISION_ID = 0000
/* QUALITY DATA ELEMENTS */
DATA_QUALITY_ID = 1
DATA_QUALITY_DESC = "Data calculated based on original SPICE kernels"
/* TIME DATA ELEMENTS */
SPACECRAFT_CLOCK_START_COUNT = "1/0081793678.57166"
SPACECRAFT_CLOCK_STOP_COUNT = "1/0081793829.32433"
START_TIME = 2005-12-04T16:29:06.514Z
STOP_TIME = 2005-12-04T16:30:34.386Z
/* ORBITAL DATA ELEMENTS */
ASCENDING_NODE_LONGITUDE = 177.2
MAXIMUM_RESOLUTION = 24.5
FOOTPRINT_POINT_LATITUDE = (-84.3452,-84.4815,-84.5933,-84.7022, -84.808,-84.9106,-84.9855,-85.1234, -85.0223,-84.9199,-84.8165,-84.7122, -84.6072,-84.5012,-84.3943,-84.2324, -84.125,-84.0195,-83.8602,-83.6995, -83.5917,-83.4835,-83.3204,-83.1563, -83.0465,-82.9362,-82.8256,-82.7147, -82.6034,-82.4918,-82.3805,-82.2723, -82.1638,-82.0006,-81.837,-81.673, -81.5633,-81.4535,-81.3435,-81.2333, -81.0676,-80.9577,-80.8477,-80.7367, -80.6253,-80.5142,-80.403,-80.2914, -80.1804,-80.0723,-79.8567,-79.6719, -79.6387,-79.5958,-79.5324,-79.4661, -79.4159,-79.5222,-79.781,-79.9383, -80.0451,-80.1518,-80.258,-80.3638, -80.4695,-80.5748,-80.6799,-80.7847, -80.8893,-81.0454,-81.1491,-81.2525, -81.3556,-81.4589,-81.5616,-81.6631, -81.7643,-81.8654,-82.0192,-82.1229, -82.2774,-82.3798,-82.4815,-82.5828, -82.6836,-82.7842,-82.8835,-82.9821, -83.0799,-83.2253,-83.3681,-83.4623, -83.556,-83.6519,-83.7468,-83.8406, -83.9334,-84.0708,-84.1607,-84.3452)
FOOTPRINT_POINT_LONGITUDE = (158.899,160.359,161.64,162.971,164.35, 165.782,166.893,167.213,168.075,168.904 ,169.699,170.463,171.196,171.902, 172.581,173.552,174.162,174.737,175.561 ,176.344,176.844,177.327,178.023, 178.685,179.108,179.519,179.917,180.302 ,180.676,181.039,181.39,181.719,182.04, 182.505,182.951,183.379,183.655,183.924 ,184.186,184.441,184.813,185.052, 185.285,185.514,185.737,185.954,186.167 ,186.374,186.576,186.767,187.136, 187.158,186.53,185.749,184.665,183.587, 182.826,181.752,181.145,180.759,180.489 ,180.212,179.931,179.643,179.349, 179.048,178.74,178.425,178.102,177.604, 177.262,176.912,176.552,176.179,175.799 ,175.417,175.023,174.616,173.974, 173.525,172.827,172.346,171.852,171.343 ,170.818,170.273,169.72,169.152,168.566 ,167.656,166.716,166.066,165.391, 164.673,163.931,163.166,162.375,161.132 ,160.27,158.899)
ORBIT_NUMBER = 2432
ORBITAL_ECCENTRICITY = 0.572
ORBITAL_INCLINATION = 86.63
ORBITAL_SEMIMAJOR_AXIS = 8536.32
PERIAPSIS_ALTITUDE = 273.6
PERIAPSIS_ARGUMENT_ANGLE = 290.76
PERIAPSIS_TIME = 2005-12-04T16:32:51.000Z
SPACECRAFT_ORIENTATION = (0.0,-1.0,0.0)
^MEX_ORIENTATION_DESC = "MEX_ORIENTATION_DESC.TXT"
SPACECRAFT_POINTING_MODE = ACROSSTRACK
^MEX_POINTING_DESC = "MEX_POINTING_DESC.TXT"
RIGHT_ASCENSION = -1e+32
DECLINATION = -1e+32
OFFSET_ANGLE = 0.15
SPACECRAFT_SOLAR_DISTANCE = 2.23745e+08
TARGET_NAME = MARS
/* CAMERA DATA ELEMENTS */
DETECTOR_TEMPERATURE = 18.5744
FOCAL_PLANE_TEMPERATURE = 8.5833
INST_CMPRS_NAME = "DISCRETE COSINE TRANSFORMATION (DCT)"
INST_CMPRS_RATIO = 13.5216
INST_CMPRS_QUALITY = 0
INST_CMPRS_QUANTZ_TBL_ID = 0
INSTRUMENT_TEMPERATURE = 11.234
LENS_TEMPERATURE = 9.3989
MACROPIXEL_SIZE = 2
MISSING_FRAMES = 0
PIXEL_SUBSAMPLING_FLAG = N
SIGNAL_CHAIN_ID = 1
/* RADIOMETRIC DATA ELEMENTS */
BANDWIDTH = 178.0
CENTER_FILTER_WAVELENGTH = 679.0
RADIANCE_OFFSET = 2.0761
RADIANCE_SCALING_FACTOR = 0.00712387
REFLECTANCE_SCALING_FACTOR = 0.000188864
MEX:REFLECTANCE_OFFSET = 0.0550404
/* IMAGE OBJECT DEFINITIONS */
OBJECT = IMAGE
  INTERCHANGE_FORMAT = BINARY
  LINES = 13651
  LINE_SAMPLES = 8777
  SAMPLE_TYPE = UNSIGNED_INTEGER
  SAMPLE_BITS = 8
  BANDS = 1
  BAND_STORAGE_TYPE = BAND_SEQUENTIAL
  MAXIMUM = 255
  MEAN = 110.972
  MINIMUM = 1
  STANDARD_DEVIATION = 42.7166
END_OBJECT = IMAGE
/* MAP OBJECT DEFINITIONS */
OBJECT = IMAGE_MAP_PROJECTION
  ^DATA_SET_MAP_PROJECTION_CATALOG= "DSMAP.CAT"
  A_AXIS_RADIUS = 3396.0
  B_AXIS_RADIUS = 3396.0
  C_AXIS_RADIUS = 3396.0
  CENTER_LATITUDE = 0.0
  CENTER_LONGITUDE = 177.0
  COORDINATE_SYSTEM_NAME = PLANETOGRAPHIC
  COORDINATE_SYSTEM_TYPE = "BODY-FIXED ROTATING"
  EASTERNMOST_LONGITUDE = 187.158
  FIRST_STANDARD_PARALLEL = "N/A"
  LINE_FIRST_PIXEL = 1
  LINE_LAST_PIXEL = 13651
  LINE_PROJECTION_OFFSET = -188251.25
  MAP_PROJECTION_ROTATION = 0.0
  MAP_PROJECTION_TYPE = SINUSOIDAL
  MAP_RESOLUTION = 2370.85521546667
  MAP_SCALE = 0.025
  MAXIMUM_LATITUDE = -79.41589999999999
  MINIMUM_LATITUDE = -85.1234
  POSITIVE_LONGITUDE_DIRECTION = EAST
  REFERENCE_LATITUDE = "N/A"
  REFERENCE_LONGITUDE = "N/A"
  SAMPLE_FIRST_PIXEL = 1
  SAMPLE_LAST_PIXEL = 8777
  SAMPLE_PROJECTION_OFFSET = 4426.75
  SECOND_STANDARD_PARALLEL = "N/A"
  WESTERNMOST_LONGITUDE = 158.899
END_OBJECT = IMAGE_MAP_PROJECTION
/* The JPEG2000 image data file associated with this label. */
OBJECT = COMPRESSED_FILE
  FILE_NAME = "H2432_0000_S23.JP2"
  RECORD_TYPE = UNDEFINED
  FILE_RECORDS = UNK
  ENCODING_TYPE = "JP2"
  INTERCHANGE_FORMAT = BINARY
  UNCOMPRESSED_FILE_NAME = "H2432_0000_S23.IMG"
  REQUIRED_STORAGE_BYTES = "119849935"
  ^DESCRIPTION = "JP2INFO.TXT"
END_OBJECT = COMPRESSED_FILE
END
