PDS_VERSION_ID = PDS3
/* FILE DATA ELEMENTS */
RECORD_TYPE = STREAM
/* POINTERS TO DATA OBJECTS */
^COMPRESSED_FILE = "H2432_0001_BL3.JP2"
/* IDENTIFICATION DATA ELEMENTS */
DATA_SET_ID = "MEX-M-HRSC-5-REFDR-MAPPROJECTED-V3.0"
DATA_SET_NAME = "MARS EXPRESS HRSC MAP PROJECTED REFDR V3.0"
DETECTOR_ID = MEX_HRSC_BLUE
EVENT_TYPE = "MARS-REGIONAL-MAPPING-Te-Im"
INSTRUMENT_HOST_ID = MEX
INSTRUMENT_HOST_NAME = "MARS EXPRESS"
INSTRUMENT_ID = HRSC
INSTRUMENT_NAME = "HIGH RESOLUTION STEREO CAMERA"
MISSION_NAME = "MARS EXPRESS"
MISSION_PHASE_NAME = ME_Phase_1
PROCESSING_LEVEL_ID = 3
PRODUCT_CREATION_TIME = 2016-04-06T10:39:59.000Z
PRODUCT_ID = "H2432_0001_BL3.JP2"
RELEASE_ID = 0030
REVISION_ID = 0000
/* QUALITY DATA ELEMENTS */
DATA_QUALITY_ID = 1
DATA_QUALITY_DESC = "Data calculated based on original SPICE kernels"
/* TIME DATA ELEMENTS */
SPACECRAFT_CLOCK_START_COUNT = "1/0081793961.57327"
SPACECRAFT_CLOCK_STOP_COUNT = "1/0081794288.31749"
START_TIME = 2005-12-04T16:33:16.682Z
STOP_TIME = 2005-12-04T16:37:45.912Z
/* ORBITAL DATA ELEMENTS */
ASCENDING_NODE_LONGITUDE = 177.2
MAXIMUM_RESOLUTION = 43.5
FOOTPRINT_POINT_LATITUDE = (-67.535,-67.5696,-67.4504,-67.1296, -66.8026,-66.4671,-65.9661,-65.6321, -65.1314,-64.7975,-64.464,-64.1303, -63.7971,-63.4635,-62.9638,-62.6306, -62.2977,-61.9649,-61.6329,-61.3003, -60.9581,-60.6131,-60.2685,-59.9239, -59.5809,-59.2368,-58.7198,-58.3763, -58.0219,-57.6664,-57.3112,-56.9562, -56.6015,-56.2472,-55.8863,-55.5196, -54.9714,-54.6059,-54.242,-53.8647, -53.4872,-53.1113,-52.7354,-52.3525, -51.9651,-51.5781,-51.1916,-50.5961, -50.1985,-49.9294,-49.9183,-49.8959, -49.8767,-50.2726,-50.6695,-51.0665, -51.6451,-52.031,-52.6083,-52.9835, -53.359,-53.7349,-54.1111,-54.4762, -54.8404,-55.2049,-55.5697,-56.1152, -56.4681,-56.8218,-57.1757,-57.5303, -57.8847,-58.2395,-58.5818,-58.9245, -59.2668,-59.6098,-59.9532,-60.2964, -60.64,-61.1546,-61.4852,-61.8165, -62.1476,-62.4789,-62.8111,-63.1419, -63.4738,-63.8055,-64.1371,-64.6348, -64.9672,-65.4656,-65.7975,-66.2945, -66.6262,-67.1138,-67.4322,-67.535)
FOOTPRINT_POINT_LONGITUDE = (194.862,195.552,196.146,196.244, 196.345,196.438,196.577,196.667,196.796 ,196.879,196.96,197.038,197.114,197.188 ,197.295,197.364,197.431,197.496, 197.561,197.622,197.684,197.745,197.806 ,197.864,197.923,197.978,198.055, 198.107,198.158,198.21,198.26,198.309, 198.356,198.403,198.449,198.494,198.562 ,198.605,198.649,198.689,198.73,198.771 ,198.81,198.849,198.887,198.925,198.961 ,199.015,199.05,198.781,198.401,197.742 ,197.212,197.18,197.145,197.109,197.053 ,197.016,196.956,196.914,196.872, 196.829,196.785,196.74,196.695,196.648, 196.601,196.521,196.471,196.416,196.361 ,196.302,196.245,196.184,196.122, 196.058,195.996,195.928,195.858,195.788 ,195.715,195.6,195.525,195.445,195.364, 195.28,195.188,195.105,195.011,194.916, 194.82,194.668,194.558,194.389,194.275, 194.103,193.981,193.79,193.661,194.862)
ORBIT_NUMBER = 2432
ORBITAL_ECCENTRICITY = 0.572
ORBITAL_INCLINATION = 86.63
ORBITAL_SEMIMAJOR_AXIS = 8536.32
PERIAPSIS_ALTITUDE = 273.6
PERIAPSIS_ARGUMENT_ANGLE = 290.76
PERIAPSIS_TIME = 2005-12-04T16:32:51.000Z
SPACECRAFT_ORIENTATION = (0.0,-1.0,0.0)
^MEX_ORIENTATION_DESC = "MEX_ORIENTATION_DESC.TXT"
SPACECRAFT_POINTING_MODE = ACROSSTRACK
^MEX_POINTING_DESC = "MEX_POINTING_DESC.TXT"
RIGHT_ASCENSION = -1e+32
DECLINATION = -1e+32
OFFSET_ANGLE = 0.15
SPACECRAFT_SOLAR_DISTANCE = 2.23745e+08
TARGET_NAME = MARS
/* CAMERA DATA ELEMENTS */
DETECTOR_TEMPERATURE = 17.351
FOCAL_PLANE_TEMPERATURE = 8.5833
INST_CMPRS_NAME = "DISCRETE COSINE TRANSFORMATION (DCT)"
INST_CMPRS_RATIO = 7.8853
INST_CMPRS_QUALITY = 0
INST_CMPRS_QUANTZ_TBL_ID = 0
INSTRUMENT_TEMPERATURE = 12.4574
LENS_TEMPERATURE = 10.4184
MACROPIXEL_SIZE = 4
MISSING_FRAMES = 0
PIXEL_SUBSAMPLING_FLAG = N
SIGNAL_CHAIN_ID = 2
/* RADIOMETRIC DATA ELEMENTS */
BANDWIDTH = 76.0
CENTER_FILTER_WAVELENGTH = 444.0
RADIANCE_OFFSET = 0.61717
RADIANCE_SCALING_FACTOR = 0.00155589
REFLECTANCE_SCALING_FACTOR = 8.0028e-05
MEX:REFLECTANCE_OFFSET = 0.0317444
/* IMAGE OBJECT DEFINITIONS */
OBJECT = IMAGE
  INTERCHANGE_FORMAT = BINARY
  LINES = 21027
  LINE_SAMPLES = 3131
  SAMPLE_TYPE = UNSIGNED_INTEGER
  SAMPLE_BITS = 8
  BANDS = 1
  BAND_STORAGE_TYPE = BAND_SEQUENTIAL
  MAXIMUM = 255
  MEAN = 131.01
  MINIMUM = 1
  STANDARD_DEVIATION = 44.5416
END_OBJECT = IMAGE
/* MAP OBJECT DEFINITIONS */
OBJECT = IMAGE_MAP_PROJECTION
  ^DATA_SET_MAP_PROJECTION_CATALOG= "DSMAP.CAT"
  A_AXIS_RADIUS = 3396.0
  B_AXIS_RADIUS = 3396.0
  C_AXIS_RADIUS = 3396.0
  CENTER_LATITUDE = 0.0
  CENTER_LONGITUDE = 197.0
  COORDINATE_SYSTEM_NAME = PLANETOGRAPHIC
  COORDINATE_SYSTEM_TYPE = "BODY-FIXED ROTATING"
  EASTERNMOST_LONGITUDE = 199.05
  FIRST_STANDARD_PARALLEL = "N/A"
  LINE_FIRST_PIXEL = 1
  LINE_LAST_PIXEL = 21027
  LINE_PROJECTION_OFFSET = -59133.625
  MAP_PROJECTION_ROTATION = 0.0
  MAP_PROJECTION_TYPE = SINUSOIDAL
  MAP_RESOLUTION = 1185.42760773333
  MAP_SCALE = 0.05
  MAXIMUM_LATITUDE = -49.8767
  MINIMUM_LATITUDE = -67.56959999999999
  POSITIVE_LONGITUDE_DIRECTION = EAST
  REFERENCE_LATITUDE = "N/A"
  REFERENCE_LONGITUDE = "N/A"
  SAMPLE_FIRST_PIXEL = 1
  SAMPLE_LAST_PIXEL = 3131
  SAMPLE_PROJECTION_OFFSET = 1533.125
  SECOND_STANDARD_PARALLEL = "N/A"
  WESTERNMOST_LONGITUDE = 193.661
END_OBJECT = IMAGE_MAP_PROJECTION
/* The JPEG2000 image data file associated with this label. */
OBJECT = COMPRESSED_FILE
  FILE_NAME = "H2432_0001_BL3.JP2"
  RECORD_TYPE = UNDEFINED
  FILE_RECORDS = UNK
  ENCODING_TYPE = "JP2"
  INTERCHANGE_FORMAT = BINARY
  UNCOMPRESSED_FILE_NAME = "H2432_0001_BL3.IMG"
  REQUIRED_STORAGE_BYTES = "65860585"
  ^DESCRIPTION = "JP2INFO.TXT"
END_OBJECT = COMPRESSED_FILE
END
