PDS_VERSION_ID = PDS3
/* FILE DATA ELEMENTS */
RECORD_TYPE = STREAM
/* POINTERS TO DATA OBJECTS */
^COMPRESSED_FILE = "H2432_0001_GR3.JP2"
/* IDENTIFICATION DATA ELEMENTS */
DATA_SET_ID = "MEX-M-HRSC-5-REFDR-MAPPROJECTED-V3.0"
DATA_SET_NAME = "MARS EXPRESS HRSC MAP PROJECTED REFDR V3.0"
DETECTOR_ID = MEX_HRSC_GREEN
EVENT_TYPE = "MARS-REGIONAL-MAPPING-Te-Im"
INSTRUMENT_HOST_ID = MEX
INSTRUMENT_HOST_NAME = "MARS EXPRESS"
INSTRUMENT_ID = HRSC
INSTRUMENT_NAME = "HIGH RESOLUTION STEREO CAMERA"
MISSION_NAME = "MARS EXPRESS"
MISSION_PHASE_NAME = ME_Phase_1
PROCESSING_LEVEL_ID = 3
PRODUCT_CREATION_TIME = 2016-04-06T10:39:59.000Z
PRODUCT_ID = "H2432_0001_GR3.JP2"
RELEASE_ID = 0030
REVISION_ID = 0000
/* QUALITY DATA ELEMENTS */
DATA_QUALITY_ID = 1
DATA_QUALITY_DESC = "Data calculated based on original SPICE kernels"
/* TIME DATA ELEMENTS */
SPACECRAFT_CLOCK_START_COUNT = "1/0081793961.57327"
SPACECRAFT_CLOCK_STOP_COUNT = "1/0081794288.31749"
START_TIME = 2005-12-04T16:33:08.407Z
STOP_TIME = 2005-12-04T16:37:35.224Z
/* ORBITAL DATA ELEMENTS */
ASCENDING_NODE_LONGITUDE = 177.2
MAXIMUM_RESOLUTION = 43.4
FOOTPRINT_POINT_LATITUDE = (-67.5477,-67.5785,-67.6152,-67.6312, -67.3102,-66.9884,-66.5068,-66.1743, -65.8395,-65.5047,-65.0026,-64.6677, -64.1655,-63.6634,-63.3285,-62.9939, -62.6595,-62.3249,-61.8176,-61.3161, -60.9819,-60.6472,-60.2997,-59.9525, -59.6045,-59.2576,-58.7386,-58.3923, -58.0462,-57.698,-57.3388,-56.9798, -56.615,-56.2567,-55.8984,-55.5407, -54.9859,-54.4243,-54.0538,-53.685, -53.1148,-52.7333,-52.3523,-51.9714, -51.3829,-50.9906,-50.5988,-50.4013, -50.1992,-49.946,-49.93,-49.9175, -49.8982,-50.0882,-50.2901,-50.4884, -51.0754,-51.4669,-52.05,-52.4299, -52.8098,-53.1905,-53.57,-53.9387, -54.3076,-54.6832,-55.0532,-55.4232, -55.7789,-56.1365,-56.4943,-56.8578, -57.3943,-57.7496,-58.2674,-58.6125, -59.1308,-59.4764,-59.822,-60.1681, -60.6825,-61.0153,-61.3486,-61.8477, -62.3531,-62.6853,-63.1859,-63.6848, -64.0179,-64.5174,-64.8511,-65.1821, -65.5149,-65.8477,-66.1818,-66.5075, -66.8268,-67.1455,-67.4646,-67.5477)
FOOTPRINT_POINT_LONGITUDE = (194.218,194.759,195.45,196.09,196.189, 196.289,196.428,196.52,196.611,196.699, 196.826,196.909,197.027,197.141,197.215 ,197.286,197.354,197.422,197.52,197.615 ,197.675,197.734,197.795,197.853, 197.913,197.968,198.046,198.098,198.148 ,198.199,198.249,198.298,198.347, 198.393,198.439,198.483,198.551,198.616 ,198.66,198.699,198.76,198.799,198.838, 198.876,198.932,198.967,199.002,199.02, 199.037,198.788,198.311,197.97,197.507, 197.21,197.193,197.175,197.122,197.084, 197.028,196.988,196.946,196.903,196.86, 196.817,196.772,196.725,196.679,196.631 ,196.578,196.528,196.477,196.42,196.334 ,196.277,196.188,196.125,196.029, 195.962,195.892,195.822,195.712,195.638 ,195.563,195.444,195.319,195.229, 195.099,194.956,194.858,194.707,194.605 ,194.488,194.376,194.26,194.147,194.028 ,193.906,193.779,193.65,194.218)
ORBIT_NUMBER = 2432
ORBITAL_ECCENTRICITY = 0.572
ORBITAL_INCLINATION = 86.63
ORBITAL_SEMIMAJOR_AXIS = 8536.32
PERIAPSIS_ALTITUDE = 273.6
PERIAPSIS_ARGUMENT_ANGLE = 290.76
PERIAPSIS_TIME = 2005-12-04T16:32:51.000Z
SPACECRAFT_ORIENTATION = (0.0,-1.0,0.0)
^MEX_ORIENTATION_DESC = "MEX_ORIENTATION_DESC.TXT"
SPACECRAFT_POINTING_MODE = ACROSSTRACK
^MEX_POINTING_DESC = "MEX_POINTING_DESC.TXT"
RIGHT_ASCENSION = -1e+32
DECLINATION = -1e+32
OFFSET_ANGLE = 0.15
SPACECRAFT_SOLAR_DISTANCE = 2.23745e+08
TARGET_NAME = MARS
/* CAMERA DATA ELEMENTS */
DETECTOR_TEMPERATURE = 17.351
FOCAL_PLANE_TEMPERATURE = 8.5833
INST_CMPRS_NAME = "DISCRETE COSINE TRANSFORMATION (DCT)"
INST_CMPRS_RATIO = 19.6234
INST_CMPRS_QUALITY = 0
INST_CMPRS_QUANTZ_TBL_ID = 0
INSTRUMENT_TEMPERATURE = 12.4574
LENS_TEMPERATURE = 10.4184
MACROPIXEL_SIZE = 4
MISSING_FRAMES = 3
PIXEL_SUBSAMPLING_FLAG = N
SIGNAL_CHAIN_ID = 2
/* RADIOMETRIC DATA ELEMENTS */
BANDWIDTH = 88.0
CENTER_FILTER_WAVELENGTH = 538.0
RADIANCE_OFFSET = 1.32521
RADIANCE_SCALING_FACTOR = 0.00405612
REFLECTANCE_SCALING_FACTOR = 0.000174826
MEX:REFLECTANCE_OFFSET = 0.0571189
/* IMAGE OBJECT DEFINITIONS */
OBJECT = IMAGE
  INTERCHANGE_FORMAT = BINARY
  LINES = 21027
  LINE_SAMPLES = 3131
  SAMPLE_TYPE = UNSIGNED_INTEGER
  SAMPLE_BITS = 8
  BANDS = 1
  BAND_STORAGE_TYPE = BAND_SEQUENTIAL
  MAXIMUM = 255
  MEAN = 125.343
  MINIMUM = 1
  STANDARD_DEVIATION = 34.8421
END_OBJECT = IMAGE
/* MAP OBJECT DEFINITIONS */
OBJECT = IMAGE_MAP_PROJECTION
  ^DATA_SET_MAP_PROJECTION_CATALOG= "DSMAP.CAT"
  A_AXIS_RADIUS = 3396.0
  B_AXIS_RADIUS = 3396.0
  C_AXIS_RADIUS = 3396.0
  CENTER_LATITUDE = 0.0
  CENTER_LONGITUDE = 197.0
  COORDINATE_SYSTEM_NAME = PLANETOGRAPHIC
  COORDINATE_SYSTEM_TYPE = "BODY-FIXED ROTATING"
  EASTERNMOST_LONGITUDE = 199.037
  FIRST_STANDARD_PARALLEL = "N/A"
  LINE_FIRST_PIXEL = 1
  LINE_LAST_PIXEL = 21027
  LINE_PROJECTION_OFFSET = -59133.625
  MAP_PROJECTION_ROTATION = 0.0
  MAP_PROJECTION_TYPE = SINUSOIDAL
  MAP_RESOLUTION = 1185.42760773333
  MAP_SCALE = 0.05
  MAXIMUM_LATITUDE = -49.8982
  MINIMUM_LATITUDE = -67.63120000000001
  POSITIVE_LONGITUDE_DIRECTION = EAST
  REFERENCE_LATITUDE = "N/A"
  REFERENCE_LONGITUDE = "N/A"
  SAMPLE_FIRST_PIXEL = 1
  SAMPLE_LAST_PIXEL = 3131
  SAMPLE_PROJECTION_OFFSET = 1533.125
  SECOND_STANDARD_PARALLEL = "N/A"
  WESTERNMOST_LONGITUDE = 193.65
END_OBJECT = IMAGE_MAP_PROJECTION
/* The JPEG2000 image data file associated with this label. */
OBJECT = COMPRESSED_FILE
  FILE_NAME = "H2432_0001_GR3.JP2"
  RECORD_TYPE = UNDEFINED
  FILE_RECORDS = UNK
  ENCODING_TYPE = "JP2"
  INTERCHANGE_FORMAT = BINARY
  UNCOMPRESSED_FILE_NAME = "H2432_0001_GR3.IMG"
  REQUIRED_STORAGE_BYTES = "65860585"
  ^DESCRIPTION = "JP2INFO.TXT"
END_OBJECT = COMPRESSED_FILE
END
