PDS_VERSION_ID = PDS3
/* FILE DATA ELEMENTS */
RECORD_TYPE = STREAM
/* POINTERS TO DATA OBJECTS */
^COMPRESSED_FILE = "H2432_0001_S23.JP2"
/* IDENTIFICATION DATA ELEMENTS */
DATA_SET_ID = "MEX-M-HRSC-5-REFDR-MAPPROJECTED-V3.0"
DATA_SET_NAME = "MARS EXPRESS HRSC MAP PROJECTED REFDR V3.0"
DETECTOR_ID = MEX_HRSC_S2
EVENT_TYPE = "MARS-REGIONAL-MAPPING-Te-Im"
INSTRUMENT_HOST_ID = MEX
INSTRUMENT_HOST_NAME = "MARS EXPRESS"
INSTRUMENT_ID = HRSC
INSTRUMENT_NAME = "HIGH RESOLUTION STEREO CAMERA"
MISSION_NAME = "MARS EXPRESS"
MISSION_PHASE_NAME = ME_Phase_1
PROCESSING_LEVEL_ID = 3
PRODUCT_CREATION_TIME = 2016-04-06T10:39:59.000Z
PRODUCT_ID = "H2432_0001_S23.JP2"
RELEASE_ID = 0030
REVISION_ID = 0000
/* QUALITY DATA ELEMENTS */
DATA_QUALITY_ID = 1
DATA_QUALITY_DESC = "Data calculated based on original SPICE kernels"
/* TIME DATA ELEMENTS */
SPACECRAFT_CLOCK_START_COUNT = "1/0081793961.57327"
SPACECRAFT_CLOCK_STOP_COUNT = "1/0081794288.31749"
START_TIME = 2005-12-04T16:33:36.524Z
STOP_TIME = 2005-12-04T16:38:13.382Z
/* ORBITAL DATA ELEMENTS */
ASCENDING_NODE_LONGITUDE = 177.2
MAXIMUM_RESOLUTION = 23.2
FOOTPRINT_POINT_LATITUDE = (-67.4004,-67.4276,-67.4627,-67.6048, -67.2684,-66.9403,-66.6043,-66.0969, -65.7627,-65.4302,-65.095,-64.7616, -64.4293,-63.9319,-63.4322,-62.9352, -62.6029,-62.2591,-61.9155,-61.4005, -61.0586,-60.7178,-60.3768,-60.0375, -59.7028,-59.3507,-58.9919,-58.6404, -58.2885,-57.9378,-57.5912,-57.0519, -56.6922,-56.3329,-55.9754,-55.6127, -55.2486,-54.879,-54.5103,-54.1478, -53.765,-53.3868,-53.0121,-52.4372, -52.0522,-51.666,-51.281,-50.8949, -50.5114,-49.9391,-49.9217,-49.9098, -49.901,-49.895,-50.077,-50.458, -50.8464,-51.2235,-51.6074,-52.1814, -52.5693,-52.9505,-53.3267,-53.703, -54.0792,-54.4455,-54.8103,-55.1759, -55.5412,-55.9086,-56.2627,-56.7999, -57.1583,-57.5172,-57.8645,-58.3877, -58.7378,-59.2623,-59.6138,-59.9556, -60.2933,-60.6328,-60.9737,-61.3126, -61.654,-62.1671,-62.5088,-62.844, -63.1681,-63.5004,-63.8306,-64.1594, -64.6562,-64.994,-65.3272,-65.6588, -66.1499,-66.6473,-66.9802,-67.4004)
FOOTPRINT_POINT_LONGITUDE = (193.761,194.286,195.015,196.133, 196.237,196.34,196.438,196.579,196.669, 196.758,196.843,196.926,197.007,197.124 ,197.235,197.342,197.411,197.48,197.548 ,197.646,197.709,197.771,197.831,197.89 ,197.949,198.006,198.06,198.115,198.167 ,198.219,198.27,198.346,198.395,198.443 ,198.49,198.536,198.583,198.628,198.671 ,198.715,198.757,198.798,198.84,198.9, 198.94,198.978,199.016,199.052,199.087, 199.139,198.571,198.058,197.753,197.407 ,197.155,197.123,197.085,197.055, 197.019,196.966,196.925,196.883,196.842 ,196.8,196.757,196.713,196.668,196.622, 196.576,196.521,196.473,196.393,196.338 ,196.281,196.224,196.134,196.071, 195.974,195.906,195.837,195.769,195.697 ,195.622,195.547,195.467,195.343, 195.257,195.164,195.083,194.989,194.895 ,194.801,194.649,194.536,194.425, 194.313,194.147,193.965,193.836, 193.761)
ORBIT_NUMBER = 2432
ORBITAL_ECCENTRICITY = 0.572
ORBITAL_INCLINATION = 86.63
ORBITAL_SEMIMAJOR_AXIS = 8536.32
PERIAPSIS_ALTITUDE = 273.6
PERIAPSIS_ARGUMENT_ANGLE = 290.76
PERIAPSIS_TIME = 2005-12-04T16:32:51.000Z
SPACECRAFT_ORIENTATION = (0.0,-1.0,0.0)
^MEX_ORIENTATION_DESC = "MEX_ORIENTATION_DESC.TXT"
SPACECRAFT_POINTING_MODE = ACROSSTRACK
^MEX_POINTING_DESC = "MEX_POINTING_DESC.TXT"
RIGHT_ASCENSION = -1e+32
DECLINATION = -1e+32
OFFSET_ANGLE = 0.15
SPACECRAFT_SOLAR_DISTANCE = 2.23745e+08
TARGET_NAME = MARS
/* CAMERA DATA ELEMENTS */
DETECTOR_TEMPERATURE = 19.5939
FOCAL_PLANE_TEMPERATURE = 8.5833
INST_CMPRS_NAME = "DISCRETE COSINE TRANSFORMATION (DCT)"
INST_CMPRS_RATIO = 12.6723
INST_CMPRS_QUALITY = 0
INST_CMPRS_QUANTZ_TBL_ID = 0
INSTRUMENT_TEMPERATURE = 12.4574
LENS_TEMPERATURE = 10.4184
MACROPIXEL_SIZE = 2
MISSING_FRAMES = 0
PIXEL_SUBSAMPLING_FLAG = N
SIGNAL_CHAIN_ID = 1
/* RADIOMETRIC DATA ELEMENTS */
BANDWIDTH = 178.0
CENTER_FILTER_WAVELENGTH = 679.0
RADIANCE_OFFSET = 3.54788
RADIANCE_SCALING_FACTOR = 0.0170754
REFLECTANCE_SCALING_FACTOR = 0.000452698
MEX:REFLECTANCE_OFFSET = 0.0940606
/* IMAGE OBJECT DEFINITIONS */
OBJECT = IMAGE
  INTERCHANGE_FORMAT = BINARY
  LINES = 42054
  LINE_SAMPLES = 6261
  SAMPLE_TYPE = UNSIGNED_INTEGER
  SAMPLE_BITS = 8
  BANDS = 1
  BAND_STORAGE_TYPE = BAND_SEQUENTIAL
  MAXIMUM = 255
  MEAN = 129.866
  MINIMUM = 1
  STANDARD_DEVIATION = 34.0011
END_OBJECT = IMAGE
/* MAP OBJECT DEFINITIONS */
OBJECT = IMAGE_MAP_PROJECTION
  ^DATA_SET_MAP_PROJECTION_CATALOG= "DSMAP.CAT"
  A_AXIS_RADIUS = 3396.0
  B_AXIS_RADIUS = 3396.0
  C_AXIS_RADIUS = 3396.0
  CENTER_LATITUDE = 0.0
  CENTER_LONGITUDE = 197.0
  COORDINATE_SYSTEM_NAME = PLANETOGRAPHIC
  COORDINATE_SYSTEM_TYPE = "BODY-FIXED ROTATING"
  EASTERNMOST_LONGITUDE = 199.139
  FIRST_STANDARD_PARALLEL = "N/A"
  LINE_FIRST_PIXEL = 1
  LINE_LAST_PIXEL = 42054
  LINE_PROJECTION_OFFSET = -118266.75
  MAP_PROJECTION_ROTATION = 0.0
  MAP_PROJECTION_TYPE = SINUSOIDAL
  MAP_RESOLUTION = 2370.85521546667
  MAP_SCALE = 0.025
  MAXIMUM_LATITUDE = -49.895
  MINIMUM_LATITUDE = -67.6048
  POSITIVE_LONGITUDE_DIRECTION = EAST
  REFERENCE_LATITUDE = "N/A"
  REFERENCE_LONGITUDE = "N/A"
  SAMPLE_FIRST_PIXEL = 1
  SAMPLE_LAST_PIXEL = 6261
  SAMPLE_PROJECTION_OFFSET = 3066.75
  SECOND_STANDARD_PARALLEL = "N/A"
  WESTERNMOST_LONGITUDE = 193.761
END_OBJECT = IMAGE_MAP_PROJECTION
/* The JPEG2000 image data file associated with this label. */
OBJECT = COMPRESSED_FILE
  FILE_NAME = "H2432_0001_S23.JP2"
  RECORD_TYPE = UNDEFINED
  FILE_RECORDS = UNK
  ENCODING_TYPE = "JP2"
  INTERCHANGE_FORMAT = BINARY
  UNCOMPRESSED_FILE_NAME = "H2432_0001_S23.IMG"
  REQUIRED_STORAGE_BYTES = "263331399"
  ^DESCRIPTION = "JP2INFO.TXT"
END_OBJECT = COMPRESSED_FILE
END
