PDS_VERSION_ID = PDS3
/* FILE DATA ELEMENTS */
RECORD_TYPE = STREAM
/* POINTERS TO DATA OBJECTS */
^COMPRESSED_FILE = "H2433_0000_GR3.JP2"
/* IDENTIFICATION DATA ELEMENTS */
DATA_SET_ID = "MEX-M-HRSC-5-REFDR-MAPPROJECTED-V3.0"
DATA_SET_NAME = "MARS EXPRESS HRSC MAP PROJECTED REFDR V3.0"
DETECTOR_ID = MEX_HRSC_GREEN
EVENT_TYPE = "MARS-REGIONAL-MAPPING-Im"
INSTRUMENT_HOST_ID = MEX
INSTRUMENT_HOST_NAME = "MARS EXPRESS"
INSTRUMENT_ID = HRSC
INSTRUMENT_NAME = "HIGH RESOLUTION STEREO CAMERA"
MISSION_NAME = "MARS EXPRESS"
MISSION_PHASE_NAME = ME_Phase_1
PROCESSING_LEVEL_ID = 3
PRODUCT_CREATION_TIME = 2016-04-06T10:39:59.000Z
PRODUCT_ID = "H2433_0000_GR3.JP2"
RELEASE_ID = 0030
REVISION_ID = 0000
/* QUALITY DATA ELEMENTS */
DATA_QUALITY_ID = 1
DATA_QUALITY_DESC = "Data calculated based on original SPICE kernels"
/* TIME DATA ELEMENTS */
SPACECRAFT_CLOCK_START_COUNT = "1/0081818028.57954"
SPACECRAFT_CLOCK_STOP_COUNT = "1/0081818311.01539"
START_TIME = 2005-12-04T23:14:16.804Z
STOP_TIME = 2005-12-04T23:18:05.684Z
/* ORBITAL DATA ELEMENTS */
ASCENDING_NODE_LONGITUDE = 177.18
MAXIMUM_RESOLUTION = 43
FOOTPRINT_POINT_LATITUDE = (-75.015,-75.0717,-75.1504,-75.1742, -74.8712,-74.5678,-74.2642,-73.9604, -73.6562,-73.1992,-72.8944,-72.5892, -72.2838,-71.9781,-71.5198,-71.2136, -70.9072,-70.6046,-70.3101,-70.0155, -69.7208,-69.426,-69.1312,-68.8364, -68.5407,-68.2454,-67.9501,-67.655, -67.3589,-66.916,-66.4726,-66.1768, -65.8812,-65.5754,-65.2672,-64.959, -64.651,-64.343,-64.0337,-63.7256, -63.2647,-62.956,-62.6479,-62.3401, -62.0335,-61.7254,-61.4178,-61.1105, -60.6494,-60.3243,-60.0048,-59.9183, -59.8983,-59.8483,-60.3255,-60.6462, -60.9512,-61.2581,-61.7184,-62.0248, -62.3315,-62.6379,-63.0979,-63.5578, -63.8643,-64.1711,-64.4774,-64.784, -65.2422,-65.5496,-65.8512,-66.1452, -66.4381,-66.733,-67.0267,-67.3206, -67.614,-67.9074,-68.2004,-68.4932, -68.9322,-69.2246,-69.517,-69.9552, -70.2473,-70.5393,-70.842,-71.1446, -71.4468,-71.9001,-72.2021,-72.5037, -72.8049,-73.1058,-73.4059,-73.7059, -74.0054,-74.3043,-74.7516,-75.015)
FOOTPRINT_POINT_LONGITUDE = (91.6569,92.5923,94.0234,94.799,95.0109 ,95.215,95.4099,95.5964,95.7758,96.0335 ,96.1959,96.3534,96.5052,96.6521, 96.8573,96.9916,97.1221,97.2473,97.3649 ,97.4778,97.5871,97.6933,97.7952, 97.8942,97.995,98.0895,98.1812,98.2685, 98.3595,98.4819,98.6023,98.681,98.7566, 98.8329,98.9085,98.9819,99.0525,99.1211 ,99.1955,99.2614,99.3506,99.4165, 99.4777,99.536,99.5872,99.6453,99.6999, 99.752,99.8293,99.883,99.9339,99.5058, 99.0292,97.9797,97.8854,97.8212,97.7536 ,97.6893,97.5894,97.5187,97.4467, 97.3718,97.2559,97.1349,97.0509,96.9653 ,96.8757,96.7846,96.6373,96.5425, 96.4463,96.3459,96.2393,96.1366,96.0272 ,95.9153,95.7988,95.6792,95.5551, 95.4269,95.227,95.0887,94.9465,94.7243, 94.5713,94.4135,94.2414,94.0614,93.8749 ,93.5847,93.3834,93.1743,92.9573, 92.7322,92.4976,92.2549,92.0022,91.7395 ,91.3243,91.6569)
ORBIT_NUMBER = 2433
ORBITAL_ECCENTRICITY = 0.572
ORBITAL_INCLINATION = 86.63
ORBITAL_SEMIMAJOR_AXIS = 8538.68
PERIAPSIS_ALTITUDE = 273.14
PERIAPSIS_ARGUMENT_ANGLE = 290.57
PERIAPSIS_TIME = 2005-12-04T23:15:50.000Z
SPACECRAFT_ORIENTATION = (0.0,-1.0,0.0)
^MEX_ORIENTATION_DESC = "MEX_ORIENTATION_DESC.TXT"
SPACECRAFT_POINTING_MODE = NADIR
^MEX_POINTING_DESC = "MEX_POINTING_DESC.TXT"
RIGHT_ASCENSION = -1e+32
DECLINATION = -1e+32
OFFSET_ANGLE = -1e+32
SPACECRAFT_SOLAR_DISTANCE = 2.238e+08
TARGET_NAME = MARS
/* CAMERA DATA ELEMENTS */
DETECTOR_TEMPERATURE = 18.1666
FOCAL_PLANE_TEMPERATURE = 8.3794
INST_CMPRS_NAME = "DISCRETE COSINE TRANSFORMATION (DCT)"
INST_CMPRS_RATIO = 19.2201
INST_CMPRS_QUALITY = 0
INST_CMPRS_QUANTZ_TBL_ID = 0
INSTRUMENT_TEMPERATURE = 11.0301
LENS_TEMPERATURE = 8.7872
MACROPIXEL_SIZE = 4
MISSING_FRAMES = 1
PIXEL_SUBSAMPLING_FLAG = N
SIGNAL_CHAIN_ID = 2
/* RADIOMETRIC DATA ELEMENTS */
BANDWIDTH = 88.0
CENTER_FILTER_WAVELENGTH = 538.0
RADIANCE_OFFSET = 1.18347
RADIANCE_SCALING_FACTOR = 0.00341255
REFLECTANCE_SCALING_FACTOR = 0.000147159
MEX:REFLECTANCE_OFFSET = 0.0510347
/* IMAGE OBJECT DEFINITIONS */
OBJECT = IMAGE
  INTERCHANGE_FORMAT = BINARY
  LINES = 18162
  LINE_SAMPLES = 3561
  SAMPLE_TYPE = UNSIGNED_INTEGER
  SAMPLE_BITS = 8
  BANDS = 1
  BAND_STORAGE_TYPE = BAND_SEQUENTIAL
  MAXIMUM = 255
  MEAN = 125.991
  MINIMUM = 1
  STANDARD_DEVIATION = 38.3463
END_OBJECT = IMAGE
/* MAP OBJECT DEFINITIONS */
OBJECT = IMAGE_MAP_PROJECTION
  ^DATA_SET_MAP_PROJECTION_CATALOG= "DSMAP.CAT"
  A_AXIS_RADIUS = 3396.0
  B_AXIS_RADIUS = 3396.0
  C_AXIS_RADIUS = 3396.0
  CENTER_LATITUDE = 0.0
  CENTER_LONGITUDE = 97.0
  COORDINATE_SYSTEM_NAME = PLANETOGRAPHIC
  COORDINATE_SYSTEM_TYPE = "BODY-FIXED ROTATING"
  EASTERNMOST_LONGITUDE = 99.93389999999999
  FIRST_STANDARD_PARALLEL = "N/A"
  LINE_FIRST_PIXEL = 1
  LINE_LAST_PIXEL = 18162
  LINE_PROJECTION_OFFSET = -70949.125
  MAP_PROJECTION_ROTATION = 0.0
  MAP_PROJECTION_TYPE = SINUSOIDAL
  MAP_RESOLUTION = 1185.42760773333
  MAP_SCALE = 0.05
  MAXIMUM_LATITUDE = -59.8483
  MINIMUM_LATITUDE = -75.1742
  POSITIVE_LONGITUDE_DIRECTION = EAST
  REFERENCE_LATITUDE = "N/A"
  REFERENCE_LONGITUDE = "N/A"
  SAMPLE_FIRST_PIXEL = 1
  SAMPLE_LAST_PIXEL = 3561
  SAMPLE_PROJECTION_OFFSET = 1795.125
  SECOND_STANDARD_PARALLEL = "N/A"
  WESTERNMOST_LONGITUDE = 91.32429999999999
END_OBJECT = IMAGE_MAP_PROJECTION
/* The JPEG2000 image data file associated with this label. */
OBJECT = COMPRESSED_FILE
  FILE_NAME = "H2433_0000_GR3.JP2"
  RECORD_TYPE = UNDEFINED
  FILE_RECORDS = UNK
  ENCODING_TYPE = "JP2"
  INTERCHANGE_FORMAT = BINARY
  UNCOMPRESSED_FILE_NAME = "H2433_0000_GR3.IMG"
  REQUIRED_STORAGE_BYTES = "64696248"
  ^DESCRIPTION = "JP2INFO.TXT"
END_OBJECT = COMPRESSED_FILE
END
