PDS_VERSION_ID = PDS3
/* FILE DATA ELEMENTS */
RECORD_TYPE = STREAM
/* POINTERS TO DATA OBJECTS */
^COMPRESSED_FILE = "H2433_0000_P23.JP2"
/* IDENTIFICATION DATA ELEMENTS */
DATA_SET_ID = "MEX-M-HRSC-5-REFDR-MAPPROJECTED-V3.0"
DATA_SET_NAME = "MARS EXPRESS HRSC MAP PROJECTED REFDR V3.0"
DETECTOR_ID = MEX_HRSC_P2
EVENT_TYPE = "MARS-REGIONAL-MAPPING-Im"
INSTRUMENT_HOST_ID = MEX
INSTRUMENT_HOST_NAME = "MARS EXPRESS"
INSTRUMENT_ID = HRSC
INSTRUMENT_NAME = "HIGH RESOLUTION STEREO CAMERA"
MISSION_NAME = "MARS EXPRESS"
MISSION_PHASE_NAME = ME_Phase_1
PROCESSING_LEVEL_ID = 3
PRODUCT_CREATION_TIME = 2016-04-06T10:39:59.000Z
PRODUCT_ID = "H2433_0000_P23.JP2"
RELEASE_ID = 0030
REVISION_ID = 0000
/* QUALITY DATA ELEMENTS */
DATA_QUALITY_ID = 1
DATA_QUALITY_DESC = "Data calculated based on original SPICE kernels"
/* TIME DATA ELEMENTS */
SPACECRAFT_CLOCK_START_COUNT = "1/0081818028.57954"
SPACECRAFT_CLOCK_STOP_COUNT = "1/0081818311.01539"
START_TIME = 2005-12-04T23:14:37.030Z
STOP_TIME = 2005-12-04T23:18:26.808Z
/* ORBITAL DATA ELEMENTS */
ASCENDING_NODE_LONGITUDE = 177.18
MAXIMUM_RESOLUTION = 44.3
FOOTPRINT_POINT_LATITUDE = (-74.984,-75.0384,-75.1513,-74.8445, -74.5377,-74.2302,-73.9219,-73.6135, -73.1514,-72.6877,-72.3794,-71.9198, -71.6208,-71.3229,-71.0267,-70.7302, -70.4354,-70.1391,-69.8422,-69.3977, -69.1001,-68.8033,-68.3616,-68.0657, -67.7681,-67.4715,-67.1835,-66.8709, -66.5634,-66.2568,-65.9496,-65.6423, -65.3361,-64.8767,-64.5702,-64.2638, -63.9653,-63.6596,-63.3455,-63.0474, -62.7439,-62.4395,-62.1332,-61.8199, -61.5051,-61.1889,-60.8736,-60.5589, -60.2447,-59.9313,-59.9054,-59.8857, -59.8622,-59.8399,-60.1535,-60.623, -61.0971,-61.4076,-61.722,-62.0317, -62.3341,-62.6375,-62.9407,-63.2441, -63.5481,-63.8524,-64.156,-64.461, -64.9175,-65.3796,-65.6782,-65.9837, -66.2906,-66.7473,-67.051,-67.4908, -67.784,-68.0781,-68.3724,-68.8137, -69.1081,-69.4022,-69.6959,-69.9899, -70.2826,-70.5756,-70.8696,-71.1646, -71.4599,-71.7542,-72.0559,-72.361, -72.6662,-72.9708,-73.4281,-73.8838, -74.1874,-74.642,-74.9446,-74.984)
FOOTPRINT_POINT_LONGITUDE = (92.7481,93.7431,94.8138,95.0289, 95.2355,95.4332,95.6224,95.8043,96.0648 ,96.3095,96.466,96.6882,96.8229,96.954, 97.0824,97.2062,97.3276,97.4437,97.5558 ,97.7179,97.8208,97.9211,98.069,98.1627 ,98.2522,98.3398,98.4321,98.5126, 98.5972,98.68,98.7598,98.8372,98.9133, 99.023,99.0934,99.1618,99.2345,99.2995, 99.3562,99.4234,99.4847,99.5436,99.5994 ,99.6546,99.7121,99.7669,99.8207, 99.8734,99.9249,99.9755,99.4703,99.001, 98.4761,97.9625,97.9015,97.8083,97.7063 ,97.6429,97.5732,97.5022,97.4317, 97.3581,97.2829,97.2055,97.1254,97.0426 ,96.9586,96.8704,96.735,96.5854,96.4964 ,96.3943,96.287,96.1258,96.0132,95.8442 ,95.727,95.605,95.4787,95.2817,95.1448, 95.004,94.8592,94.709,94.5561,94.3974, 94.2308,94.0561,93.8742,93.6878,93.4914 ,93.2852,93.0705,92.8479,92.4955, 92.1239,91.8629,91.451,91.1614,92.7481)
ORBIT_NUMBER = 2433
ORBITAL_ECCENTRICITY = 0.572
ORBITAL_INCLINATION = 86.63
ORBITAL_SEMIMAJOR_AXIS = 8538.68
PERIAPSIS_ALTITUDE = 273.14
PERIAPSIS_ARGUMENT_ANGLE = 290.57
PERIAPSIS_TIME = 2005-12-04T23:15:50.000Z
SPACECRAFT_ORIENTATION = (0.0,-1.0,0.0)
^MEX_ORIENTATION_DESC = "MEX_ORIENTATION_DESC.TXT"
SPACECRAFT_POINTING_MODE = NADIR
^MEX_POINTING_DESC = "MEX_POINTING_DESC.TXT"
RIGHT_ASCENSION = -1e+32
DECLINATION = -1e+32
OFFSET_ANGLE = -1e+32
SPACECRAFT_SOLAR_DISTANCE = 2.238e+08
TARGET_NAME = MARS
/* CAMERA DATA ELEMENTS */
DETECTOR_TEMPERATURE = 18.3705
FOCAL_PLANE_TEMPERATURE = 8.3794
INST_CMPRS_NAME = "DISCRETE COSINE TRANSFORMATION (DCT)"
INST_CMPRS_RATIO = 15.7452
INST_CMPRS_QUALITY = 0
INST_CMPRS_QUANTZ_TBL_ID = 0
INSTRUMENT_TEMPERATURE = 11.0301
LENS_TEMPERATURE = 8.7872
MACROPIXEL_SIZE = 4
MISSING_FRAMES = 0
PIXEL_SUBSAMPLING_FLAG = N
SIGNAL_CHAIN_ID = 3
/* RADIOMETRIC DATA ELEMENTS */
BANDWIDTH = 177.0
CENTER_FILTER_WAVELENGTH = 676.5
RADIANCE_OFFSET = 3.03429
RADIANCE_SCALING_FACTOR = 0.0139768
REFLECTANCE_SCALING_FACTOR = 0.000371178
MEX:REFLECTANCE_OFFSET = 0.0805808
/* IMAGE OBJECT DEFINITIONS */
OBJECT = IMAGE
  INTERCHANGE_FORMAT = BINARY
  LINES = 18162
  LINE_SAMPLES = 3561
  SAMPLE_TYPE = UNSIGNED_INTEGER
  SAMPLE_BITS = 8
  BANDS = 1
  BAND_STORAGE_TYPE = BAND_SEQUENTIAL
  MAXIMUM = 255
  MEAN = 119.73
  MINIMUM = 1
  STANDARD_DEVIATION = 43.0228
END_OBJECT = IMAGE
/* MAP OBJECT DEFINITIONS */
OBJECT = IMAGE_MAP_PROJECTION
  ^DATA_SET_MAP_PROJECTION_CATALOG= "DSMAP.CAT"
  A_AXIS_RADIUS = 3396.0
  B_AXIS_RADIUS = 3396.0
  C_AXIS_RADIUS = 3396.0
  CENTER_LATITUDE = 0.0
  CENTER_LONGITUDE = 97.0
  COORDINATE_SYSTEM_NAME = PLANETOGRAPHIC
  COORDINATE_SYSTEM_TYPE = "BODY-FIXED ROTATING"
  EASTERNMOST_LONGITUDE = 99.9755
  FIRST_STANDARD_PARALLEL = "N/A"
  LINE_FIRST_PIXEL = 1
  LINE_LAST_PIXEL = 18162
  LINE_PROJECTION_OFFSET = -70949.125
  MAP_PROJECTION_ROTATION = 0.0
  MAP_PROJECTION_TYPE = SINUSOIDAL
  MAP_RESOLUTION = 1185.42760773333
  MAP_SCALE = 0.05
  MAXIMUM_LATITUDE = -59.8399
  MINIMUM_LATITUDE = -75.15130000000001
  POSITIVE_LONGITUDE_DIRECTION = EAST
  REFERENCE_LATITUDE = "N/A"
  REFERENCE_LONGITUDE = "N/A"
  SAMPLE_FIRST_PIXEL = 1
  SAMPLE_LAST_PIXEL = 3561
  SAMPLE_PROJECTION_OFFSET = 1795.125
  SECOND_STANDARD_PARALLEL = "N/A"
  WESTERNMOST_LONGITUDE = 91.1614
END_OBJECT = IMAGE_MAP_PROJECTION
/* The JPEG2000 image data file associated with this label. */
OBJECT = COMPRESSED_FILE
  FILE_NAME = "H2433_0000_P23.JP2"
  RECORD_TYPE = UNDEFINED
  FILE_RECORDS = UNK
  ENCODING_TYPE = "JP2"
  INTERCHANGE_FORMAT = BINARY
  UNCOMPRESSED_FILE_NAME = "H2433_0000_P23.IMG"
  REQUIRED_STORAGE_BYTES = "64696248"
  ^DESCRIPTION = "JP2INFO.TXT"
END_OBJECT = COMPRESSED_FILE
END
