PDS_VERSION_ID = PDS3
/* FILE DATA ELEMENTS */
RECORD_TYPE = STREAM
/* POINTERS TO DATA OBJECTS */
^COMPRESSED_FILE = "H2434_0006_SR3.JP2"
/* IDENTIFICATION DATA ELEMENTS */
DATA_SET_ID = "MEX-M-HRSC-5-REFDR-MAPPROJECTED-V3.0"
DATA_SET_NAME = "MARS EXPRESS HRSC MAP PROJECTED REFDR V3.0"
DETECTOR_ID = MEX_HRSC_SRC
EVENT_TYPE = "MARS-REGIONAL-MAPPING-Gl-Eo-La"
INSTRUMENT_HOST_ID = MEX
INSTRUMENT_HOST_NAME = "MARS EXPRESS"
INSTRUMENT_ID = HRSC
INSTRUMENT_NAME = "HIGH RESOLUTION STEREO CAMERA"
MISSION_NAME = "MARS EXPRESS"
MISSION_PHASE_NAME = ME_Phase_1
PROCESSING_LEVEL_ID = 3
PRODUCT_CREATION_TIME = 2016-04-06T10:39:59.000Z
PRODUCT_ID = "H2434_0006_SR3.JP2"
RELEASE_ID = 0030
REVISION_ID = 0000
/* QUALITY DATA ELEMENTS */
DATA_QUALITY_ID = 1
DATA_QUALITY_DESC = "Data calculated based on original SPICE kernels"
/* TIME DATA ELEMENTS */
SPACECRAFT_CLOCK_START_COUNT = "1/0081842052.57939"
SPACECRAFT_CLOCK_STOP_COUNT = "1/0081842169.56375"
IMAGE_TIME = 2005-12-05T05:54:55.975Z
START_TIME = 2005-12-05T05:54:55.972Z
STOP_TIME = 2005-12-05T05:54:55.977Z
/* ORBITAL DATA ELEMENTS */
ASCENDING_NODE_LONGITUDE = 177.17
MAXIMUM_RESOLUTION = 2.93
FOOTPRINT_POINT_LATITUDE = (-83.9422,-83.9443,-83.9461,-83.9481, -83.9496,-83.9516,-83.9532,-83.9555, -83.9573,-83.9586,-83.96,-83.9618, -83.963,-83.9649,-83.966,-83.9678, -83.9689,-83.9702,-83.9719,-83.9733, -83.9744,-83.9757,-83.9774,-83.9785, -83.9801,-83.9823,-83.9823,-83.9812, -83.9801,-83.9791,-83.978,-83.9769, -83.9759,-83.9748,-83.9735,-83.9724, -83.9713,-83.9703,-83.9692,-83.9681, -83.967,-83.966,-83.9649,-83.9638, -83.9628,-83.9617,-83.9606,-83.9595, -83.9585,-83.9574,-83.9563,-83.9542, -83.9529,-83.9508,-83.9495,-83.9484, -83.9467,-83.9442,-83.9423,-83.9395, -83.9373,-83.9356,-83.9337,-83.9315, -83.9299,-83.9276,-83.9255,-83.9244, -83.9221,-83.9204,-83.9185,-83.917, -83.9149,-83.9146,-83.9154,-83.9165, -83.9175,-83.9186,-83.9197,-83.9207, -83.9218,-83.9229,-83.9239,-83.925, -83.926,-83.9271,-83.9282,-83.9292, -83.9303,-83.9314,-83.9324,-83.9335, -83.9345,-83.9356,-83.9366,-83.9377, -83.9388,-83.9398,-83.9409,-83.9422)
FOOTPRINT_POINT_LONGITUDE = (335.787,335.775,335.764,335.752, 335.743,335.731,335.721,335.708,335.697 ,335.689,335.681,335.67,335.663,335.652 ,335.644,335.634,335.627,335.619, 335.609,335.601,335.594,335.586,335.576 ,335.569,335.56,335.547,335.524,335.508 ,335.492,335.476,335.46,335.444,335.428 ,335.412,335.392,335.376,335.36,335.344 ,335.328,335.312,335.296,335.28,335.264 ,335.249,335.233,335.217,335.201, 335.185,335.169,335.153,335.137,335.147 ,335.155,335.168,335.175,335.182, 335.192,335.208,335.219,335.237,335.25, 335.26,335.272,335.285,335.295,335.309, 335.321,335.328,335.342,335.352,335.364 ,335.372,335.385,335.399,335.41,335.426 ,335.442,335.458,335.474,335.49,335.505 ,335.521,335.537,335.553,335.569, 335.585,335.601,335.616,335.632,335.648 ,335.664,335.68,335.696,335.712,335.728 ,335.744,335.76,335.776,335.792, 335.787)
ORBIT_NUMBER = 2434
ORBITAL_ECCENTRICITY = 0.572
ORBITAL_INCLINATION = 86.62
ORBITAL_SEMIMAJOR_AXIS = 8536.72
PERIAPSIS_ALTITUDE = 274.07
PERIAPSIS_ARGUMENT_ANGLE = 290.39
PERIAPSIS_TIME = 2005-12-05T05:58:45.000Z
SPACECRAFT_ORIENTATION = (0.0,-1.0,0.0)
^MEX_ORIENTATION_DESC = "MEX_ORIENTATION_DESC.TXT"
SPACECRAFT_POINTING_MODE = ACROSSTRACK
^MEX_POINTING_DESC = "MEX_POINTING_DESC.TXT"
RIGHT_ASCENSION = -1e+32
DECLINATION = -1e+32
OFFSET_ANGLE = -0.1
SPACECRAFT_SOLAR_DISTANCE = 2.23854e+08
TARGET_NAME = MARS
/* CAMERA DATA ELEMENTS */
BUFFER_MODE_ID = BUFFER_8
EXPOSURE_DURATION = 5.04
INST_CMPRS_NAME = NONE
INST_CMPRS_RATIO = 1.0
INST_CMPRS_QUALITY = -2147483648
INST_CMPRS_QUANTZ_TBL_ID = -2147483648
INSTRUMENT_TEMPERATURE = 5.34839
MISSING_FRAMES = 0
START_BIT = 0
/* RADIOMETRIC DATA ELEMENTS */
BANDWIDTH = 250.0
CENTER_FILTER_WAVELENGTH = 600.0
RADIANCE_OFFSET = -9.99e+31
RADIANCE_SCALING_FACTOR = -9.99e+31
REFLECTANCE_SCALING_FACTOR = -9.99e+31
MEX:REFLECTANCE_OFFSET = -9.99e+31
/* IMAGE OBJECT DEFINITIONS */
OBJECT = IMAGE
  INTERCHANGE_FORMAT = BINARY
  LINES = 1785
  LINE_SAMPLES = 1792
  SAMPLE_TYPE = UNSIGNED_INTEGER
  SAMPLE_BITS = 8
  BANDS = 1
  BAND_STORAGE_TYPE = BAND_SEQUENTIAL
  MAXIMUM = 250
  MEAN = 122.717
  MINIMUM = 7
  STANDARD_DEVIATION = 42.0428
END_OBJECT = IMAGE
/* MAP OBJECT DEFINITIONS */
OBJECT = IMAGE_MAP_PROJECTION
  ^DATA_SET_MAP_PROJECTION_CATALOG= "DSMAP.CAT"
  A_AXIS_RADIUS = 3396.19
  B_AXIS_RADIUS = 3396.19
  C_AXIS_RADIUS = 3396.19
  CENTER_LATITUDE = 0.0
  CENTER_LONGITUDE = 335.0
  COORDINATE_SYSTEM_NAME = PLANETOGRAPHIC
  COORDINATE_SYSTEM_TYPE = "BODY-FIXED ROTATING"
  EASTERNMOST_LONGITUDE = 335.792
  FIRST_STANDARD_PARALLEL = "N/A"
  LINE_FIRST_PIXEL = 1
  LINE_LAST_PIXEL = 1785
  LINE_PROJECTION_OFFSET = -1984174.0
  MAP_PROJECTION_ROTATION = 0.0
  MAP_PROJECTION_TYPE = SINUSOIDAL
  MAP_RESOLUTION = 23709.8786048756
  MAP_SCALE = 0.0025
  MAXIMUM_LATITUDE = -83.91459999999999
  MINIMUM_LATITUDE = -83.9823
  POSITIVE_LONGITUDE_DIRECTION = EAST
  REFERENCE_LATITUDE = "N/A"
  REFERENCE_LONGITUDE = "N/A"
  SAMPLE_FIRST_PIXEL = 1
  SAMPLE_LAST_PIXEL = 1792
  SAMPLE_PROJECTION_OFFSET = -398.0
  SECOND_STANDARD_PARALLEL = "N/A"
  WESTERNMOST_LONGITUDE = 335.137
END_OBJECT = IMAGE_MAP_PROJECTION
/* The JPEG2000 image data file associated with this label. */
OBJECT = COMPRESSED_FILE
  FILE_NAME = "H2434_0006_SR3.JP2"
  RECORD_TYPE = UNDEFINED
  FILE_RECORDS = UNK
  ENCODING_TYPE = "JP2"
  INTERCHANGE_FORMAT = BINARY
  UNCOMPRESSED_FILE_NAME = "H2434_0006_SR3.IMG"
  REQUIRED_STORAGE_BYTES = "3220224"
  ^DESCRIPTION = "JP2INFO.TXT"
END_OBJECT = COMPRESSED_FILE
END
