PDS_VERSION_ID = PDS3
/* FILE DATA ELEMENTS */
RECORD_TYPE = STREAM
/* POINTERS TO DATA OBJECTS */
^COMPRESSED_FILE = "H2434_0008_SR3.JP2"
/* IDENTIFICATION DATA ELEMENTS */
DATA_SET_ID = "MEX-M-HRSC-5-REFDR-MAPPROJECTED-V3.0"
DATA_SET_NAME = "MARS EXPRESS HRSC MAP PROJECTED REFDR V3.0"
DETECTOR_ID = MEX_HRSC_SRC
EVENT_TYPE = "MARS-REGIONAL-MAPPING-Gl-Eo-La"
INSTRUMENT_HOST_ID = MEX
INSTRUMENT_HOST_NAME = "MARS EXPRESS"
INSTRUMENT_ID = HRSC
INSTRUMENT_NAME = "HIGH RESOLUTION STEREO CAMERA"
MISSION_NAME = "MARS EXPRESS"
MISSION_PHASE_NAME = ME_Phase_1
PROCESSING_LEVEL_ID = 3
PRODUCT_CREATION_TIME = 2016-04-06T10:39:59.000Z
PRODUCT_ID = "H2434_0008_SR3.JP2"
RELEASE_ID = 0030
REVISION_ID = 0000
/* QUALITY DATA ELEMENTS */
DATA_QUALITY_ID = 1
DATA_QUALITY_DESC = "Data calculated based on original SPICE kernels"
/* TIME DATA ELEMENTS */
SPACECRAFT_CLOCK_START_COUNT = "1/0081842052.57939"
SPACECRAFT_CLOCK_STOP_COUNT = "1/0081842169.56375"
IMAGE_TIME = 2005-12-05T05:54:57.065Z
START_TIME = 2005-12-05T05:54:57.062Z
STOP_TIME = 2005-12-05T05:54:57.067Z
/* ORBITAL DATA ELEMENTS */
ASCENDING_NODE_LONGITUDE = 177.17
MAXIMUM_RESOLUTION = 2.926
FOOTPRINT_POINT_LATITUDE = (-83.8809,-83.8824,-83.8844,-83.8866, -83.8881,-83.8894,-83.8917,-83.8933, -83.8949,-83.8962,-83.8985,-83.9001, -83.9024,-83.9037,-83.9055,-83.9071, -83.9093,-83.9111,-83.9123,-83.9151, -83.9169,-83.9188,-83.9202,-83.9222, -83.9225,-83.9214,-83.9203,-83.9193, -83.9182,-83.9172,-83.9161,-83.9151, -83.914,-83.913,-83.9117,-83.9106, -83.9095,-83.9085,-83.9074,-83.9064, -83.9053,-83.9042,-83.9032,-83.9021, -83.9011,-83.9,-83.8989,-83.8979, -83.8968,-83.8955,-83.8943,-83.8925, -83.8914,-83.8897,-83.8883,-83.8864, -83.8847,-83.8825,-83.8802,-83.8786, -83.8773,-83.875,-83.8734,-83.8716, -83.8693,-83.8678,-83.8666,-83.8652, -83.8637,-83.8625,-83.8614,-83.8596, -83.8571,-83.8551,-83.8539,-83.855, -83.856,-83.8571,-83.8581,-83.8592, -83.8602,-83.8613,-83.8624,-83.8634, -83.8644,-83.8655,-83.8666,-83.8676, -83.8687,-83.8697,-83.8708,-83.8718, -83.8728,-83.8739,-83.8749,-83.8763, -83.8773,-83.8783,-83.8794,-83.8809)
FOOTPRINT_POINT_LONGITUDE = (336.147,336.139,336.127,336.114, 336.106,336.098,336.084,336.075,336.066 ,336.058,336.045,336.035,336.022, 336.014,336.004,335.995,335.981,335.971 ,335.964,335.948,335.937,335.925, 335.917,335.906,335.893,335.877,335.861 ,335.845,335.829,335.813,335.797, 335.781,335.766,335.75,335.73,335.714, 335.698,335.682,335.667,335.651,335.635 ,335.619,335.603,335.588,335.572, 335.556,335.54,335.525,335.509,335.502, 335.509,335.52,335.527,335.537,335.545, 335.557,335.567,335.58,335.593,335.602, 335.61,335.624,335.633,335.644,335.658, 335.667,335.674,335.682,335.691,335.698 ,335.704,335.715,335.73,335.741,335.749 ,335.765,335.78,335.796,335.812,335.827 ,335.843,335.859,335.875,335.89,335.906 ,335.922,335.938,335.953,335.969, 335.985,336.001,336.016,336.032,336.048 ,336.064,336.084,336.099,336.115, 336.131,336.147)
ORBIT_NUMBER = 2434
ORBITAL_ECCENTRICITY = 0.572
ORBITAL_INCLINATION = 86.62
ORBITAL_SEMIMAJOR_AXIS = 8536.72
PERIAPSIS_ALTITUDE = 274.07
PERIAPSIS_ARGUMENT_ANGLE = 290.39
PERIAPSIS_TIME = 2005-12-05T05:58:45.000Z
SPACECRAFT_ORIENTATION = (0.0,-1.0,0.0)
^MEX_ORIENTATION_DESC = "MEX_ORIENTATION_DESC.TXT"
SPACECRAFT_POINTING_MODE = ACROSSTRACK
^MEX_POINTING_DESC = "MEX_POINTING_DESC.TXT"
RIGHT_ASCENSION = -1e+32
DECLINATION = -1e+32
OFFSET_ANGLE = -0.1
SPACECRAFT_SOLAR_DISTANCE = 2.23854e+08
TARGET_NAME = MARS
/* CAMERA DATA ELEMENTS */
BUFFER_MODE_ID = BUFFER_8
EXPOSURE_DURATION = 5.04
INST_CMPRS_NAME = NONE
INST_CMPRS_RATIO = 1.0
INST_CMPRS_QUALITY = -2147483648
INST_CMPRS_QUANTZ_TBL_ID = -2147483648
INSTRUMENT_TEMPERATURE = 5.4516
MISSING_FRAMES = 0
START_BIT = 0
/* RADIOMETRIC DATA ELEMENTS */
BANDWIDTH = 250.0
CENTER_FILTER_WAVELENGTH = 600.0
RADIANCE_OFFSET = -9.99e+31
RADIANCE_SCALING_FACTOR = -9.99e+31
REFLECTANCE_SCALING_FACTOR = -9.99e+31
MEX:REFLECTANCE_OFFSET = -9.99e+31
/* IMAGE OBJECT DEFINITIONS */
OBJECT = IMAGE
  INTERCHANGE_FORMAT = BINARY
  LINES = 1780
  LINE_SAMPLES = 1782
  SAMPLE_TYPE = UNSIGNED_INTEGER
  SAMPLE_BITS = 8
  BANDS = 1
  BAND_STORAGE_TYPE = BAND_SEQUENTIAL
  MAXIMUM = 247
  MEAN = 112.279
  MINIMUM = 2
  STANDARD_DEVIATION = 26.0568
END_OBJECT = IMAGE
/* MAP OBJECT DEFINITIONS */
OBJECT = IMAGE_MAP_PROJECTION
  ^DATA_SET_MAP_PROJECTION_CATALOG= "DSMAP.CAT"
  A_AXIS_RADIUS = 3396.19
  B_AXIS_RADIUS = 3396.19
  C_AXIS_RADIUS = 3396.19
  CENTER_LATITUDE = 0.0
  CENTER_LONGITUDE = 336.0
  COORDINATE_SYSTEM_NAME = PLANETOGRAPHIC
  COORDINATE_SYSTEM_TYPE = "BODY-FIXED ROTATING"
  EASTERNMOST_LONGITUDE = 336.147
  FIRST_STANDARD_PARALLEL = "N/A"
  LINE_FIRST_PIXEL = 1
  LINE_LAST_PIXEL = 1780
  LINE_PROJECTION_OFFSET = -1982756.0
  MAP_PROJECTION_ROTATION = 0.0
  MAP_PROJECTION_TYPE = SINUSOIDAL
  MAP_RESOLUTION = 23709.8786048756
  MAP_SCALE = 0.0025
  MAXIMUM_LATITUDE = -83.8539
  MINIMUM_LATITUDE = -83.9225
  POSITIVE_LONGITUDE_DIRECTION = EAST
  REFERENCE_LATITUDE = "N/A"
  REFERENCE_LONGITUDE = "N/A"
  SAMPLE_FIRST_PIXEL = 1
  SAMPLE_LAST_PIXEL = 1782
  SAMPLE_PROJECTION_OFFSET = 1192.0
  SECOND_STANDARD_PARALLEL = "N/A"
  WESTERNMOST_LONGITUDE = 335.502
END_OBJECT = IMAGE_MAP_PROJECTION
/* The JPEG2000 image data file associated with this label. */
OBJECT = COMPRESSED_FILE
  FILE_NAME = "H2434_0008_SR3.JP2"
  RECORD_TYPE = UNDEFINED
  FILE_RECORDS = UNK
  ENCODING_TYPE = "JP2"
  INTERCHANGE_FORMAT = BINARY
  UNCOMPRESSED_FILE_NAME = "H2434_0008_SR3.IMG"
  REQUIRED_STORAGE_BYTES = "3193344"
  ^DESCRIPTION = "JP2INFO.TXT"
END_OBJECT = COMPRESSED_FILE
END
