PDS_VERSION_ID = PDS3
/* FILE DATA ELEMENTS */
RECORD_TYPE = STREAM
/* POINTERS TO DATA OBJECTS */
^COMPRESSED_FILE = "H2434_0009_BL3.JP2"
/* IDENTIFICATION DATA ELEMENTS */
DATA_SET_ID = "MEX-M-HRSC-5-REFDR-MAPPROJECTED-V3.0"
DATA_SET_NAME = "MARS EXPRESS HRSC MAP PROJECTED REFDR V3.0"
DETECTOR_ID = MEX_HRSC_BLUE
EVENT_TYPE = "MARS-REGIONAL-MAPPING-Im-Lc-Pf"
INSTRUMENT_HOST_ID = MEX
INSTRUMENT_HOST_NAME = "MARS EXPRESS"
INSTRUMENT_ID = HRSC
INSTRUMENT_NAME = "HIGH RESOLUTION STEREO CAMERA"
MISSION_NAME = "MARS EXPRESS"
MISSION_PHASE_NAME = ME_Phase_1
PROCESSING_LEVEL_ID = 3
PRODUCT_CREATION_TIME = 2016-04-06T10:39:59.000Z
PRODUCT_ID = "H2434_0009_BL3.JP2"
RELEASE_ID = 0030
REVISION_ID = 0000
/* QUALITY DATA ELEMENTS */
DATA_QUALITY_ID = 2
DATA_QUALITY_DESC = "Data calculated based on photogrammetrically improved orbit and attitude data"
/* TIME DATA ELEMENTS */
SPACECRAFT_CLOCK_START_COUNT = "1/0081842300.57949"
SPACECRAFT_CLOCK_STOP_COUNT = "1/0081842685.31178"
START_TIME = 2005-12-05T05:58:55.794Z
STOP_TIME = 2005-12-05T06:04:20.249Z
/* ORBITAL DATA ELEMENTS */
ASCENDING_NODE_LONGITUDE = 177.17
MAXIMUM_RESOLUTION = 38
FOOTPRINT_POINT_LATITUDE = (-68.8743,-68.9122,-68.9475,-68.421, -68.04,-67.4442,-67.0458,-66.6475, -66.0498,-65.6517,-65.0543,-64.6564, -64.2586,-63.8611,-63.464,-63.0669, -62.6701,-62.2734,-61.8772,-61.4726, -61.061,-60.6501,-60.2385,-59.6232, -59.2133,-58.8042,-58.3821,-57.958, -57.3228,-56.8999,-56.4756,-56.0383, -55.602,-55.1659,-54.7301,-54.0587, -53.6097,-53.1615,-52.7047,-52.2432, -51.5515,-51.0781,-50.8409,-50.6041, -50.3673,-49.8946,-49.4236,-48.9533, -48.4847,-47.7828,-47.7494,-47.7337, -47.7199,-47.703,-48.1692,-48.6366, -49.1059,-49.577,-50.2817,-50.9911, -51.4638,-51.9232,-52.3837,-53.0712, -53.5183,-53.966,-54.6367,-55.071, -55.5061,-55.9417,-56.5903,-57.0115, -57.4337,-57.856,-58.279,-58.7007, -59.0765,-59.5169,-59.9257,-60.3358, -60.7453,-61.1552,-61.764,-62.1587, -62.5537,-62.9489,-63.3442,-63.7396, -64.1352,-64.531,-64.9271,-65.521, -65.9172,-66.3133,-66.7094,-67.1055, -67.6992,-68.086,-68.4658,-68.8743)
FOOTPRINT_POINT_LONGITUDE = (357.758,358.465,359.725,360.111, 360.234,360.407,360.518,360.625,360.777 ,360.874,361.012,361.101,361.186, 361.269,361.35,361.427,361.502,361.575, 361.645,361.715,361.783,361.85,361.912, 362.005,362.064,362.123,362.181,362.238 ,362.319,362.371,362.42,362.471,362.521 ,362.569,362.614,362.683,362.728, 362.771,362.814,362.858,362.918,362.957 ,362.977,362.996,363.015,363.051, 363.089,363.124,363.159,363.208,362.838 ,362.254,361.812,361.312,361.285, 361.256,361.223,361.188,361.14,361.084, 361.045,361.005,360.963,360.896,360.851 ,360.804,360.729,360.678,360.624, 360.569,360.483,360.425,360.362,360.299 ,360.232,360.164,360.196,360.024,359.95 ,359.87,359.789,359.706,359.576,359.488 ,359.396,359.301,359.202,359.1,358.994, 358.883,358.767,358.586,358.458,358.326 ,358.189,358.045,357.82,357.665,357.507 ,357.758)
ORBIT_NUMBER = 2434
ORBITAL_ECCENTRICITY = 0.572
ORBITAL_INCLINATION = 86.62
ORBITAL_SEMIMAJOR_AXIS = 8536.72
PERIAPSIS_ALTITUDE = 274.07
PERIAPSIS_ARGUMENT_ANGLE = 290.39
PERIAPSIS_TIME = 2005-12-05T05:58:45.000Z
SPACECRAFT_ORIENTATION = (0.0,-1.0,0.0)
^MEX_ORIENTATION_DESC = "MEX_ORIENTATION_DESC.TXT"
SPACECRAFT_POINTING_MODE = ACROSSTRACK
^MEX_POINTING_DESC = "MEX_POINTING_DESC.TXT"
RIGHT_ASCENSION = -1e+32
DECLINATION = -1e+32
OFFSET_ANGLE = -0.1
SPACECRAFT_SOLAR_DISTANCE = 2.23854e+08
TARGET_NAME = MARS
/* CAMERA DATA ELEMENTS */
DETECTOR_TEMPERATURE = 18.9822
FOCAL_PLANE_TEMPERATURE = 8.5833
INST_CMPRS_NAME = "DISCRETE COSINE TRANSFORMATION (DCT)"
INST_CMPRS_RATIO = 7.5716
INST_CMPRS_QUALITY = 0
INST_CMPRS_QUANTZ_TBL_ID = 0
INSTRUMENT_TEMPERATURE = 12.0496
LENS_TEMPERATURE = 9.195
MACROPIXEL_SIZE = 4
MISSING_FRAMES = 0
PIXEL_SUBSAMPLING_FLAG = N
SIGNAL_CHAIN_ID = 2
/* RADIOMETRIC DATA ELEMENTS */
BANDWIDTH = 76.0
CENTER_FILTER_WAVELENGTH = 444.0
RADIANCE_OFFSET = 0.589746
RADIANCE_SCALING_FACTOR = 0.00185556
REFLECTANCE_SCALING_FACTOR = 9.55347e-05
MEX:REFLECTANCE_OFFSET = 0.0303634
/* IMAGE OBJECT DEFINITIONS */
OBJECT = IMAGE
  INTERCHANGE_FORMAT = BINARY
  LINES = 25265
  LINE_SAMPLES = 3317
  SAMPLE_TYPE = UNSIGNED_INTEGER
  SAMPLE_BITS = 8
  BANDS = 1
  BAND_STORAGE_TYPE = BAND_SEQUENTIAL
  MAXIMUM = 255
  MEAN = 116.903
  MINIMUM = 1
  STANDARD_DEVIATION = 41.0367
END_OBJECT = IMAGE
/* MAP OBJECT DEFINITIONS */
OBJECT = IMAGE_MAP_PROJECTION
  ^DATA_SET_MAP_PROJECTION_CATALOG= "DSMAP.CAT"
  A_AXIS_RADIUS = 3396.0
  B_AXIS_RADIUS = 3396.0
  C_AXIS_RADIUS = 3396.0
  CENTER_LATITUDE = 0.0
  CENTER_LONGITUDE = 1.0
  COORDINATE_SYSTEM_NAME = PLANETOGRAPHIC
  COORDINATE_SYSTEM_TYPE = "BODY-FIXED ROTATING"
  EASTERNMOST_LONGITUDE = 3.208
  FIRST_STANDARD_PARALLEL = "N/A"
  LINE_FIRST_PIXEL = 1
  LINE_LAST_PIXEL = 25265
  LINE_PROJECTION_OFFSET = -56542.125
  MAP_PROJECTION_ROTATION = 0.0
  MAP_PROJECTION_TYPE = SINUSOIDAL
  MAP_RESOLUTION = 1185.42760773333
  MAP_SCALE = 0.05
  MAXIMUM_LATITUDE = -47.703
  MINIMUM_LATITUDE = -68.94750000000001
  POSITIVE_LONGITUDE_DIRECTION = EAST
  REFERENCE_LATITUDE = "N/A"
  REFERENCE_LONGITUDE = "N/A"
  SAMPLE_FIRST_PIXEL = 1
  SAMPLE_LAST_PIXEL = 3317
  SAMPLE_PROJECTION_OFFSET = 1540.625
  SECOND_STANDARD_PARALLEL = "N/A"
  WESTERNMOST_LONGITUDE = -2.493
END_OBJECT = IMAGE_MAP_PROJECTION
/* The JPEG2000 image data file associated with this label. */
OBJECT = COMPRESSED_FILE
  FILE_NAME = "H2434_0009_BL3.JP2"
  RECORD_TYPE = UNDEFINED
  FILE_RECORDS = UNK
  ENCODING_TYPE = "JP2"
  INTERCHANGE_FORMAT = BINARY
  UNCOMPRESSED_FILE_NAME = "H2434_0009_BL3.IMG"
  REQUIRED_STORAGE_BYTES = "83827224"
  ^DESCRIPTION = "JP2INFO.TXT"
END_OBJECT = COMPRESSED_FILE
END
