PDS_VERSION_ID = PDS3
/* FILE DATA ELEMENTS */
RECORD_TYPE = STREAM
/* POINTERS TO DATA OBJECTS */
^COMPRESSED_FILE = "H2434_0010_IR3.JP2"
/* IDENTIFICATION DATA ELEMENTS */
DATA_SET_ID = "MEX-M-HRSC-5-REFDR-MAPPROJECTED-V3.0"
DATA_SET_NAME = "MARS EXPRESS HRSC MAP PROJECTED REFDR V3.0"
DETECTOR_ID = MEX_HRSC_IR
EVENT_TYPE = "MARS-REGIONAL-MAPPING-Im-Fl"
INSTRUMENT_HOST_ID = MEX
INSTRUMENT_HOST_NAME = "MARS EXPRESS"
INSTRUMENT_ID = HRSC
INSTRUMENT_NAME = "HIGH RESOLUTION STEREO CAMERA"
MISSION_NAME = "MARS EXPRESS"
MISSION_PHASE_NAME = ME_Phase_1
PROCESSING_LEVEL_ID = 3
PRODUCT_CREATION_TIME = 2016-04-06T10:39:59.000Z
PRODUCT_ID = "H2434_0010_IR3.JP2"
RELEASE_ID = 0030
REVISION_ID = 0000
/* QUALITY DATA ELEMENTS */
DATA_QUALITY_ID = 2
DATA_QUALITY_DESC = "Data calculated based on photogrammetrically improved orbit and attitude data"
/* TIME DATA ELEMENTS */
SPACECRAFT_CLOCK_START_COUNT = "1/0081843087.56192"
SPACECRAFT_CLOCK_STOP_COUNT = "1/0081843629.38875"
START_TIME = 2005-12-05T06:11:47.954Z
STOP_TIME = 2005-12-05T06:15:05.797Z
/* ORBITAL DATA ELEMENTS */
ASCENDING_NODE_LONGITUDE = 177.17
MAXIMUM_RESOLUTION = 128.8
FOOTPRINT_POINT_LATITUDE = (-17.702,-17.7021,-17.7007,-17.6985, -17.6935,-17.69,-17.6824,-17.6728, -17.3176,-17.0913,-16.8652,-16.6385, -16.4135,-16.1897,-15.965,-15.7407, -15.5171,-15.1819,-14.9589,-14.7365, -14.5142,-14.2925,-14.0713,-13.7408, -13.5205,-13.3009,-12.9709,-12.7529, -12.5337,-12.3153,-12.0981,-11.8798, -11.6637,-11.447,-11.1224,-10.9072, -10.6916,-10.3683,-10.1528,-9.93919, -9.72439,-9.40435,-9.19091,-8.97869, -8.76535,-8.34315,-7.9225,-7.39791, -6.97959,-6.73374,-6.75189,-6.76218, -6.77627,-6.78818,-6.79512,-6.8016, -6.80792,-6.81382,-6.82134,-6.82572, -7.23965,-7.55049,-8.07325,-8.38761, -8.70424,-9.01375,-9.43198,-9.85739, -10.0786,-10.5033,-10.8221,-11.0351, -11.2496,-11.4653,-11.7893,-12.0057, -12.2225,-12.4382,-12.6552,-12.8726, -13.0904,-13.3087,-13.528,-13.8584, -14.0773,-14.2971,-14.5175,-14.8491, -15.0701,-15.2923,-15.6256,-15.8482, -16.0711,-16.2954,-16.5189,-16.7393, -16.9664,-17.1956,-17.4201,-17.702)
FOOTPRINT_POINT_LONGITUDE = (1.37538,1.71678,2.13665,2.45178, 2.89821,3.13457,3.5551,3.9768,4.14987, 4.15275,4.15568,4.15893,4.1616,4.16395, 4.16675,4.16951,4.17209,4.17613,4.17877 ,4.18129,4.1839,4.1864,4.18878,4.19213, 4.19448,4.19666,4.20041,4.20229,4.20473 ,4.207,4.20895,4.21139,4.21317,4.21525, 4.21845,4.22026,4.22235,4.22566,4.22803 ,4.22979,4.23211,4.23502,4.23714, 4.23892,4.24124,4.2446,4.24787,4.25219, 4.25569,4.12538,3.65416,3.31852,2.88254 ,2.51376,2.24556,1.94365,1.6081,1.30629 ,0.903826,0.657333,0.68822,0.710917, 0.749326,0.771927,0.794841,0.814589, 0.842156,0.87143,0.88883,0.916411, 0.936606,0.9499,0.963534,0.977382, 0.997847,1.01134,1.02472,1.03746, 1.05048,1.06335,1.07614,1.08889,1.10176 ,1.12111,1.13321,1.14541,1.15756, 1.17571,1.18751,1.19946,1.21694,1.22843 ,1.23978,1.25137,1.26247,1.27217, 1.28403,1.29642,1.30685,1.37538)
ORBIT_NUMBER = 2434
ORBITAL_ECCENTRICITY = 0.572
ORBITAL_INCLINATION = 86.62
ORBITAL_SEMIMAJOR_AXIS = 8536.72
PERIAPSIS_ALTITUDE = 274.07
PERIAPSIS_ARGUMENT_ANGLE = 290.39
PERIAPSIS_TIME = 2005-12-05T05:58:45.000Z
SPACECRAFT_ORIENTATION = (0.0,-1.0,0.0)
^MEX_ORIENTATION_DESC = "MEX_ORIENTATION_DESC.TXT"
SPACECRAFT_POINTING_MODE = ACROSSTRACK
^MEX_POINTING_DESC = "MEX_POINTING_DESC.TXT"
RIGHT_ASCENSION = -1e+32
DECLINATION = -1e+32
OFFSET_ANGLE = -0.1
SPACECRAFT_SOLAR_DISTANCE = 2.23854e+08
TARGET_NAME = MARS
/* CAMERA DATA ELEMENTS */
DETECTOR_TEMPERATURE = 20.4095
FOCAL_PLANE_TEMPERATURE = 9.195
INST_CMPRS_NAME = "DISCRETE COSINE TRANSFORMATION (DCT)"
INST_CMPRS_RATIO = 19.2276
INST_CMPRS_QUALITY = 0
INST_CMPRS_QUANTZ_TBL_ID = 0
INSTRUMENT_TEMPERATURE = 14.9042
LENS_TEMPERATURE = 9.6028
MACROPIXEL_SIZE = 4
MISSING_FRAMES = 0
PIXEL_SUBSAMPLING_FLAG = N
SIGNAL_CHAIN_ID = 2
/* RADIOMETRIC DATA ELEMENTS */
BANDWIDTH = 81.0
CENTER_FILTER_WAVELENGTH = 955.5
RADIANCE_OFFSET = 1.21264
RADIANCE_SCALING_FACTOR = 0.00375834
REFLECTANCE_SCALING_FACTOR = 0.000406312
MEX:REFLECTANCE_OFFSET = 0.131098
/* IMAGE OBJECT DEFINITIONS */
OBJECT = IMAGE
  INTERCHANGE_FORMAT = BINARY
  LINES = 6509
  LINE_SAMPLES = 2461
  SAMPLE_TYPE = UNSIGNED_INTEGER
  SAMPLE_BITS = 8
  BANDS = 1
  BAND_STORAGE_TYPE = BAND_SEQUENTIAL
  MAXIMUM = 255
  MEAN = 104.605
  MINIMUM = 1
  STANDARD_DEVIATION = 36.7187
END_OBJECT = IMAGE
/* MAP OBJECT DEFINITIONS */
OBJECT = IMAGE_MAP_PROJECTION
  ^DATA_SET_MAP_PROJECTION_CATALOG= "DSMAP.CAT"
  A_AXIS_RADIUS = 3396.0
  B_AXIS_RADIUS = 3396.0
  C_AXIS_RADIUS = 3396.0
  CENTER_LATITUDE = 0.0
  CENTER_LONGITUDE = 3.0
  COORDINATE_SYSTEM_NAME = PLANETOGRAPHIC
  COORDINATE_SYSTEM_TYPE = "BODY-FIXED ROTATING"
  EASTERNMOST_LONGITUDE = 4.25569
  FIRST_STANDARD_PARALLEL = "N/A"
  LINE_FIRST_PIXEL = 1
  LINE_LAST_PIXEL = 6509
  LINE_PROJECTION_OFFSET = -4001.375
  MAP_PROJECTION_ROTATION = 0.0
  MAP_PROJECTION_TYPE = SINUSOIDAL
  MAP_RESOLUTION = 592.713803866667
  MAP_SCALE = 0.1
  MAXIMUM_LATITUDE = -6.73374
  MINIMUM_LATITUDE = -17.7021
  POSITIVE_LONGITUDE_DIRECTION = EAST
  REFERENCE_LATITUDE = "N/A"
  REFERENCE_LONGITUDE = "N/A"
  SAMPLE_FIRST_PIXEL = 1
  SAMPLE_LAST_PIXEL = 2461
  SAMPLE_PROJECTION_OFFSET = 1551.625
  SECOND_STANDARD_PARALLEL = "N/A"
  WESTERNMOST_LONGITUDE = 0.657333
END_OBJECT = IMAGE_MAP_PROJECTION
/* The JPEG2000 image data file associated with this label. */
OBJECT = COMPRESSED_FILE
  FILE_NAME = "H2434_0010_IR3.JP2"
  RECORD_TYPE = UNDEFINED
  FILE_RECORDS = UNK
  ENCODING_TYPE = "JP2"
  INTERCHANGE_FORMAT = BINARY
  UNCOMPRESSED_FILE_NAME = "H2434_0010_IR3.IMG"
  REQUIRED_STORAGE_BYTES = "16038337"
  ^DESCRIPTION = "JP2INFO.TXT"
END_OBJECT = COMPRESSED_FILE
END
